Workbook

Sheet Descript.
A1: BESCHREIBUNG - AKTUALISIEREN
A2: R-"SELEKTION" | B2: Letzte Jahreszahl hinzufügen
B3: Kontrolle ob neues Land dazugekommen ist
A5: R -"enter-data" | B5: Eingabe der Ergebnisse vom letzten Wettkampf
A6: ausgeblendet | B6: Achtung bei EX-Aequo Wetungen (Mehrere gleiche Jahre anlegen)
B7: Formeln Spalte A+B Kopieren
A9: R -"Parameter" | B9: Keine Aktion erforderlich
A10: ausgeblendet
A12: R-"calc.rank" | B12: Daten neu sortieren A-P Reihenfolge:
A13: ausgeblendet | B13: Reihenfolge: E-H-K nach größe absteigend
B14: Kopieren der Daten A-C nach Reg.Blatt "R" in Spalten B-D (wegen Flaggen)
A16: R-"calc.year" | B16: Wird automatisch berechnet
A17: R-"calc.nat"
A18: R-"calc.disziplin"
A19: ausgeblendet
A21: R-"O" | B21: Kontrolle top 5 Nationen (Flaggen)
A23: R-"R" | B23: Einfügen der Daten aus R-"calc.rank" A-C nach B-D
B24: Ex-aequo Ränge manuell korrigieren.
A26: R-"Y" | B26: Wird automatisch berechnet
A27: R-"N"
A28: R-"D"

Sheet SELEKTION
C1: Selection of the different medal tables | K1: YEAR | L1: Host Nation | M1: Location | P1: All nations that have already participated in a CISM WMPC since 1964. | X1: Short code | Y1: Discipline
C2: Overview of all WMPC since 1964: | K2: 1964 | L2: FRA | M2: Pau | P2: IOC | Q2: Country | S2: IOC | T2: Country | X2: MIA | Y2: Male Individual Accuracy
C3: click here | K3: 1965 | L3: BRA | M3: Rio de Janero | P3: ALG | R3: Algeria | S3: LAT | U3: Latvia | X3: MIS | Y3: Male Individual Style
K4: 1968 | L4: ESP | M4: Reus - Tarragona | P4: ANG | R4: Angola | S4: LBA | U4: Libya | X4: MIO | Y4: Male Individual Overall
C5: Overview ranking of all nations | K5: 1970 | L5: GER | M5: Bruchsal | P5: ARG | R5: Argentina | S5: LTU | U5: Lithuania | X5: MTA | Y5: Male Team Accuracy
C6: click here | K6: 1971 | L6: POR | M6: Sintra | P6: AUS | R6: Australia | S6: MSA | U6: Malaysia | X6: MFS | Y6: Male Formation Skydive
K7: 1973 | L7: BEL | M7: Schaffen | P7: AUT | R7: Austria | S7: MLI | U7: Mali | X7: MTO | Y7: Male Team Overall
K8: 1974 | L8: USA | M8: Fort Bragg | P8: BRN | R8: Bahrain | S8: MAR | U8: Morocco | X8: MJA | Y8: Male Junior Accuracy
C9: Detail view of a year: | K9: 1975 | L9: FRA | M9: Pau | P9: BLR | R9: Belarus | S9: NED | U9: Netherlands | X9: MJS | Y9: Male Junior Style
C10: enter year in the grey field | F10: click here | K10: 1976 | L10: ESP | M10: San Javier | P10: BEL | R10: Belgium | S10: NOR | U10: Norway | X10: MJO | Y10: Male Junior Overall
E11: and | K11: 1977 | L11: AUT | M11: Wiener Neustadt | P11: BRA | R11: Brasil | S11: OMA | U11: Oman | X11: FIA | Y11: Female Individual Accuracy
C12: Host country: | D12: =IF(ISERROR(VLOOKUP(D10,Parameter!F3:I74,4,FALSE)),"no correct Year selected !",VLOOKUP(D10,Parameter!F3:I74,4,FALSE)) -> no correct Year selected ! | K12: 1979 | L12: SWE | M12: Karlsborg | P12: BUL | R12: Bulgaria | S12: PAK | U12: Pakistan | X12: FIS | Y12: Female Individual Style
K13: 1980 | L13: CHI | M13: Santiago | P13: BUR | R13: Burkina Faso | S13: PLE | U13: Palestine | X13: FIO | Y13: Female Individual Overall
K14: 1981 | L14: UAE | M14: Dubai | P14: BDI | R14: Burundi | S14: PAN | U14: Panama | X14: FTA | Y14: Female Team Accuracy
C15: Detail view of a nation | K15: 1982 | L15: FRA | M15: Pau | P15: CAN | R15: Canada | S15: PAR | U15: Paraguay | X15: FFS | Y15: Female Formation Skydive
C16: enter IOC Code in the grey field | F16: click here | K16: 1983 | L16: SUI | M16: Frauenfeld | P16: CHI | R16: Chile | S16: PER | U16: Peru | X16: FTO | Y16: Female Team Overall
E17: and | K17: 1984 | L17: GER | M17: Altenstadt | P17: CHN | R17: China | S17: PHI | U17: Philippines | X17: FJA | Y17: Female Junior Accuracy
C18: Nation: | D18: =IF(ISERROR(VLOOKUP(D16,Parameter!O3:P89,2,FALSE)),"no correct Nation selected !",VLOOKUP(D16,Parameter!O3:P89,2,FALSE)) -> no correct Nation selected ! | K18: 1985 | L18: UAE | M18: Abu Dhabi | P18: COL | R18: Colombia | S18: POL | U18: Poland | X18: FJS | Y18: Female Junior Style
K19: 1986 | L19: MAR | M19: Rabat | P19: COD | R19: Congo D.R. | S19: POR | U19: Portugal | X19: FJO | Y19: Female Junior Overall
K20: 1988 | L20: BRA | M20: Campinas | P20: CRO | R20: Croatia | S20: QAT | U20: Qatar
C21: Detail view of a discipline | K21: 1990 | L21: GER | M21: Altenstadt | P21: CYP | R21: Cyprus | S21: ROU | U21: Romania
C22: enter Discipline short code in the grey field | E22: and | F22: click here | K22: 1991 | L22: ITA | M22: Pisa | P22: CZE | R22: Czech Rep | S22: RUS | U22: Russia
K23: 1992 | L23: ESP | M23: Granada | P23: PRK | R23: D.P.R. of Korea | S23: KSA | U23: Saudi Arabia
C24: Disziplin: | D24: =IF(ISERROR(VLOOKUP(D22,Parameter!L3:M21,2,FALSE)),"no correct Disziplin selected !",VLOOKUP(D22,Parameter!L3:M21,2,FALSE)) -> no correct Disziplin selected ! | K24: 1993 | L24: TUR | M24: Kayseri | P24: DEN | R24: Denmark | S24: SEN | U24: Senegal
K25: 1994 | L25: AUT | M25: Perg | P25: ECU | R25: Ecuador | S25: SRB | U25: Serbia
K26: 1995 | L26: ITA | M26: Rom | P26: EGY | R26: Egypt | S26: SVK | U26: Slovakia
K27: 1996 | L27: SLO | M27: Cerklje | P27: EST | R27: Estonia | S27: SLO | U27: Slovenia
K28: 1999 | L28: CRO | M28: Zagreb | P28: FIN | R28: Finnland | S28: RSA | U28: South Africa
K29: 2000 | L29: SVK | M29: Lucenec | P29: FRA | R29: France | S29: ESP | U29: Spain
K30: 2001 | L30: UAE | M30: Abu Dhabi | P30: GAB | R30: Gabon | S30: SRI | U30: Sri Lanka
K31: 2002 | L31: ALG | M31: Tafraoui / Oran | P31: GER | R31: Germany | S31: SWE | U31: Sweden
K32: 2004 | L32: AUT | M32: Krems | P32: GBR | R32: Great Britain | S32: SUI | U32: Switzerland
K33: 2006 | L33: RUS | M33: Ryazan | P33: GRE | R33: Greece | S33: SYR | U33: Syria
K34: 2007 | L34: IND | M34: Hyderabad | P34: HUN | R34: Hungary | S34: THA | U34: Thailand
K35: 2009 | L35: SVK | M35: Lucenec | P35: IND | R35: India | S35: TOG | U35: Togo
K36: 2010 | L36: SUI | M36: Bouchs | P36: INA | R36: Indonesia | S36: TUN | U36: Tunisia
... K46: 2022 | L46: AUT | M46: Güssing | P46: KUW | R46: Kuwait | S46: ZIM | U46: Zimbabwe

Sheet enter-data
G1: MIAG | H1: MIAS | I1: MIAB | J1: MISG | K1: MISS | L1: MISB | M1: MIOG | N1: MIOS | O1: MIOB | P1: MTAG | Q1: MTAS | R1: MTAB | S1: MFSG | T1: MFSS | U1: MFSB | V1: MTOG | W1: MTOS | X1: MTOB | Y1: MJAG | Z1: MJAS | AA1: MJAB | AB1: MJSG | AC1: MJSS | AD1: MJSB | AE1: MJOG | AF1: MJOS | AG1: MJOB | AI1: FIAG | AJ1: FIAS | AK1: FIAB | AL1: FISG | AM1: FISS | AN1: FISB | AO1: FIOG | AP1: FIOS | AQ1: FIOB | AR1: FTAG | AS1: FTAS | AT1: FTAB | AU1: FFSG | AV1: FFSS | AW1: FFSB | AX1: FTOG | AY1: FTOS | AZ1: FTOB | BA1: FJAG | BB1: FJAS | BC1: FJAB | BD1: FJSG | BE1: FJSS | BF1: FJSB | BG1: FJOG | BH1: FJOS | BI1: FJOB | BK1: MG | BL1: MS | BM1: MB | BN1: MT | BP1: FG | BQ1: FS | BR1: FB | BS1: FT | BU1: TG | BV1: TS | BW1: TB | BX1: TT
C2: TOTAL | F2: =SUM(G2:BI2) -> 1442 | G2: =COUNTIF(G$8:G$94,"> ") -> 56 | H2: =COUNTIF(H$8:H$94,"> ") -> 41 | I2: =COUNTIF(I$8:I$94,"> ") -> 51 | J2: =COUNTIF(J$8:J$94,"> ") -> 43 | K2: =COUNTIF(K$8:K$94,"> ") -> 43 | L2: =COUNTIF(L$8:L$94,"> ") -> 43 | M2: =COUNTIF(M$8:M$94,"> ") -> 43 | N2: =COUNTIF(N$8:N$94,"> ") -> 43 | ... AG2: =COUNTIF(AG$8:AG$94,"> ") -> 8 | AI2: =COUNTIF(AI$8:AI$94,"> ") -> 31 | AJ2: =COUNTIF(AJ$8:AJ$94,"> ") -> 31 | AK2: =COUNTIF(AK$8:AK$94,"> ") -> 31 | AL2: =COUNTIF(AL$8:AL$94,"> ") -> 29 | AM2: =COUNTIF(AM$8:AM$94,"> ") -> 29 | AN2: =COUNTIF(AN$8:AN$94,"> ") -> 29 | AO2: =COUNTIF(AO$8:AO$94,"> ") -> 29 | AP2: =COUNTIF(AP$8:AP$94,"> ") -> 29 | ... BI2: =COUNTIF(BI$8:BI$94,"> ") -> 7 | BK2: =G2+J2+M2+P2+S2+V2+Y2+AB2+AE2 -> 292 | BL2: =H2+K2+N2+Q2+T2+W2+Z2+AC2+AF2 -> 276 | BM2: =I2+L2+O2+R2+U2+X2+AA2+AD2+AG2 -> 286 | BN2: =SUM(BK2:BM2) -> 854 | BP2: =AI2+AL2+AO2+AR2+AU2+AX2+BA2+BD2+BG2 -> 196 | BQ2: =AJ2+AM2+AP2+AS2+AV2+AY2+BB2+BE2+BH2 -> 197 | BR2: =AK2+AN2+AQ2+AT2+AW2+AZ2+BC2+BF2+BI2 -> 195 | BS2: =SUM(BP2:BR2) -> 588 | BU2: =BK2+BP2 -> 488 | BV2: =BL2+BQ2 -> 473 | BW2: =BM2+BR2 -> 481 | BX2: =BN2+BS2 -> 1442
G3: MALE | AI3: FEMALE
G4: Individual Accuracy | J4: Individual Style | M4: Individual Overall | P4: Team Accuracy | S4: Formation Skydive | V4: Team Nation Overall | Y4: Junior Accuracy | AB4: Junior Style | AE4: Junior Overall | AI4: Individual Accuracy | AL4: Individual Style | AO4: Individual Overall | AR4: Team Accuracy | AU4: Formation Skydive | AX4: Team Nation Overall | BA4: Junior Accuracy | BD4: Junior Style | BG4: Junior Overall
G5: MIA | J5: MIS | M5: MIO | P5: MTA | S5: MFS | V5: MTO | Y5: MJA | AB5: MJS | AE5: MJO | AI5: FIA | AL5: FIS | AO5: FIO | AR5: FTA | AU5: FFS | AX5: FTO | BA5: FJA | BD5: FJS | BG5: FJO
G6: G | H6: S | I6: B | J6: G | K6: S | L6: B | M6: G | N6: S | O6: B | P6: G | Q6: S | R6: B | S6: G | T6: S | U6: B | V6: G | W6: S | X6: B | Y6: G | Z6: S | AA6: B | AB6: G | AC6: S | AD6: B | AE6: G | AF6: S | AG6: B | AI6: G | AJ6: S | AK6: B | AL6: G | AM6: S | AN6: B | AO6: G | AP6: S | AQ6: B | AR6: G | AS6: S | AT6: B | AU6: G | AV6: S | AW6: B | AX6: G | AY6: S | AZ6: B | BA6: G | BB6: S | BC6: B | BD6: G | BE6: S | BF6: B | BG6: G | BH6: S | BI6: B
G7: MIAG | H7: MIAS | I7: MIAB | J7: MISG | K7: MISS | L7: MISB | M7: MIOG | N7: MIOS | O7: MIOB | P7: MTAG | Q7: MTAS | R7: MTAB | S7: MFSG | T7: MFSS | U7: MFSB | V7: MTOG | W7: MTOS | X7: MTOB | Y7: MJAG | Z7: MJAS | AA7: MJAB | AB7: MJSG | AC7: MJSS | AD7: MJSB | AE7: MJOG | AF7: MJOS | AG7: MJOB | AI7: FIAG | AJ7: FIAS | AK7: FIAB | AL7: FISG | AM7: FISS | AN7: FISB | AO7: FIOG | AP7: FIOS | AQ7: FIOB | AR7: FTAG | AS7: FTAS | AT7: FTAB | AU7: FFSG | AV7: FFSS | AW7: FFSB | AX7: FTOG | AY7: FTOS | AZ7: FTOB | BA7: FJAG | BB7: FJAS | BC7: FJAB | BD7: FJSG | BE7: FJSS | BF7: FJSB | BG7: FJOG | BH7: FJOS | BI7: FJOB
A8: =C8&"."&B8 -> 1964.1 | B8: =COUNTIF($C$2:C8,C8) -> 1 | C8: 1964 | D8: 1. | E8: FRA | F8: Pau | G8: FRA | H8: FRA | I8: FRA | J8: FRA | K8: FRA | L8: FRA | M8: FRA | N8: FRA | O8: FRA | P8: FRA | Q8: AUT | R8: ITA | V8: FRA | W8: USA | X8: AUT
A9: =C9&"."&B9 -> 1965.1 | B9: =COUNTIF($C$2:C9,C9) -> 1 | C9: 1965 | D9: 2. | E9: BRA | F9: Rio de Janero | G9: BEL | H9: ITA | I9: USA | J9: FRA | K9: FRA | L9: FRA | M9: FRA | N9: USA | O9: FRA | P9: USA | Q9: FRA | R9: BRA | V9: USA | W9: FRA | X9: BRA
A10: =C10&"."&B10 -> 1968.1 | B10: =COUNTIF($C$2:C10,C10) -> 1 | C10: 1968 | D10: 3. | E10: ESP | F10: Reus - Tarragona | G10: FRA | H10: USA | I10: FRA | J10: USA | K10: FRA | L10: USA | M10: FRA | N10: USA | O10: FRA | P10: USA | Q10: FRA | R10: AUT | V10: FRA | W10: USA | X10: AUT
A11: =C11&"."&B11 -> 1970.1 | B11: =COUNTIF($C$2:C11,C11) -> 1 | C11: 1970 | D11: 4. | E11: GER | F11: Bruchsal | G11: FRA | H11: FRA | I11: AUT | J11: USA | K11: FRA | L11: USA | M11: FRA | N11: USA | O11: FRA | P11: AUT | Q11: FRA | R11: ESP | V11: FRA | W11: AUT | X11: USA
A12: =C12&"."&B12 -> 1971.1 | B12: =COUNTIF($C$2:C12,C12) -> 1 | C12: 1971 | D12: 5. | E12: POR | F12: Sintra | G12: BRA | H12: FRA | I12: SUI | J12: FRA | K12: FRA | L12: FRA | M12: SUI | N12: GER | O12: FRA | P12: USA | Q12: AUT | R12: FRA | V12: FRA | W12: USA | X12: AUT
A13: =C13&"."&B13 -> 1973.1 | B13: =COUNTIF($C$2:C13,C13) -> 1 | C13: 1973 | D13: 6. | E13: BEL | F13: Schaffen | G13: USA | H13: ITA | I13: FRA | J13: FRA | K13: USA | L13: FRA | M13: USA | N13: FRA | O13: USA | P13: USA | Q13: BEL | R13: FRA | V13: USA | W13: FRA | X13: ITA
A14: =C14&"."&B14 -> 1974.1 | B14: =COUNTIF($C$2:C14,C14) -> 1 | C14: 1974 | D14: 7. | E14: USA | F14: Fort Bragg | G14: USA | H14: USA | I14: USA | J14: FRA | K14: FRA | L14: USA | M14: FRA | N14: FRA | O14: USA | P14: ITA | Q14: USA | R14: GER | V14: USA | W14: FRA | X14: ITA
A15: =C15&"."&B15 -> 1975.1 | B15: =COUNTIF($C$2:C15,C15) -> 1 | C15: 1975 | D15: 8. | E15: FRA | F15: Pau | G15: FRA | H15: FRA | I15: FRA | J15: FRA | K15: FRA | L15: FRA | M15: FRA | N15: FRA | O15: FRA | P15: GER | Q15: FRA | R15: ITA | V15: FRA | W15: ITA | X15: GER
A16: =C16&"."&B16 -> 1976.1 | B16: =COUNTIF($C$2:C16,C16) -> 1 | C16: 1976 | D16: 9. | E16: ESP | F16: San Javier | G16: USA | H16: AUT | I16: FRA | J16: FRA | K16: FRA | L16: USA | M16: FRA | N16: USA | O16: USA | P16: USA | Q16: FRA | R16: SUI | V16: USA | W16: FRA | X16: SUI
A17: =C17&"."&B17 -> 1976.2 | B17: =COUNTIF($C$2:C17,C17) -> 2 | C17: 1976 | G17: USA
A18: =C18&"."&B18 -> 1977.1 | B18: =COUNTIF($C$2:C18,C18) -> 1 | C18: 1977 | D18: 10. | E18: AUT | F18: Wiener Neustadt | G18: USA | H18: GER | I18: FRA | J18: FRA | K18: USA | L18: FRA | M18: USA | N18: FRA | O18: USA | P18: USA | Q18: AUT | R18: SUI | V18: USA | W18: FRA | X18: SUI
A19: =C19&"."&B19 -> 1979.1 | B19: =COUNTIF($C$2:C19,C19) -> 1 | C19: 1979 | D19: 11. | E19: SWE | F19: Karlsborg | G19: USA | H19: FRA | I19: USA | J19: FRA | K19: FRA | L19: USA | M19: FRA | N19: FRA | O19: USA | P19: USA | Q19: FRA | R19: SUI | V19: USA | W19: FRA | X19: SUI
A20: =C20&"."&B20 -> 1980.1 | B20: =COUNTIF($C$2:C20,C20) -> 1 | C20: 1980 | D20: 12. | E20: CHI | F20: Santiago | G20: USA | J20: USA | K20: USA | L20: USA | M20: USA | N20: USA | O20: USA | P20: USA | Q20: ESP | R20: MAR | S20: USA | T20: UAE | U20: ESP | V20: USA | W20: ESP | X20: BRA
A21: =C21&"."&B21 -> 1980.2 | B21: =COUNTIF($C$2:C21,C21) -> 2 | C21: 1980 | G21: USA
A22: =C22&"."&B22 -> 1980.3 | B22: =COUNTIF($C$2:C22,C22) -> 3 | C22: 1980 | G22: ESP
A23: =C23&"."&B23 -> 1981.1 | B23: =COUNTIF($C$2:C23,C23) -> 1 | C23: 1981 | D23: 13. | E23: UAE | F23: Dubai | G23: GER | H23: FRA | I23: SUI | J23: FRA | K23: USA | L23: FRA | M23: FRA | N23: FRA | O23: GER | P23: SUI | Q23: GER | R23: FRA | S23: FRA | T23: USA | U23: GER | V23: FRA | W23: USA | X23: GER
A24: =C24&"."&B24 -> 1981.2 | B24: =COUNTIF($C$2:C24,C24) -> 2 | C24: 1981 | G24: BEL
A25: =C25&"."&B25 -> 1981.3 | B25: =COUNTIF($C$2:C25,C25) -> 3 | C25: 1981 | G25: USA
A26: =C26&"."&B26 -> 1981.4 | B26: =COUNTIF($C$2:C26,C26) -> 4 | C26: 1981 | G26: AUT
A27: =C27&"."&B27 -> 1981.5 | B27: =COUNTIF($C$2:C27,C27) -> 5 | C27: 1981 | G27: USA
A28: =C28&"."&B28 -> 1982.1 | B28: =COUNTIF($C$2:C28,C28) -> 1 | C28: 1982 | D28: 14. | E28: FRA | F28: Pau | G28: FRA | H28: BEL | I28: USA | J28: FRA | K28: FRA | L28: USA | M28: FRA | N28: FRA | O28: USA | P28: GER | Q28: USA | R28: BEL | S28: FRA | T28: USA | U28: GER | V28: USA | W28: FRA | X28: GER
A29: =C29&"."&B29 -> 1983.1 | B29: =COUNTIF($C$2:C29,C29) -> 1 | C29: 1983 | D29: 15. | E29: SUI | F29: Frauenfeld | G29: UAE | H29: USA | I29: FRA | J29: USA | K29: USA | L29: FRA | M29: USA | N29: FRA | O29: FRA | P29: DEN | Q29: GER | R29: BEL | S29: FRA | T29: SUI | U29: UAE | V29: USA | W29: FRA | X29: GER | AI29: USA | AJ29: USA | AK29: USA | AL29: USA | AM29: USA | AN29: SUI | AO29: USA | AP29: USA | AQ29: USA
A30: =C30&"."&B30 -> 1984.1 | B30: =COUNTIF($C$2:C30,C30) -> 1 | C30: 1984 | D30: 16. | E30: GER | F30: Altenstadt | G30: AUT | H30: FRA | I30: USA | J30: FRA | K30: USA | L30: FRA | M30: FRA | N30: USA | O30: FRA | P30: FRA | Q30: AUT | R30: GER | S30: AUT | T30: FRA | U30: SUI | V30: FRA | W30: USA | X30: SUI | AI30: USA | AJ30: USA | AK30: USA | AL30: USA | AM30: USA | AN30: SUI | AO30: USA | AP30: USA | AQ30: USA
A31: =C31&"."&B31 -> 1985.1 | B31: =COUNTIF($C$2:C31,C31) -> 1 | C31: 1985 | D31: 17. | E31: UAE | F31: Abu Dhabi | G31: UAE | H31: GER | I31: AUT | J31: FRA | K31: FRA | L31: FRA | M31: FRA | N31: FRA | O31: FRA | P31: AUT | Q31: FRA | R31: GER | S31: AUT | T31: USA | U31: FRA | V31: FRA | W31: USA | X31: GER | AI31: FRA | AJ31: SUI | AK31: USA | AL31: USA | AM31: FRA | AN31: SUI | AO31: FRA | AP31: SUI | AQ31: USA | AR31: USA | AS31: FRA | AT31: SUI | AX31: USA | AY31: FRA | AZ31: SUI
A32: =C32&"."&B32 -> 1986.1 | B32: =COUNTIF($C$2:C32,C32) -> 1 | C32: 1986 | D32: 18. | E32: MAR | F32: Rabat | G32: AUT | H32: MAR | I32: ESP | J32: FRA | K32: FRA | L32: FRA | M32: FRA | N32: FRA | O32: SUI | P32: GER | Q32: SUI | R32: ESP | S32: AUT | T32: SUI | U32: MAR | V32: FRA | W32: SUI | X32: GER | AI32: FRA | AJ32: USA | AK32: USA | AL32: USA | AM32: USA | AN32: SUI | AO32: USA | AP32: USA | AQ32: SUI | AR32: USA | AS32: FRA | AT32: THA | AU32: USA | AV32: FRA | AW32: MAR | AX32: USA | AY32: FRA | AZ32: SUI
A33: =C33&"."&B33 -> 1988.1 | B33: =COUNTIF($C$2:C33,C33) -> 1 | C33: 1988 | D33: 19. | E33: BRA | F33: Campinas | G33: USA | H33: USA | I33: UAE | J33: FRA | K33: FRA | L33: FRA | M33: FRA | N33: USA | O33: FRA | P33: USA | Q33: BEL | R33: FRA | S33: FRA | T33: GER | U33: BEL | V33: FRA | W33: USA | X33: SUI | AI33: SUI | AJ33: USA | AK33: SWE | AL33: SUI | AM33: USA | AN33: FRA | AO33: SUI | AP33: USA | AQ33: FRA | AR33: SUI | AS33: FRA | AT33: USA | AU33: FRA | AV33: USA | AW33: SUI | AX33: FRA | AY33: SUI | AZ33: USA
A34: =C34&"."&B34 -> 1990.1 | B34: =COUNTIF($C$2:C34,C34) -> 1 | C34: 1990 | D34: 20. | E34: GER | F34: Altenstadt | G34: UAE | H34: GER | I34: AUT | J34: FRA | K34: FRA | L34: FRA | M34: FRA | N34: FRA | O34: FRA | P34: ITA | Q34: GER | R34: UAE | S34: BEL | T34: ESP | U34: MAR | V34: FRA | W34: GER | X34: USA | AI34: FRA | AJ34: USA | AK34: FRA | AL34: USA | AM34: FRA | AN34: SUI | AO34: FRA | AP34: USA | AQ34: SUI | AR34: FRA | AS34: USA | AT34: THA | AU34: FRA | AV34: USA | AW34: SUI | AX34: FRA | AY34: USA | AZ34: SUI
A35: =C35&"."&B35 -> 1991.1 | B35: =COUNTIF($C$2:C35,C35) -> 1 | C35: 1991 | D35: 21. | E35: ITA | F35: Pisa | G35: BEL | H35: GER | I35: THA | J35: RUS | K35: RUS | L35: FRA | M35: RUS | N35: RUS | O35: FRA | P35: FRA | Q35: ITA | R35: THA | S35: BEL | T35: ESP | U35: MAR | V35: FRA | W35: RUS | X35: USA | AI35: USA | AJ35: THA | AK35: THA | AL35: FRA | AM35: USA | AN35: FRA | AO35: USA | AP35: FRA | AQ35: FRA | AR35: THA | AS35: FRA | AT35: USA | AU35: FRA | AV35: USA
A36: =C36&"."&B36 -> 1992.1 | B36: =COUNTIF($C$2:C36,C36) -> 1 | C36: 1992 | D36: 22. | E36: ESP | F36: Granada | G36: GER | J36: FRA | K36: GER | L36: FRA | M36: GER | N36: FRA | O36: FRA | P36: BUL | Q36: GER | S36: ESP | T36: BEL | U36: MAR | V36: FRA | W36: GER | X36: CZE | AI36: FRA | AJ36: FRA | AK36: USA | AL36: FRA | AM36: SLO | AN36: USA | AO36: FRA | AP36: USA | AQ36: FRA | AR36: FRA | AS36: USA | AT36: THA | AU36: USA | AV36: FRA | AW36: MAR
A37: =C37&"."&B37 -> 1992.2 | B37: =COUNTIF($C$2:C37,C37) -> 2 | C37: 1992 | G37: GER | Q37: SLO
A38: =C38&"."&B38 -> 1992.3 | B38: =COUNTIF($C$2:C38,C38) -> 3 | C38: 1992 | G38: FRA
A39: =C39&"."&B39 -> 1993.1 | B39: =COUNTIF($C$2:C39,C39) -> 1 | C39: 1993 | D39: 23. | E39: TUR | F39: Kayseri | G39: SLO | H39: CZE | I39: FRA | J39: FRA | K39: GER | L39: FRA | M39: FRA | N39: FRA | O39: GER | P39: CZE | Q39: SLO | R39: USA | S39: MAR | T39: FRA | U39: BEL | V39: RUS | W39: CZE | X39: ITA | AI39: THA | AJ39: USA | AK39: RUS | AL39: RUS | AM39: FRA | AN39: RUS | AO39: USA | AP39: RUS | AQ39: UZB | AR39: RUS | AS39: THA | AT39: UZB | AU39: MAR | AV39: RUS | AW39: UZB | AX39: RUS | AY39: UZB | AZ39: BLR
A40: =C40&"."&B40 -> 1993.2 | B40: =COUNTIF($C$2:C40,C40) -> 2 | C40: 1993 | X40: FRA | AZ40: MAR
A41: =C41&"."&B41 -> 1994.1 | B41: =COUNTIF($C$2:C41,C41) -> 1 | C41: 1994 | D41: 24. | E41: AUT | F41: Perg | G41: USA | H41: HUN | I41: RUS | J41: RUS | K41: FRA | L41: CZE | M41: FRA | N41: RUS | O41: USA | P41: ITA | Q41: SLO | R41: RUS | S41: FRA | T41: MAR | U41: AUT | V41: RUS | W41: FRA | X41: MAR | AI41: THA | AJ41: SLO | AK41: USA | AL41: FRA | AM41: RUS | AN41: SLO | AO41: SLO | AP41: RUS | AQ41: RUS | AR41: RUS | AS41: FRA | AT41: THA | AU41: RUS | AV41: FRA | AW41: USA | AX41: RUS | AY41: FRA | AZ41: USA
A42: =C42&"."&B42 -> 1995.1 | B42: =COUNTIF($C$2:C42,C42) -> 1 | C42: 1995 | D42: 25. | E42: ITA | F42: Rom | G42: GER | I42: DEN | J42: GER | K42: FRA | L42: RUS | M42: GER | N42: FRA | O42: FRA | P42: CZE | R42: GER | S42: SUI | T42: BEL | U42: FRA | V42: RUS | W42: FRA | X42: GER | AI42: CHN | AJ42: ROU | AK42: USA | AL42: FRA | AM42: GER | AN42: RUS | AO42: USA | AP42: FRA | AQ42: SLO | AR42: RUS | AS42: CHN | AT42: FRA | AU42: RUS | AV42: FRA | AW42: MAR | AX42: RUS | AY42: FRA | AZ42: CHN
A43: =C43&"."&B43 -> 1995.2 | B43: =COUNTIF($C$2:C43,C43) -> 2 | C43: 1995 | G43: UAE | I43: FRA | P43: RUS
A44: =C44&"."&B44 -> 1995.3 | B44: =COUNTIF($C$2:C44,C44) -> 3 | C44: 1995 | I44: FRA
A45: =C45&"."&B45 -> 1995.4 | B45: =COUNTIF($C$2:C45,C45) -> 4 | C45: 1995 | I45: POL
A46: =C46&"."&B46 -> 1995.5 | B46: =COUNTIF($C$2:C46,C46) -> 5 | C46: 1995 | I46: SLO
A47: =C47&"."&B47 -> 1996.1 | B47: =COUNTIF($C$2:C47,C47) -> 1 | C47: 1996 | D47: 26. | E47: SLO | F47: Cerklje | G47: DEN | H47: CZE | I47: AUT | J47: GER | K47: FRA | L47: FRA | M47: RUS | N47: RUS | O47: AUT | P47: CZE | Q47: RUS | R47: HUN | S47: SUI | T47: MAR | U47: FRA | V47: RUS | W47: CZE | X47: FRA | AI47: RUS | AJ47: KAZ | AK47: USA | AL47: GER | AM47: RUS | AN47: FRA | AO47: USA | AP47: RUS | AQ47: GER | AR47: RUS | AS47: FRA | AT47: THA | AU47: RUS | AV47: FRA | AW47: MAR | AX47: RUS | AY47: FRA | AZ47: BLR
A48: =C48&"."&B48 -> 1999.1 | B48: =COUNTIF($C$2:C48,C48) -> 1 | C48: 1999 | D48: 27. | E48: CRO | F48: Zagreb | G48: ITA | H48: ITA | I48: ESP | J48: FRA | K48: GER | L48: FRA | M48: FRA | N48: RUS | O48: RUS | P48: ITA | Q48: RUS | R48: CZE | S48: BEL | T48: GER | U48: USA | V48: FRA | W48: RUS | X48: GER | AI48: USA | AJ48: SLO | AK48: FRA | AL48: RUS | AM48: RUS | AN48: GER | AO48: SLO | AP48: USA | AQ48: GER | AR48: CHN | AS48: FRA | AT48: RUS | AU48: RUS | AV48: USA | AW48: KOR | AX48: RUS | AY48: CHN | AZ48: FRA
A49: =C49&"."&B49 -> 2000.1 | B49: =COUNTIF($C$2:C49,C49) -> 1 | C49: 2000 | D49: 28. | E49: SVK | F49: Lucenec | G49: FRA | H49: POL | I49: FRA | J49: GER | K49: USA | L49: AUT | M49: FRA | N49: GER | O49: USA | P49: POL | Q49: ITA | R49: SLO | S49: BEL | T49: GER | U49: ESP | V49: GER | W49: USA | X49: FRA | AI49: CHN | AJ49: POL | AK49: POL | AL49: RUS | AM49: GER | AN49: RUS | AO49: GER | AP49: SLO | AQ49: RUS | AR49: CHN | AS49: RUS | AT49: POL | AU49: RUS | AV49: USA | AW49: MAR | AX49: RUS | AY49: BLR | AZ49: USA
A50: =C50&"."&B50 -> 2001.1 | B50: =COUNTIF($C$2:C50,C50) -> 1 | C50: 2001 | D50: 29. | E50: UAE | F50: Abu Dhabi | G50: RUS | H50: BLR | I50: GER | J50: GER | K50: FRA | L50: FRA | M50: FRA | N50: GER | O50: GER | P50: RUS | Q50: FRA | R50: ITA | S50: BEL | T50: SUI | U50: GER | V50: FRA | W50: GER | X50: RUS | AI50: GER | AJ50: SLO | AK50: BLR | AL50: RUS | AM50: GER | AN50: FRA | AO50: GER | AP50: SLO | AQ50: RUS | AR50: RUS | AS50: BLR | AT50: CHN | AU50: RUS | AV50: MAR | AW50: FRA | AX50: RUS | AY50: BLR | AZ50: FRA
A51: =C51&"."&B51 -> 2002.1 | B51: =COUNTIF($C$2:C51,C51) -> 1 | C51: 2002 | D51: 30. | E51: ALG | F51: Tafraoui / Oran | G51: GER | H51: SLO | I51: HUN | J51: GER | K51: FRA | L51: FRA | M51: FRA | N51: GER | O51: FRA | P51: FRA | Q51: ITA | R51: CZE | S51: BEL | T51: ESP | U51: USA | V51: FRA | W51: CZE | X51: GER | AI51: CHN | AJ51: CHN | AK51: RUS | AL51: RUS | AM51: BLR | AN51: SLO | AO51: RUS | AP51: CHN | AQ51: USA | AR51: CHN | AS51: RUS | AT51: BLR | AU51: USA | AV51: RUS | AW51: MAR | AX51: RUS | AY51: USA | AZ51: BLR
A52: =C52&"."&B52 -> 2004.1 | B52: =COUNTIF($C$2:C52,C52) -> 1 | C52: 2004 | D52: 31. | E52: AUT | F52: Krems | G52: CZE | H52: GER | I52: RUS | J52: GER | K52: RUS | L52: RUS | M52: RUS | N52: CZE | O52: GER | P52: GER | Q52: SLO | R52: RUS | S52: BEL | T52: FRA | U52: GER | V52: GER | W52: RUS | X52: FRA | AI52: BLR | AJ52: RUS | AK52: SUI | AL52: RUS | AM52: SLO | AN52: RUS | AO52: RUS | AP52: BLR | AQ52: SLO | AR52: CHN | AS52: RUS | AT52: BLR | AU52: USA | AV52: SWE | AW52: MAR | AX52: RUS | AY52: BLR | AZ52: USA
A53: =C53&"."&B53 -> 2006.1 | B53: =COUNTIF($C$2:C53,C53) -> 1 | C53: 2006 | D53: 32. | E53: RUS | F53: Ryazan | G53: ESP | I53: CHN | J53: CZE | K53: RUS | L53: SVK | M53: RUS | N53: SLO | O53: RUS | P53: SLO | Q53: HUN | R53: RUS | S53: USA | T53: SUI | U53: LTU | V53: RUS | W53: CZE | X53: SLO | AI53: CHN | AJ53: CHN | AK53: BLR | AL53: SLO | AM53: RUS | AN53: RUS | AO53: RUS | AP53: RUS | AQ53: RUS | AR53: CHN | AS53: RUS | AT53: BLR | AU53: USA | AV53: RUS | AW53: NOR | AX53: RUS | AY53: BLR | AZ53: USA
A54: =C54&"."&B54 -> 2006.2 | B54: =COUNTIF($C$2:C54,C54) -> 2 | C54: 2006 | G54: SLO | I54: HUN
A55: =C55&"."&B55 -> 2006.3 | B55: =COUNTIF($C$2:C55,C55) -> 3 | C55: 2006 | I55: CZE
A56: =C56&"."&B56 -> 2006.4 | B56: =COUNTIF($C$2:C56,C56) -> 4 | C56: 2006 | I56: CHN
A57: =C57&"."&B57 -> 2006.5 | B57: =COUNTIF($C$2:C57,C57) -> 5 | C57: 2006 | I57: RUS
A58: =C58&"."&B58 -> 2007.1 | B58: =COUNTIF($C$2:C58,C58) -> 1 | C58: 2007 | D58: 33. | E58: IND | F58: Hyderabad | G58: RUS | H58: SLO | I58: CZE | P58: GER | Q58: SLO | R58: CZE | S58: BEL | T58: USA | U58: SUI | V58: GER | W58: CZE | X58: RUS | AI58: RUS | AJ58: SLO | AK58: CHN | AR58: RUS | AS58: CHN | AT58: BLR | AU58: USA | AV58: NOR | AW58: FRA | AX58: RUS | AY58: USA | AZ58: CHN
A59: =C59&"."&B59 -> 2009.1 | B59: =COUNTIF($C$2:C59,C59) -> 1 | C59: 2009 | D59: 34. | E59: SVK | F59: Lucenec | G59: RUS | H59: FRA | I59: GER | J59: FRA | K59: CZE | L59: RUS | M59: RUS | N59: CZE | O59: FRA | P59: CZE | Q59: SLO | R59: FRA | S59: BEL | T59: SUI | U59: ESP | V59: FRA | W59: CZE | X59: RUS | AI59: RUS | AJ59: RUS | AK59: CHN | AL59: SLO | AM59: RUS | AN59: BLR | AO59: RUS | AP59: RUS | AQ59: SLO | AR59: RUS | AS59: CHN | AT59: BLR | AU59: FRA | AV59: USA | AW59: RUS | AX59: RUS | AY59: BLR | AZ59: USA
A60: =C60&"."&B60 -> 2010.1 | B60: =COUNTIF($C$2:C60,C60) -> 1 | C60: 2010 | D60: 35. | E60: SUI | F60: Bouchs | G60: CHN | H60: MAR | I60: GER | J60: FRA | K60: GER | L60: SLO | M60: GER | N60: CZE | O60: FRA | P60: CZE | Q60: ITA | R60: CHN | S60: BEL | T60: GER | U60: SUI | V60: GER | W60: CZE | X60: FRA | AI60: SUI | AJ60: POL | AK60: CHN | AL60: SLO | AM60: USA | AN60: BLR | AO60: SLO | AP60: BLR | AQ60: USA | AR60: CHN | AS60: BLR | AT60: KAZ | AU60: USA | AV60: FRA | AW60: CHN | AX60: BLR | AY60: USA | AZ60: CHN
A61: =C61&"."&B61 -> 2011.1 | B61: =COUNTIF($C$2:C61,C61) -> 1 | C61: 2011 | D61: 36. | E61: BRA | F61: Rio de Janeiro | G61: ITA | H61: CHN | I61: SLO | P61: ITA | Q61: HUN | R61: SLO | S61: BEL | T61: GER | U61: USA | V61: GER | W61: CZE | X61: ESP | AI61: CHN | AJ61: POL | AK61: CHN | AR61: CHN | AS61: USA | AT61: KAZ | AU61: USA | AV61: FRA | AW61: BRA | AX61: USA | AY61: CHN | AZ61: FRA
A62: =C62&"."&B62 -> 2013.1 | B62: =COUNTIF($C$2:C62,C62) -> 1 | C62: 2013 | D62: 37. | E62: CHN | F62: Qionglai | G62: OMA | H62: CHN | I62: BLR | J62: CZE | K62: RUS | L62: ITA | M62: BLR | N62: CHN | O62: GER | P62: CHN | Q62: BLR | R62: SLO | S62: BEL | T62: GER | U62: QAT | V62: FRA | W62: BLR | X62: GER | Y62: BLR | Z62: CHN | AA62: GER | AB62: BLR | AC62: GER | AD62: GER | AE62: GER | AF62: BLR | AG62: BLR | AI62: CHN | AJ62: BLR | AK62: BLR | AL62: RUS | AM62: RUS | AN62: RUS | AO62: RUS | AP62: CHN | AQ62: RUS | AR62: BLR | AS62: CHN | AT62: RUS | AU62: CHN | AV62: MAR | AW62: BLR | AX62: BLR | AY62: CHN | AZ62: RUS | BA62: GER | BB62: KAZ | BC62: INA | BD62: GER | BE62: GER | BG62: GER | BH62: KAZ | BI62: GER
A63: =C63&"."&B63 -> 2013.2 | B63: =COUNTIF($C$2:C63,C63) -> 2 | C63: 2013 | BE63: KAZ
A64: =C64&"."&B64 -> 2014.1 | B64: =COUNTIF($C$2:C64,C64) -> 1 | C64: 2014 | D64: 38. | E64: INA | F64: Solo | G64: GER | H64: CZE | I64: OMA | J64: GER | K64: CZE | L64: FRA | M64: GER | N64: FRA | O64: RUS | P64: GER | Q64: CZE | R64: OMA | S64: BEL | T64: QAT | U64: ESP | V64: GER | W64: CZE | X64: RUS | Y64: CHN | Z64: CHN | AA64: USA | AI64: RUS | AJ64: CHN | AK64: BLR | AL64: RUS | AM64: RUS | AN64: FRA | AO64: RUS | AP64: RUS | AQ64: RUS | AR64: RUS | AS64: PRK | AT64: CHN | AU64: USA | AV64: FRA | AW64: CHN | AX64: RUS | AY64: CHN | AZ64: FRA | BA64: INA | BB64: BLR | BC64: INA
A65: =C65&"."&B65 -> 2015.1 | B65: =COUNTIF($C$2:C65,C65) -> 1 | C65: 2015 | D65: 39. | E65: KOR | F65: Mungyeong / Pohang | G65: RUS | H65: BLR | I65: SLO | J65: GER | K65: CZE | L65: RUS | M65: RUS | N65: CZE | O65: GER | P65: BLR | Q65: ITA | R65: RUS | S65: BEL | T65: QAT | U65: GER | V65: CZE | W65: RUS | X65: BLR | Y65: CHN | Z65: CHN | AA65: AUT | AB65: FRA | AC65: CHN | AD65: CHN | AE65: CHN | AF65: CHN | AG65: FRA | AI65: RUS | AJ65: BLR | AK65: FRA | AL65: RUS | AM65: RUS | AN65: RUS | AO65: FRA | AP65: FRA | AQ65: RUS | AR65: CHN | AS65: RUS | AT65: BLR | AU65: USA | AV65: CHN | AW65: FRA | AX65: CHN | AY65: RUS | AZ65: FRA | BA65: FRA | BB65: INA | BC65: INA
A66: =C66&"."&B66 -> 2016.1 | B66: =COUNTIF($C$2:C66,C66) -> 1 | C66: 2016 | D66: 40. | E66: RUS | F66: Kubinka | G66: RUS | H66: FRA | I66: CHN | J66: CZE | K66: RUS | L66: GER | M66: RUS | N66: ITA | O66: RUS | P66: HUN | Q66: RUS | R66: BLR | S66: BEL | T66: QAT | U66: GER | V66: RUS | W66: GER | X66: CZE | Y66: CHN | Z66: CHN | AA66: AUT | AB66: RUS | AC66: BLR | AD66: CHN | AE66: CHN | AF66: RUS | AG66: CHN | AI66: RUS | AJ66: BLR | AK66: FRA | AL66: RUS | AM66: RUS | AN66: RUS | AO66: RUS | AP66: FRA | AQ66: BLR | AR66: BLR | AS66: RUS | AT66: CHN | AU66: FRA | AV66: RUS | AW66: CHN | AX66: RUS | AY66: BLR | AZ66: FRA | BA66: BLR | BB66: RUS | BC66: FRA | BD66: FRA | BE66: BLR | BF66: CHN | BG66: BLR | BH66: FRA | BI66: RUS
A67: =C67&"."&B67 -> 2017.1 | B67: =COUNTIF($C$2:C67,C67) -> 1 | C67: 2017 | D67: 41. | E67: GER | F67: Warendorf | G67: CZE | H67: RUS | I67: HUN | J67: GER | K67: CZE | L67: GER | M67: GER | N67: RUS | O67: GER | P67: CHN | Q67: RUS | R67: HUN | S67: BEL | T67: QAT | U67: GER | V67: RUS | W67: GER | X67: CZE | Y67: CHN | Z67: CHN | AA67: CHN | AB67: CHN | AC67: GER | AD67: CHN | AE67: CHN | AF67: CHN | AG67: CHN | AI67: CHN | AJ67: RUS | AK67: RUS | AL67: FRA | AM67: RUS | AN67: RUS | AO67: RUS | AP67: FRA | AQ67: RUS | AR67: BLR | AS67: RUS | AT67: CHN | AU67: FRA | AV67: RUS | AW67: CHN | AX67: RUS | AY67: FRA | AZ67: BLR | BA67: BLR | BB67: CHN | BC67: RUS | BD67: BLR | BE67: RUS | BF67: CHN | BG67: BLR | BH67: RUS | BI67: CHN
A68: =C68&"."&B68 -> 2018.1 | B68: =COUNTIF($C$2:C68,C68) -> 1 | C68: 2018 | D68: 42. | E68: HUN | F68: Szolnok | G68: GER | H68: SLO | I68: CZE | J68: CZE | K68: GER | L68: RUS | M68: CZE | N68: GER | O68: CHN | P68: SLO | Q68: CHN | R68: HUN | S68: BEL | T68: QAT | U68: SUI | V68: CZE | W68: GER | X68: BLR | Y68: CHN | Z68: CHN | AA68: CHN | AB68: CHN | AC68: GER | AD68: CHN | AE68: CHN | AF68: CHN | AG68: CHN | AI68: FRA | AJ68: SLO | AK68: CHN | AL68: RUS | AM68: RUS | AN68: FRA | AO68: RUS | AP68: FRA | AQ68: RUS | AR68: CHN | AS68: RUS | AT68: BLR | AU68: RUS | AV68: FRA | AW68: MAR | AX68: RUS | AY68: FRA | AZ68: BLR | BA68: CHN | BB68: GER | BC68: CHN | BD68: RUS | BE68: CHN | BF68: CHN | BG68: CHN | BH68: RUS | BI68: GER
A69: =C69&"."&B69 -> 2019.1 | B69: =COUNTIF($C$2:C69,C69) -> 1 | C69: 2019 | D69: 43. | E69: CHN | F69: Wuhan | G69: GER | H69: RUS | I69: HUN | J69: GER | K69: CZE | L69: RUS | M69: GER | N69: GER | O69: CZE | P69: CZE | Q69: GER | R69: CHN | S69: BEL | T69: QAT | U69: SUI | V69: GER | W69: CZE | X69: RUS | Y69: CHN | Z69: CHN | AA69: CZE | AB69: CHN | AC69: CHN | AD69: CZE | AE69: CHN | AF69: CHN | AG69: CZE | AI69: CHN | AJ69: RUS | AK69: BLR | AL69: CHN | AM69: RUS | AN69: RUS | AO69: CHN | AP69: RUS | AQ69: FRA | AR69: CHN | AS69: RUS | AT69: BLR | AU69: MAR | AV69: CHN | AW69: RUS | AX69: CHN | AY69: RUS | AZ69: FRA | BA69: CHN | BB69: CHN | BC69: RUS | BD69: CHN | BE69: RUS | BF69: RUS | BG69: CHN | BH69: RUS | BI69: RUS
A70: =C70&"."&B70 -> 2021.1 | B70: =COUNTIF($C$2:C70,C70) -> 1 | C70: 2021 | D70: 44. | E70: QAT | F70: Doha | G70: GER | H70: FRA | I70: GER | J70: RUS | K70: CZE | L70: RUS | M70: GER | N70: GER | O70: GER | P70: GER | Q70: BLR | R70: RUS | S70: BEL | T70: QAT | U70: GER | V70: GER | W70: RUS | X70: CZE | Y70: GER | Z70: BLR | AA70: BLR | AB70: GER | AC70: GER | AD70: GER | AE70: GER | AF70: GER | AG70: GER | AI70: RUS | AJ70: BLR | AK70: FRA | AL70: RUS | AM70: RUS | AN70: FRA | AO70: RUS | AP70: RUS | AQ70: FRA | AR70: BLR | AS70: RUS | AT70: FRA | AU70: RUS | AV70: KOR | AW70: MAR | AX70: RUS | AY70: BLR | AZ70: MAR | BA70: RUS | BB70: RUS | BC70: RUS | BD70: RUS | BE70: RUS | BF70: RUS | BG70: RUS | BH70: RUS | BI70: RUS
A71: =C71&"."&B71 -> 2022.1 | B71: =COUNTIF($C$2:C71,C71) -> 1 | C71: 2022 | D71: 45. | E71: AUT | F71: Güssing | G71: AUT | H71: GER | I71: POL | J71: FRA | K71: GER | L71: GER | M71: GER | N71: FRA | O71: FRA | P71: GER | Q71: CZE | R71: FRA | S71: BEL | T71: QAT | U71: GER | V71: GER | W71: CZE | X71: BRA | Y71: GER | Z71: GER | AA71: QAT | AB71: GER | AC71: GER | AD71: AUT | AE71: GER | AF71: GER | AG71: AUT | AI71: FRA | AJ71: FRA | AK71: MAR | AL71: FRA | AM71: FRA | AN71: GER | AO71: FRA | AP71: FRA | AQ71: FRA | AR71: FRA | AS71: MAR | AT71: KOR | AU71: KOR | AV71: MAR | AW71: FRA | AX71: FRA | AY71: KOR | AZ71: FRA | BA71: AUT | BB71: FRA | BC71: GER | BD71: AUT | BE71: GER | BF71: FRA | BG71: AUT | BH71: GER | BI71: FRA
A72: =C72&"."&B72 -> .0 | B72: =COUNTIF($C$2:C72,C72) -> 0
A73: =C73&"."&B73 -> .0 | B73: =COUNTIF($C$2:C73,C73) -> 0
A74: =C74&"."&B74 -> .0 | B74: =COUNTIF($C$2:C74,C74) -> 0
A75: =C75&"."&B75 -> .0 | B75: =COUNTIF($C$2:C75,C75) -> 0
A76: =C76&"."&B76 -> .0 | B76: =COUNTIF($C$2:C76,C76) -> 0
A77: =C77&"."&B77 -> .0 | B77: =COUNTIF($C$2:C77,C77) -> 0
A78: =C78&"."&B78 -> .0 | B78: =COUNTIF($C$2:C78,C78) -> 0
A79: =C79&"."&B79 -> .0 | B79: =COUNTIF($C$2:C79,C79) -> 0
A80: =C80&"."&B80 -> .0 | B80: =COUNTIF($C$2:C80,C80) -> 0
A81: =C81&"."&B81 -> .0 | B81: =COUNTIF($C$2:C81,C81) -> 0
A82: =C82&"."&B82 -> .0 | B82: =COUNTIF($C$2:C82,C82) -> 0
A83: =C83&"."&B83 -> .0 | B83: =COUNTIF($C$2:C83,C83) -> 0
... A94: =C94&"."&B94 -> .0 | B94: =COUNTIF($C$2:C94,C94) -> 0
BM96: =SUM(#REF!) -> #REF!

Sheet Parameter
A1: CISM COUNTRIES | F1: HOST COUNTRIES | L1: SHORTCUTS DISCIPLIN | O1: PARTICIPATED COUNTRIES SINCE 1964
A2: NR | B2: IOC | C2: English | D2: IOC | F2: Year | G2: Nr. | H2: IOC | I2: COUNTRY | J2: Location | L2: Short code | M2: Discipline | O2: IOC | P2: English
A3: 1 | B3: AFG | C3: Afghanistan | D3: AFG | F3: 1964 | G3: 1. | H3: FRA | I3: France | J3: Pau | L3: MIA | M3: Male Individual Accuracy | O3: ALG | P3: Algeria
A4: 2 | B4: RSA | C4: South Africa | D4: RSA | F4: 1965 | G4: 2. | H4: BRA | I4: Brazil | J4: Rio de Janero | L4: MIS | M4: Male Individual Style | O4: ANG | P4: Angola
A5: 3 | B5: ALB | C5: Albania | D5: ALB | F5: 1968 | G5: 3. | H5: ESP | I5: Spain | J5: Reus - Tarragona | L5: MIO | M5: Male Individual Overall | O5: ARG | P5: Argentina
A6: 4 | B6: ALG | C6: Algeria | D6: ALG | F6: 1970 | G6: 4. | H6: GER | I6: Germany | J6: Bruchsal | L6: MTA | M6: Male Team Accuracy | O6: AUS | P6: Australia
A7: 5 | B7: GER | C7: Germany | D7: GER | F7: 1971 | G7: 5. | H7: POR | I7: Portugal | J7: Sintra | L7: MFS | M7: Male Formation Skydive | O7: AUT | P7: Austria
A8: 6 | B8: ANG | C8: Angola | D8: ANG | F8: 1973 | G8: 6. | H8: BEL | I8: Belgium | J8: Schaffen | L8: MTO | M8: Male Team Overall | O8: BRN | P8: Bahrain
A9: 7 | B9: KSA | C9: Saudi Arabia | D9: KSA | F9: 1974 | G9: 7. | H9: USA | I9: United States of America | J9: Fort Bragg | L9: MJA | M9: Male Junior Accuracy | O9: BLR | P9: Belarus
A10: 8 | B10: ARG | C10: Argentina | D10: ARG | F10: 1975 | G10: 8. | H10: FRA | I10: France | J10: Pau | L10: MJS | M10: Male Junior Style | O10: BEL | P10: Belgium
A11: 9 | B11: ARM | C11: Armenia | D11: ARM | F11: 1976 | G11: 9. | H11: ESP | I11: Spain | J11: San Javier | L11: MJO | M11: Male Junior Overall | O11: BRA | P11: Brasil
A12: 10 | B12: AUT | C12: Austria | D12: AUT | F12: 1977 | G12: 10. | H12: AUT | I12: Austria | J12: Wiener Neustadt | L12: FIA | M12: Female Individual Accuracy | O12: BUL | P12: Bulgaria
A13: 11 | B13: AZE | C13: Azerbaijan | D13: AZE | F13: 1979 | G13: 11. | H13: SWE | I13: Sweden | J13: Karlsborg | L13: FIS | M13: Female Individual Style | O13: BUR | P13: Burkina Faso
A14: 12 | B14: BRN | C14: Bahrain | D14: BRN | F14: 1980 | G14: 12. | H14: CHI | I14: Chile | J14: Santiago | L14: FIO | M14: Female Individual Overall | O14: BDI | P14: Burundi
... A20: 18 | B20: BOL | C20: Bolivia | D20: BOL | F20: 1986 | G20: 18. | H20: MAR | I20: Morocco | J20: Rabat | L20: FJO | M20: Female Junior Overall | O20: CRO | P20: Croatia
A21: 19 | B21: BIH | C21: Bosnia and Herzegovina | D21: BIH | F21: 1988 | G21: 19. | H21: BRA | I21: Brazil | J21: Campinas | O21: CYP | P21: Cyprus
A22: 20 | B22: BOT | C22: Botswana | D22: BOT | F22: 1990 | G22: 20. | H22: GER | I22: Germany | J22: Altenstadt | L22: MIAG | M22: Male Individual Accuracy Gold | O22: CZE | P22: Czech Rep
A23: 21 | B23: BRA | C23: Brazil | D23: BRA | F23: 1991 | G23: 21. | H23: ITA | I23: Italy | J23: Pisa | L23: MIAS | M23: Male Individual Accuracy Silver | O23: PRK | P23: D.P.R. of Korea
A24: 22 | B24: BUL | C24: Bulgaria | D24: BUL | F24: 1992 | G24: 22. | H24: ESP | I24: Spain | J24: Granada | L24: MIAB | M24: Male Individual Accuracy Bronze | O24: DEN | P24: Denmark
A25: 23 | B25: BUR | C25: Burkina Faso | D25: BUR | F25: 1993 | G25: 23. | H25: TUR | I25: Turkey | J25: Kayseri | L25: MISG | M25: Male Individual Style Gold | O25: ECU | P25: Ecuador
A26: 24 | B26: BDI | C26: Burundi | D26: BDI | F26: 1994 | G26: 24. | H26: AUT | I26: Austria | J26: Perg | L26: MISS | M26: Male Individual Style Silver | O26: EGY | P26: Egypt
A27: 25 | B27: CMR | C27: Cameroon | D27: CMR | F27: 1995 | G27: 25. | H27: ITA | I27: Italy | J27: Rom | L27: MISB | M27: Male Individual Style Bronze | O27: EST | P27: Estonia
A28: 26 | B28: CAN | C28: Canada | D28: CAN | F28: 1996 | G28: 26. | H28: SLO | I28: Slovenia | J28: Cerklje | L28: MIOG | M28: Male Individual Overall Gold | O28: FIN | P28: Finnland
A29: 27 | B29: CPV | C29: Cape Verde | D29: CPV | F29: 1999 | G29: 27. | H29: CRO | I29: Croatia | J29: Zagreb | L29: MIOS | M29: Male Individual Overall Silver | O29: FRA | P29: France
A30: 28 | B30: CAF | C30: Central African Republic | D30: CAF | F30: 2000 | G30: 28. | H30: SVK | I30: Slovakia | J30: Lucenec | L30: MIOB | M30: Male Individual Overall Bronze | O30: GAB | P30: Gabon
A31: 29 | B31: CHI | C31: Chile | D31: CHI | F31: 2001 | G31: 29. | H31: UAE | I31: United Arab Emirates | J31: Abu Dhabi | L31: MTAG | M31: Male Team Accuracy Gold | O31: GER | P31: Germany
A32: 30 | B32: CHN | C32: China | D32: CHN | F32: 2002 | G32: 30. | H32: ALG | I32: Algeria | J32: Tafraoui / Oran | L32: MTAS | M32: Male Team Accuracy Silver | O32: GBR | P32: Great Britain
A33: 31 | B33: CYP | C33: Cyprus | D33: CYP | F33: 2004 | G33: 31. | H33: AUT | I33: Austria | J33: Krems | L33: MTAB | M33: Male Team Accuracy Bronze | O33: GRE | P33: Greece
... A46: 44 | B46: ECU | C46: Ecuador | D46: ECU | F46: 2021 | G46: 44. | H46: QAT | I46: Qatar | J46: Doha | L46: MJOG | M46: Male Junior Overall Gold | O46: KUW | P46: Kuwait
A47: 45 | B47: ERI | C47: Eritrea | D47: ERI | F47: 2022 | G47: ='enter-data'!D71 -> 45. | H47: ='enter-data'!E71 -> AUT | I47: Austria | J47: ='enter-data'!F71 -> Güssing | L47: MJOS | M47: Male Junior Overall Silver | O47: LAT | P47: Latvia
A48: 46 | B48: ESP | C48: Spain | D48: ESP | F48: =IF(G48<>" "," ",'enter-data'!C72) | G48: ='enter-data'!D72 -> 0 | H48: ='enter-data'!E72 -> 0 | I48: =IF(ISERROR(VLOOKUP(H48,B48:C187,2,FALSE)),"",ISERROR(VLOOKUP(H48,B48:C187,2,FALSE))) | J48: ='enter-data'!F72 -> 0 | L48: MJOB | M48: Male Junior Overall Bronze | O48: LBA | P48: Libya
A49: 47 | B49: EST | C49: Estonia | D49: EST | F49: =IF(G49<>" "," ",'enter-data'!C73) | G49: ='enter-data'!D73 -> 0 | H49: ='enter-data'!E73 -> 0 | I49: =IF(ISERROR(VLOOKUP(H49,B49:C188,2,FALSE)),"",ISERROR(VLOOKUP(H49,B49:C188,2,FALSE))) | J49: ='enter-data'!F73 -> 0 | L49: 0 | M49: 0 | O49: LTU | P49: Lithuania
A50: 48 | B50: SWZ | C50: Eswatini | D50: SWZ | F50: =IF(G50<>" "," ",'enter-data'!C74) | G50: ='enter-data'!D74 -> 0 | H50: ='enter-data'!E74 -> 0 | I50: =IF(ISERROR(VLOOKUP(H50,B50:C189,2,FALSE)),"",ISERROR(VLOOKUP(H50,B50:C189,2,FALSE))) | J50: ='enter-data'!F74 -> 0 | L50: FIAG | M50: Female Individual Accuracy Gold | O50: MSA | P50: Malaysia
A51: 49 | B51: USA | C51: United States of America | D51: USA | F51: =IF(G51<>" "," ",'enter-data'!C75) | G51: ='enter-data'!D75 -> 0 | H51: ='enter-data'!E75 -> 0 | I51: =IF(ISERROR(VLOOKUP(H51,B51:C190,2,FALSE)),"",ISERROR(VLOOKUP(H51,B51:C190,2,FALSE))) | J51: ='enter-data'!F75 -> 0 | L51: FIAS | M51: Female Individual Accuracy Silver | O51: MLI | P51: Mali
A52: 50 | B52: FIN | C52: Finland | D52: FIN | F52: =IF(G52<>" "," ",'enter-data'!C76) | G52: ='enter-data'!D76 -> 0 | H52: ='enter-data'!E76 -> 0 | I52: =IF(ISERROR(VLOOKUP(H52,B52:C191,2,FALSE)),"",ISERROR(VLOOKUP(H52,B52:C191,2,FALSE))) | J52: ='enter-data'!F76 -> 0 | L52: FIAB | M52: Female Individual Accuracy Bronze | O52: MAR | P52: Morocco
A53: 51 | B53: FRA | C53: France | D53: FRA | F53: =IF(G53<>" "," ",'enter-data'!C77) | G53: ='enter-data'!D77 -> 0 | H53: ='enter-data'!E77 -> 0 | I53: =IF(ISERROR(VLOOKUP(H53,B53:C192,2,FALSE)),"",ISERROR(VLOOKUP(H53,B53:C192,2,FALSE))) | J53: ='enter-data'!F77 -> 0 | L53: FISG | M53: Female Individual Style Gold | O53: NED | P53: Netherlands
A54: 52 | B54: GAB | C54: Gabon | D54: GAB | F54: =IF(G54<>" "," ",'enter-data'!C78) | G54: ='enter-data'!D78 -> 0 | H54: ='enter-data'!E78 -> 0 | I54: =IF(ISERROR(VLOOKUP(H54,B54:C193,2,FALSE)),"",ISERROR(VLOOKUP(H54,B54:C193,2,FALSE))) | J54: ='enter-data'!F78 -> 0 | L54: FISS | M54: Female Individual Style Silver | O54: NOR | P54: Norway
A55: 53 | B55: GAM | C55: Gambia | D55: GAM | F55: =IF(G55<>" "," ",'enter-data'!C79) | G55: ='enter-data'!D79 -> 0 | H55: ='enter-data'!E79 -> 0 | I55: =IF(ISERROR(VLOOKUP(H55,B55:C194,2,FALSE)),"",ISERROR(VLOOKUP(H55,B55:C194,2,FALSE))) | J55: ='enter-data'!F79 -> 0 | L55: FISB | M55: Female Individual Style Bronze | O55: OMA | P55: Oman
A56: 54 | B56: GEO | C56: Georgia | D56: GEO | F56: =IF(G56<>" "," ",'enter-data'!C80) | G56: ='enter-data'!D80 -> 0 | H56: ='enter-data'!E80 -> 0 | I56: =IF(ISERROR(VLOOKUP(H56,B56:C195,2,FALSE)),"",ISERROR(VLOOKUP(H56,B56:C195,2,FALSE))) | J56: ='enter-data'!F80 -> 0 | L56: FIOG | M56: Female Individual Overall Gold | O56: PAK | P56: Pakistan
A57: 55 | B57: GHA | C57: Ghana | D57: GHA | F57: =IF(G57<>" "," ",'enter-data'!C81) | G57: ='enter-data'!D81 -> 0 | H57: ='enter-data'!E81 -> 0 | I57: =IF(ISERROR(VLOOKUP(H57,B57:C196,2,FALSE)),"",ISERROR(VLOOKUP(H57,B57:C196,2,FALSE))) | J57: ='enter-data'!F81 -> 0 | L57: FIOS | M57: Female Individual Overall Silver | O57: PLE | P57: Palestine
A58: 56 | B58: GRE | C58: Greece | D58: GRE | F58: =IF(G58<>" "," ",'enter-data'!C82) | G58: ='enter-data'!D82 -> 0 | H58: ='enter-data'!E82 -> 0 | I58: =IF(ISERROR(VLOOKUP(H58,B58:C197,2,FALSE)),"",ISERROR(VLOOKUP(H58,B58:C197,2,FALSE))) | J58: ='enter-data'!F82 -> 0 | L58: FIOB | M58: Female Individual Overall Bronze | O58: PAN | P58: Panama
A59: 57 | B59: GUA | C59: Guatemala | D59: GUA | F59: =IF(G59<>" "," ",'enter-data'!C83) | G59: ='enter-data'!D83 -> 0 | H59: ='enter-data'!E83 -> 0 | I59: =IF(ISERROR(VLOOKUP(H59,B59:C198,2,FALSE)),"",ISERROR(VLOOKUP(H59,B59:C198,2,FALSE))) | J59: ='enter-data'!F83 -> 0 | L59: FTAG | M59: Female Team Accuracy Gold | O59: PAR | P59: Paraguay
A60: 58 | B60: GUI | C60: Guinea | D60: GUI | F60: =IF(G60<>" "," ",'enter-data'!C84) | G60: ='enter-data'!D84 -> 0 | H60: ='enter-data'!E84 -> 0 | I60: =IF(ISERROR(VLOOKUP(H60,B60:C199,2,FALSE)),"",ISERROR(VLOOKUP(H60,B60:C199,2,FALSE))) | J60: ='enter-data'!F84 -> 0 | L60: FTAS | M60: Female Team Accuracy Silver | O60: PER | P60: Peru
A61: 59 | B61: GBS | C61: Guinea-Bissau | D61: GBS | F61: =IF(G61<>" "," ",'enter-data'!C85) | G61: ='enter-data'!D85 -> 0 | H61: ='enter-data'!E85 -> 0 | I61: =IF(ISERROR(VLOOKUP(H61,B61:C200,2,FALSE)),"",ISERROR(VLOOKUP(H61,B61:C200,2,FALSE))) | J61: ='enter-data'!F85 -> 0 | L61: FTAB | M61: Female Team Accuracy Bronze | O61: PHI | P61: Philippines
... A76: 74 | B76: KUW | C76: Kuwait | D76: KUW | F76: =IF(G76<>" "," ",'enter-data'!C100) | G76: ='enter-data'!D100 -> 0 | H76: ='enter-data'!E100 -> 0 | I76: =IF(ISERROR(VLOOKUP(H76,B76:C215,2,FALSE)),"",ISERROR(VLOOKUP(H76,B76:C215,2,FALSE))) | J76: ='enter-data'!F100 -> 0 | L76: FJOB | M76: Female Junior Overall Bronze | O76: SUI | P76: Switzerland
A77: 75 | B77: LES | C77: Lesotho | D77: LES | O77: SYR | P77: Syria
A78: 76 | B78: LAT | C78: Latvia | D78: LAT | O78: THA | P78: Thailand
A79: 77 | B79: LBN | C79: Lebanon | D79: LBN | O79: TOG | P79: Togo
A80: 78 | B80: LBA | C80: Libya | D80: LBA | O80: TUN | P80: Tunisia
A81: 79 | B81: LTU | C81: Lithuania | D81: LTU | O81: TUR | P81: Turkey
A82: 80 | B82: LUX | C82: Luxembourg | D82: LUX | O82: UKR | P82: Ukraine
A83: 81 | B83: MKD | C83: North Macedonia | D83: MKD | O83: UAE | P83: Un. Arab Emirates
A84: 82 | B84: MAD | C84: Madagascar | D84: MAD | O84: USA | P84: Un.States of America
A85: 83 | B85: MAW | C85: Malawi | D85: MAW | O85: URU | P85: Uruguay
A86: 84 | B86: MLI | C86: Mali | D86: MLI | O86: UZB | P86: Uzbekistan
A87: 85 | B87: MLT | C87: Malta | D87: MLT | O87: VEN | P87: Venezuela
A88: 86 | B88: MAR | C88: Morocco | D88: MAR | O88: VIE | P88: Vietnam
... A90: 88 | B90: MON | C90: Monaco | D90: MON | O90: ZIM | P90: Zimbabwe
A91: 89 | B91: MGL | C91: Mongolia | D91: MGL | O91: 0
A92: 90 | B92: MNE | C92: Montenegro | D92: MNE | O92: 0
A93: 91 | B93: MOZ | C93: Mozambique | D93: MOZ | O93: 0
A94: 92 | B94: MYA | C94: Myanmar | D94: MYA
A95: 93 | B95: NAM | C95: Namibia | D95: NAM
A96: 94 | B96: NEP | C96: Nepal | D96: NEP
A97: 95 | B97: NIG | C97: Niger | D97: NIG
A98: 96 | B98: NGR | C98: Nigeria | D98: NGR
A99: 97 | B99: NOR | C99: Norway | D99: NOR
A100: 98 | B100: OMA | C100: Oman | D100: OMA
A101: 99 | B101: UGA | C101: Uganda | D101: UGA
A102: 100 | B102: UZB | C102: Uzbekistan | D102: UZB
A103: 101 | B103: PAK | C103: Pakistan | D103: PAK
A104: 102 | B104: PLE | C104: Palestine | D104: PLE
A105: 103 | B105: PAR | C105: Paraguay | D105: PAR
... A142: 140 | B142: ZIM | C142: Zimbabwe | D142: ZIM

Sheet O
C1: C I S M M E D A L T A B L E | Q1: Back to selection
C2: PARACHUTING
C3: ALL WMPC | F3: FROM | H3: =SMALL('enter-data'!C8:C94,1) -> 1964 | J3: TO | K3: =LARGE('enter-data'!C8:C94,1) -> 2022
G7: GOLD | I7: SILVER | K7: BRONZE | M7: TOTAL
B9: ALL DISCIPLINES | G9: =SUM(G10:H18) -> 488 | I9: =SUM(I10:J18) -> 473 | K9: =SUM(K10:L18) -> 481 | M9: =SUM(M10:N18) -> 1442
A10: TOTAL | B10: INDIVIDUAL ACCURACY | G10: =G21+G32 -> 87 | I10: =I21+I32 -> 72 | K10: =K21+K32 -> 82 | M10: =SUM(G10:L10) -> 241
B11: INDIVIDUAL STYLE | G11: =G22+G33 -> 72 | I11: =I22+I33 -> 72 | K11: =K22+K33 -> 72 | M11: =SUM(G11:L11) -> 216
B12: INDIVIDUAL OVERALL | G12: =G23+G34 -> 72 | I12: =I23+I34 -> 72 | K12: =K23+K34 -> 72 | M12: =SUM(G12:L12) -> 216
B13: TEAM ACCURACY | G13: =G24+G35 -> 75 | I13: =I24+I35 -> 74 | K13: =K24+K35 -> 73 | M13: =SUM(G13:L13) -> 222
B14: FORMATION SKYDIVE | G14: =G25+G36 -> 62 | I14: =I25+I36 -> 62 | K14: =K25+K36 -> 61 | M14: =SUM(G14:L14) -> 185
B15: TEAM OVERALL | G15: =G26+G37 -> 72 | I15: =I26+I37 -> 72 | K15: =K26+K37 -> 74 | M15: =SUM(G15:L15) -> 218
B16: JUNIOR ACCURACY | G16: =G27+G38 -> 18 | I16: =I27+I38 -> 18 | K16: =K27+K38 -> 18 | M16: =SUM(G16:L16) -> 54
B17: JUNIOR STYLE | G17: =G28+G39 -> 15 | I17: =I28+I39 -> 16 | K17: =K28+K39 -> 14 | M17: =SUM(G17:L17) -> 45
B18: JUNIOR OVERALL | G18: =G29+G40 -> 15 | I18: =I29+I40 -> 15 | K18: =K29+K40 -> 15 | M18: =SUM(G18:L18) -> 45
B20: TOTAL MALE | G20: =SUM(G21:H29) -> 292 | I20: =SUM(I21:J29) -> 276 | K20: =SUM(K21:L29) -> 286 | M20: =SUM(M21:N29) -> 854
A21: MALE / MIX | B21: INDIVIDUAL ACCURACY | G21: ='enter-data'!G$2 -> 56 | I21: ='enter-data'!H$2 -> 41 | K21: ='enter-data'!I$2 -> 51 | M21: =SUM(G21:L21) -> 148
B22: INDIVIDUAL STYLE | G22: ='enter-data'!J$2 -> 43 | I22: ='enter-data'!K$2 -> 43 | K22: ='enter-data'!L$2 -> 43 | M22: =SUM(G22:L22) -> 129
B23: INDIVIDUAL OVERALL | G23: ='enter-data'!M$2 -> 43 | I23: ='enter-data'!N$2 -> 43 | K23: ='enter-data'!O$2 -> 43 | M23: =SUM(G23:L23) -> 129
B24: TEAM ACCURACY | G24: ='enter-data'!P$2 -> 46 | I24: ='enter-data'!Q$2 -> 45 | K24: ='enter-data'!R$2 -> 44 | M24: =SUM(G24:L24) -> 135
B25: FORMATION SKYDIVE | G25: ='enter-data'!S$2 -> 34 | I25: ='enter-data'!T$2 -> 34 | K25: ='enter-data'!U$2 -> 34 | M25: =SUM(G25:L25) -> 102
B26: TEAM OVERALL | G26: ='enter-data'!V$2 -> 45 | I26: ='enter-data'!W$2 -> 45 | K26: ='enter-data'!X$2 -> 46 | M26: =SUM(G26:L26) -> 136
B27: JUNIOR ACCURACY | G27: ='enter-data'!Y$2 -> 9 | I27: ='enter-data'!Z$2 -> 9 | K27: ='enter-data'!AA$2 -> 9 | M27: =SUM(G27:L27) -> 27
B28: JUNIOR STYLE | G28: ='enter-data'!AB$2 -> 8 | I28: ='enter-data'!AC$2 -> 8 | K28: ='enter-data'!AD$2 -> 8 | M28: =SUM(G28:L28) -> 24
B29: JUNIOR OVERALL | G29: ='enter-data'!AE$2 -> 8 | I29: ='enter-data'!AF$2 -> 8 | K29: ='enter-data'!AG$2 -> 8 | M29: =SUM(G29:L29) -> 24
B31: TOTAL FEMALE | G31: =SUM(G32:H40) -> 196 | I31: =SUM(I32:J40) -> 197 | K31: =SUM(K32:L40) -> 195 | M31: =SUM(M32:N40) -> 588
A32: FEMALE | B32: INDIVIDUAL ACCURACY | G32: ='enter-data'!AI$2 -> 31 | I32: ='enter-data'!AJ$2 -> 31 | K32: ='enter-data'!AK$2 -> 31 | M32: =SUM(G32:L32) -> 93
B33: INDIVIDUAL STYLE | G33: ='enter-data'!AL$2 -> 29 | I33: ='enter-data'!AM$2 -> 29 | K33: ='enter-data'!AN$2 -> 29 | M33: =SUM(G33:L33) -> 87
B34: INDIVIDUAL OVERALL | G34: ='enter-data'!AO$2 -> 29 | I34: ='enter-data'!AP$2 -> 29 | K34: ='enter-data'!AQ$2 -> 29 | M34: =SUM(G34:L34) -> 87
B35: TEAM ACCURACY | G35: ='enter-data'!AR$2 -> 29 | I35: ='enter-data'!AS$2 -> 29 | K35: ='enter-data'!AT$2 -> 29 | M35: =SUM(G35:L35) -> 87
B36: FORMATION SKYDIVE | G36: ='enter-data'!AU$2 -> 28 | I36: ='enter-data'!AV$2 -> 28 | K36: ='enter-data'!AW$2 -> 27 | M36: =SUM(G36:L36) -> 83
B37: TEAM OVERALL | G37: ='enter-data'!AX$2 -> 27 | I37: ='enter-data'!AY$2 -> 27 | K37: ='enter-data'!AZ$2 -> 28 | M37: =SUM(G37:L37) -> 82
B38: JUNIOR ACCURACY | G38: ='enter-data'!BA$2 -> 9 | I38: ='enter-data'!BB$2 -> 9 | K38: ='enter-data'!BC$2 -> 9 | M38: =SUM(G38:L38) -> 27
B39: JUNIOR STYLE | G39: ='enter-data'!BD$2 -> 7 | I39: ='enter-data'!BE$2 -> 8 | K39: ='enter-data'!BF$2 -> 6 | M39: =SUM(G39:L39) -> 21
B40: JUNIOR OVERALL | G40: ='enter-data'!BG$2 -> 7 | I40: ='enter-data'!BH$2 -> 7 | K40: ='enter-data'!BI$2 -> 7 | M40: =SUM(G40:L40) -> 21
A42: T O P 5 N A T I O N S
A44: RANK | B44: COUNTRY | G44: GOLD | I44: SILVER | K44: BRONZE | M44: TOTAL
A46: 1. | B46: ='calc.rank'!A3 -> FRA | D46: ='calc.rank'!C3 -> France | G46: ='calc.rank'!E3 -> 109 | I46: ='calc.rank'!H3 -> 105 | K46: ='calc.rank'!K3 -> 100 | M46: =SUM(G46:L46) -> 314 | P46: =G46+I46+K46 -> 314
A47: 2. | B47: ='calc.rank'!A4 -> RUS | D47: ='calc.rank'!C4 -> Russia | G47: ='calc.rank'!E4 -> 91 | I47: ='calc.rank'!H4 -> 73 | K47: ='calc.rank'!K4 -> 59 | M47: =SUM(G47:L47) -> 223 | P47: =G47+I47+K47 -> 223
A48: 3. | B48: ='calc.rank'!A5 -> USA | D48: ='calc.rank'!C5 -> Un. States of America | G48: ='calc.rank'!E5 -> 71 | I48: ='calc.rank'!H5 -> 64 | K48: ='calc.rank'!K5 -> 52 | M48: =SUM(G48:L48) -> 187 | P48: =G48+I48+K48 -> 187
A49: 4. | B49: ='calc.rank'!A6 -> GER | D49: ='calc.rank'!C6 -> Germany | G49: ='calc.rank'!E6 -> 58 | I49: ='calc.rank'!H6 -> 51 | K49: ='calc.rank'!K6 -> 49 | M49: =SUM(G49:L49) -> 158 | P49: =G49+I49+K49 -> 158
A50: 5. | B50: ='calc.rank'!A7 -> CHN | D50: ='calc.rank'!C7 -> China | G50: ='calc.rank'!E7 -> 45 | I50: ='calc.rank'!H7 -> 35 | K50: ='calc.rank'!K7 -> 36 | M50: =SUM(G50:L50) -> 116 | P50: =G50+I50+K50 -> 116

Sheet calc.rank
A1: NATION | C1: DISZIPLINEN | E1: TG | F1: MG | G1: FG | H1: TS | I1: MS | J1: FS | K1: TB | L1: MB | M1: FB | N1: TT | O1: TM | P1: TF | R1: MIAG | S1: MIAS | T1: MIAB | U1: MISG | V1: MISS | W1: MISB | X1: MIOG | Y1: MIOS | Z1: MIOB | AA1: MTAG | AB1: MTAS | AC1: MTAB | AD1: MFSG | AE1: MFSS | AF1: MFSB | AG1: MTOG | AH1: MTOS | AI1: MTOB | AJ1: MJAG | AK1: MJAS | AL1: MJAB | AM1: MJSG | AN1: MJSS | AO1: MJSB | AP1: MJOG | AQ1: MJOS | AR1: MJOB | AT1: FIAG | AU1: FIAS | AV1: FIAB | AW1: FISG | AX1: FISS | AY1: FISB | AZ1: FIOG | BA1: FIOS | BB1: FIOB | BC1: FTAG | BD1: FTAS | BE1: FTAB | BF1: FFSG | BG1: FFSS | BH1: FFSB | BI1: FTOG | BJ1: FTOS | BK1: FTOB | BL1: FJAG | BM1: FJAS | BN1: FJAB | BO1: FJSG | BP1: FJSS | BQ1: FJSB | BR1: FJOG | BS1: FJOS | BT1: FJOB
C2: TOTAL | E2: =F2+G2 -> 488 | F2: =R2+U2+X2+AA2+AD2+AG2+AJ2+AM2+AP2 -> 292 | G2: =AT2+AW2+AZ2+BC2+BF2+BI2+BL2+BO2+BR2 -> 196 | H2: =I2+J2 -> 473 | I2: =S2+V2+Y2+AB2+AE2+AH2+AK2+AN2+AQ2 -> 276 | J2: =AU2+AX2+BA2+BD2+BG2+BJ2+BM2+BP2+BS2 -> 197 | K2: =L2+M2 -> 481 | L2: =T2+W2+Z2+AC2+AF2+AI2+AL2+AO2+AR2 -> 286 | M2: =AV2+AY2+BB2+BE2+BH2+BK2+BN2+BQ2+BT2 -> 195 | N2: =E2+H2+K2 -> 1442 | O2: =F2+I2+L2 -> 854 | P2: =G2+J2+M2 -> 588 | R2: =SUM(R3:R90) -> 56 | S2: =SUM(S3:S90) -> 41 | T2: =SUM(T3:T90) -> 51 | U2: =SUM(U3:U90) -> 43 | V2: =SUM(V3:V90) -> 43 | W2: =SUM(W3:W90) -> 43 | X2: =SUM(X3:X90) -> 43 | Y2: =SUM(Y3:Y90) -> 43 | ... AR2: =SUM(AR3:AR90) -> 8 | AT2: =SUM(AT3:AT90) -> 31 | AU2: =SUM(AU3:AU90) -> 31 | AV2: =SUM(AV3:AV90) -> 31 | AW2: =SUM(AW3:AW90) -> 29 | AX2: =SUM(AX3:AX90) -> 29 | AY2: =SUM(AY3:AY90) -> 29 | AZ2: =SUM(AZ3:AZ90) -> 29 | BA2: =SUM(BA3:BA90) -> 29 | ... BT2: =SUM(BT3:BT90) -> 7
A3: FRA | C3: France | E3: =F3+G3 -> 109 | F3: =R3+U3+X3+AA3+AD3+AG3+AJ3+AM3+AP3 -> 78 | G3: =AT3+AW3+AZ3+BC3+BF3+BI3+BL3+BO3+BR3 -> 31 | H3: =I3+J3 -> 105 | I3: =S3+V3+Y3+AB3+AE3+AH3+AK3+AN3+AQ3 -> 67 | J3: =AU3+AX3+BA3+BD3+BG3+BJ3+BM3+BP3+BS3 -> 38 | K3: =L3+M3 -> 100 | L3: =T3+W3+Z3+AC3+AF3+AI3+AL3+AO3+AR3 -> 65 | M3: =AV3+AY3+BB3+BE3+BH3+BK3+BN3+BQ3+BT3 -> 35 | N3: =E3+H3+K3 -> 314 | O3: =F3+I3+L3 -> 210 | P3: =G3+J3+M3 -> 104 | R3: =COUNTIF('enter-data'!G$8:G$94,'calc.rank'!$A3) -> 7 | S3: =COUNTIF('enter-data'!H$8:H$94,'calc.rank'!$A3) -> 10 | T3: =COUNTIF('enter-data'!I$8:I$94,'calc.rank'!$A3) -> 11 | U3: =COUNTIF('enter-data'!J$8:J$94,'calc.rank'!$A3) -> 22 | V3: =COUNTIF('enter-data'!K$8:K$94,'calc.rank'!$A3) -> 19 | W3: =COUNTIF('enter-data'!L$8:L$94,'calc.rank'!$A3) -> 21 | X3: =COUNTIF('enter-data'!M$8:M$94,'calc.rank'!$A3) -> 21 | Y3: =COUNTIF('enter-data'!N$8:N$94,'calc.rank'!$A3) -> 17 | ... AR3: =COUNTIF('enter-data'!AG$8:AG$94,'calc.rank'!$A3) -> 1 | AT3: =COUNTIF('enter-data'!AI$8:AI$94,'calc.rank'!$A3) -> 6 | AU3: =COUNTIF('enter-data'!AJ$8:AJ$94,'calc.rank'!$A3) -> 2 | AV3: =COUNTIF('enter-data'!AK$8:AK$94,'calc.rank'!$A3) -> 5 | AW3: =COUNTIF('enter-data'!AL$8:AL$94,'calc.rank'!$A3) -> 6 | AX3: =COUNTIF('enter-data'!AM$8:AM$94,'calc.rank'!$A3) -> 4 | AY3: =COUNTIF('enter-data'!AN$8:AN$94,'calc.rank'!$A3) -> 7 | AZ3: =COUNTIF('enter-data'!AO$8:AO$94,'calc.rank'!$A3) -> 5 | BA3: =COUNTIF('enter-data'!AP$8:AP$94,'calc.rank'!$A3) -> 7 | ... BT3: =COUNTIF('enter-data'!BI$8:BI$94,'calc.rank'!$A3) -> 1
A4: RUS | C4: Russia | E4: =F4+G4 -> 91 | F4: =R4+U4+X4+AA4+AD4+AG4+AJ4+AM4+AP4 -> 25 | G4: =AT4+AW4+AZ4+BC4+BF4+BI4+BL4+BO4+BR4 -> 66 | H4: =I4+J4 -> 73 | I4: =S4+V4+Y4+AB4+AE4+AH4+AK4+AN4+AQ4 -> 22 | J4: =AU4+AX4+BA4+BD4+BG4+BJ4+BM4+BP4+BS4 -> 51 | K4: =L4+M4 -> 59 | L4: =T4+W4+Z4+AC4+AF4+AI4+AL4+AO4+AR4 -> 24 | M4: =AV4+AY4+BB4+BE4+BH4+BK4+BN4+BQ4+BT4 -> 35 | N4: =E4+H4+K4 -> 223 | O4: =F4+I4+L4 -> 71 | P4: =G4+J4+M4 -> 152 | R4: =COUNTIF('enter-data'!G$8:G$94,'calc.rank'!$A4) -> 5 | S4: =COUNTIF('enter-data'!H$8:H$94,'calc.rank'!$A4) -> 2 | T4: =COUNTIF('enter-data'!I$8:I$94,'calc.rank'!$A4) -> 3 | U4: =COUNTIF('enter-data'!J$8:J$94,'calc.rank'!$A4) -> 3 | V4: =COUNTIF('enter-data'!K$8:K$94,'calc.rank'!$A4) -> 5 | W4: =COUNTIF('enter-data'!L$8:L$94,'calc.rank'!$A4) -> 7 | X4: =COUNTIF('enter-data'!M$8:M$94,'calc.rank'!$A4) -> 7 | Y4: =COUNTIF('enter-data'!N$8:N$94,'calc.rank'!$A4) -> 5 | ... AR4: =COUNTIF('enter-data'!AG$8:AG$94,'calc.rank'!$A4) -> 0 | AT4: =COUNTIF('enter-data'!AI$8:AI$94,'calc.rank'!$A4) -> 7 | AU4: =COUNTIF('enter-data'!AJ$8:AJ$94,'calc.rank'!$A4) -> 4 | AV4: =COUNTIF('enter-data'!AK$8:AK$94,'calc.rank'!$A4) -> 3 | AW4: =COUNTIF('enter-data'!AL$8:AL$94,'calc.rank'!$A4) -> 12 | AX4: =COUNTIF('enter-data'!AM$8:AM$94,'calc.rank'!$A4) -> 13 | AY4: =COUNTIF('enter-data'!AN$8:AN$94,'calc.rank'!$A4) -> 10 | AZ4: =COUNTIF('enter-data'!AO$8:AO$94,'calc.rank'!$A4) -> 10 | BA4: =COUNTIF('enter-data'!AP$8:AP$94,'calc.rank'!$A4) -> 8 | ... BT4: =COUNTIF('enter-data'!BI$8:BI$94,'calc.rank'!$A4) -> 3
A5: USA | C5: Un. States of America | E5: =F5+G5 -> 71 | F5: =R5+U5+X5+AA5+AD5+AG5+AJ5+AM5+AP5 -> 40 | G5: =AT5+AW5+AZ5+BC5+BF5+BI5+BL5+BO5+BR5 -> 31 | H5: =I5+J5 -> 64 | I5: =S5+V5+Y5+AB5+AE5+AH5+AK5+AN5+AQ5 -> 32 | J5: =AU5+AX5+BA5+BD5+BG5+BJ5+BM5+BP5+BS5 -> 32 | K5: =L5+M5 -> 52 | L5: =T5+W5+Z5+AC5+AF5+AI5+AL5+AO5+AR5 -> 29 | M5: =AV5+AY5+BB5+BE5+BH5+BK5+BN5+BQ5+BT5 -> 23 | N5: =E5+H5+K5 -> 187 | O5: =F5+I5+L5 -> 101 | P5: =G5+J5+M5 -> 86 | R5: =COUNTIF('enter-data'!G$8:G$94,'calc.rank'!$A5) -> 12 | S5: =COUNTIF('enter-data'!H$8:H$94,'calc.rank'!$A5) -> 4 | T5: =COUNTIF('enter-data'!I$8:I$94,'calc.rank'!$A5) -> 5 | U5: =COUNTIF('enter-data'!J$8:J$94,'calc.rank'!$A5) -> 4 | V5: =COUNTIF('enter-data'!K$8:K$94,'calc.rank'!$A5) -> 7 | W5: =COUNTIF('enter-data'!L$8:L$94,'calc.rank'!$A5) -> 7 | X5: =COUNTIF('enter-data'!M$8:M$94,'calc.rank'!$A5) -> 4 | Y5: =COUNTIF('enter-data'!N$8:N$94,'calc.rank'!$A5) -> 7 | ... AR5: =COUNTIF('enter-data'!AG$8:AG$94,'calc.rank'!$A5) -> 0 | AT5: =COUNTIF('enter-data'!AI$8:AI$94,'calc.rank'!$A5) -> 4 | AU5: =COUNTIF('enter-data'!AJ$8:AJ$94,'calc.rank'!$A5) -> 6 | AV5: =COUNTIF('enter-data'!AK$8:AK$94,'calc.rank'!$A5) -> 8 | AW5: =COUNTIF('enter-data'!AL$8:AL$94,'calc.rank'!$A5) -> 5 | AX5: =COUNTIF('enter-data'!AM$8:AM$94,'calc.rank'!$A5) -> 6 | AY5: =COUNTIF('enter-data'!AN$8:AN$94,'calc.rank'!$A5) -> 1 | AZ5: =COUNTIF('enter-data'!AO$8:AO$94,'calc.rank'!$A5) -> 7 | BA5: =COUNTIF('enter-data'!AP$8:AP$94,'calc.rank'!$A5) -> 7 | ... BT5: =COUNTIF('enter-data'!BI$8:BI$94,'calc.rank'!$A5) -> 0
A6: GER | C6: Germany | E6: =F6+G6 -> 58 | F6: =R6+U6+X6+AA6+AD6+AG6+AJ6+AM6+AP6 -> 51 | G6: =AT6+AW6+AZ6+BC6+BF6+BI6+BL6+BO6+BR6 -> 7 | H6: =I6+J6 -> 51 | I6: =S6+V6+Y6+AB6+AE6+AH6+AK6+AN6+AQ6 -> 44 | J6: =AU6+AX6+BA6+BD6+BG6+BJ6+BM6+BP6+BS6 -> 7 | K6: =L6+M6 -> 49 | L6: =T6+W6+Z6+AC6+AF6+AI6+AL6+AO6+AR6 -> 42 | M6: =AV6+AY6+BB6+BE6+BH6+BK6+BN6+BQ6+BT6 -> 7 | N6: =E6+H6+K6 -> 158 | O6: =F6+I6+L6 -> 137 | P6: =G6+J6+M6 -> 21 | R6: =COUNTIF('enter-data'!G$8:G$94,'calc.rank'!$A6) -> 9 | S6: =COUNTIF('enter-data'!H$8:H$94,'calc.rank'!$A6) -> 6 | T6: =COUNTIF('enter-data'!I$8:I$94,'calc.rank'!$A6) -> 4 | U6: =COUNTIF('enter-data'!J$8:J$94,'calc.rank'!$A6) -> 10 | V6: =COUNTIF('enter-data'!K$8:K$94,'calc.rank'!$A6) -> 6 | W6: =COUNTIF('enter-data'!L$8:L$94,'calc.rank'!$A6) -> 3 | X6: =COUNTIF('enter-data'!M$8:M$94,'calc.rank'!$A6) -> 8 | Y6: =COUNTIF('enter-data'!N$8:N$94,'calc.rank'!$A6) -> 7 | ... AR6: =COUNTIF('enter-data'!AG$8:AG$94,'calc.rank'!$A6) -> 1 | AT6: =COUNTIF('enter-data'!AI$8:AI$94,'calc.rank'!$A6) -> 1 | AU6: =COUNTIF('enter-data'!AJ$8:AJ$94,'calc.rank'!$A6) -> 0 | AV6: =COUNTIF('enter-data'!AK$8:AK$94,'calc.rank'!$A6) -> 0 | AW6: =COUNTIF('enter-data'!AL$8:AL$94,'calc.rank'!$A6) -> 1 | AX6: =COUNTIF('enter-data'!AM$8:AM$94,'calc.rank'!$A6) -> 3 | AY6: =COUNTIF('enter-data'!AN$8:AN$94,'calc.rank'!$A6) -> 2 | AZ6: =COUNTIF('enter-data'!AO$8:AO$94,'calc.rank'!$A6) -> 2 | BA6: =COUNTIF('enter-data'!AP$8:AP$94,'calc.rank'!$A6) -> 0 | ... BT6: =COUNTIF('enter-data'!BI$8:BI$94,'calc.rank'!$A6) -> 2
A7: CHN | C7: China | E7: =F7+G7 -> 45 | F7: =R7+U7+X7+AA7+AD7+AG7+AJ7+AM7+AP7 -> 17 | G7: =AT7+AW7+AZ7+BC7+BF7+BI7+BL7+BO7+BR7 -> 28 | H7: =I7+J7 -> 35 | I7: =S7+V7+Y7+AB7+AE7+AH7+AK7+AN7+AQ7 -> 17 | J7: =AU7+AX7+BA7+BD7+BG7+BJ7+BM7+BP7+BS7 -> 18 | K7: =L7+M7 -> 36 | L7: =T7+W7+Z7+AC7+AF7+AI7+AL7+AO7+AR7 -> 15 | M7: =AV7+AY7+BB7+BE7+BH7+BK7+BN7+BQ7+BT7 -> 21 | N7: =E7+H7+K7 -> 116 | O7: =F7+I7+L7 -> 49 | P7: =G7+J7+M7 -> 67 | R7: =COUNTIF('enter-data'!G$8:G$94,'calc.rank'!$A7) -> 1 | S7: =COUNTIF('enter-data'!H$8:H$94,'calc.rank'!$A7) -> 2 | T7: =COUNTIF('enter-data'!I$8:I$94,'calc.rank'!$A7) -> 3 | U7: =COUNTIF('enter-data'!J$8:J$94,'calc.rank'!$A7) -> 0 | V7: =COUNTIF('enter-data'!K$8:K$94,'calc.rank'!$A7) -> 0 | W7: =COUNTIF('enter-data'!L$8:L$94,'calc.rank'!$A7) -> 0 | X7: =COUNTIF('enter-data'!M$8:M$94,'calc.rank'!$A7) -> 0 | Y7: =COUNTIF('enter-data'!N$8:N$94,'calc.rank'!$A7) -> 1 | ... AR7: =COUNTIF('enter-data'!AG$8:AG$94,'calc.rank'!$A7) -> 3 | AT7: =COUNTIF('enter-data'!AI$8:AI$94,'calc.rank'!$A7) -> 8 | AU7: =COUNTIF('enter-data'!AJ$8:AJ$94,'calc.rank'!$A7) -> 3 | AV7: =COUNTIF('enter-data'!AK$8:AK$94,'calc.rank'!$A7) -> 5 | AW7: =COUNTIF('enter-data'!AL$8:AL$94,'calc.rank'!$A7) -> 1 | AX7: =COUNTIF('enter-data'!AM$8:AM$94,'calc.rank'!$A7) -> 0 | AY7: =COUNTIF('enter-data'!AN$8:AN$94,'calc.rank'!$A7) -> 0 | AZ7: =COUNTIF('enter-data'!AO$8:AO$94,'calc.rank'!$A7) -> 1 | BA7: =COUNTIF('enter-data'!AP$8:AP$94,'calc.rank'!$A7) -> 2 | ... BT7: =COUNTIF('enter-data'!BI$8:BI$94,'calc.rank'!$A7) -> 1
A8: BEL | C8: Belgium | E8: =F8+G8 -> 23 | F8: =R8+U8+X8+AA8+AD8+AG8+AJ8+AM8+AP8 -> 23 | G8: =AT8+AW8+AZ8+BC8+BF8+BI8+BL8+BO8+BR8 -> 0 | H8: =I8+J8 -> 5 | I8: =S8+V8+Y8+AB8+AE8+AH8+AK8+AN8+AQ8 -> 5 | J8: =AU8+AX8+BA8+BD8+BG8+BJ8+BM8+BP8+BS8 -> 0 | K8: =L8+M8 -> 4 | L8: =T8+W8+Z8+AC8+AF8+AI8+AL8+AO8+AR8 -> 4 | M8: =AV8+AY8+BB8+BE8+BH8+BK8+BN8+BQ8+BT8 -> 0 | N8: =E8+H8+K8 -> 32 | O8: =F8+I8+L8 -> 32 | P8: =G8+J8+M8 -> 0 | R8: =COUNTIF('enter-data'!G$8:G$94,'calc.rank'!$A8) -> 3 | S8: =COUNTIF('enter-data'!H$8:H$94,'calc.rank'!$A8) -> 1 | T8: =COUNTIF('enter-data'!I$8:I$94,'calc.rank'!$A8) -> 0 | U8: =COUNTIF('enter-data'!J$8:J$94,'calc.rank'!$A8) -> 0 | V8: =COUNTIF('enter-data'!K$8:K$94,'calc.rank'!$A8) -> 0 | W8: =COUNTIF('enter-data'!L$8:L$94,'calc.rank'!$A8) -> 0 | X8: =COUNTIF('enter-data'!M$8:M$94,'calc.rank'!$A8) -> 0 | Y8: =COUNTIF('enter-data'!N$8:N$94,'calc.rank'!$A8) -> 0 | ... AR8: =COUNTIF('enter-data'!AG$8:AG$94,'calc.rank'!$A8) -> 0 | AT8: =COUNTIF('enter-data'!AI$8:AI$94,'calc.rank'!$A8) -> 0 | AU8: =COUNTIF('enter-data'!AJ$8:AJ$94,'calc.rank'!$A8) -> 0 | AV8: =COUNTIF('enter-data'!AK$8:AK$94,'calc.rank'!$A8) -> 0 | AW8: =COUNTIF('enter-data'!AL$8:AL$94,'calc.rank'!$A8) -> 0 | AX8: =COUNTIF('enter-data'!AM$8:AM$94,'calc.rank'!$A8) -> 0 | AY8: =COUNTIF('enter-data'!AN$8:AN$94,'calc.rank'!$A8) -> 0 | AZ8: =COUNTIF('enter-data'!AO$8:AO$94,'calc.rank'!$A8) -> 0 | BA8: =COUNTIF('enter-data'!AP$8:AP$94,'calc.rank'!$A8) -> 0 | ... BT8: =COUNTIF('enter-data'!BI$8:BI$94,'calc.rank'!$A8) -> 0
A9: BLR | C9: Belarus | E9: =F9+G9 -> 16 | F9: =R9+U9+X9+AA9+AD9+AG9+AJ9+AM9+AP9 -> 4 | G9: =AT9+AW9+AZ9+BC9+BF9+BI9+BL9+BO9+BR9 -> 12 | H9: =I9+J9 -> 26 | I9: =S9+V9+Y9+AB9+AE9+AH9+AK9+AN9+AQ9 -> 8 | J9: =AU9+AX9+BA9+BD9+BG9+BJ9+BM9+BP9+BS9 -> 18 | K9: =L9+M9 -> 28 | L9: =T9+W9+Z9+AC9+AF9+AI9+AL9+AO9+AR9 -> 6 | M9: =AV9+AY9+BB9+BE9+BH9+BK9+BN9+BQ9+BT9 -> 22 | N9: =E9+H9+K9 -> 70 | O9: =F9+I9+L9 -> 18 | P9: =G9+J9+M9 -> 52 | R9: =COUNTIF('enter-data'!G$8:G$94,'calc.rank'!$A9) -> 0 | S9: =COUNTIF('enter-data'!H$8:H$94,'calc.rank'!$A9) -> 2 | T9: =COUNTIF('enter-data'!I$8:I$94,'calc.rank'!$A9) -> 1 | U9: =COUNTIF('enter-data'!J$8:J$94,'calc.rank'!$A9) -> 0 | V9: =COUNTIF('enter-data'!K$8:K$94,'calc.rank'!$A9) -> 0 | W9: =COUNTIF('enter-data'!L$8:L$94,'calc.rank'!$A9) -> 0 | X9: =COUNTIF('enter-data'!M$8:M$94,'calc.rank'!$A9) -> 1 | Y9: =COUNTIF('enter-data'!N$8:N$94,'calc.rank'!$A9) -> 0 | ... AR9: =COUNTIF('enter-data'!AG$8:AG$94,'calc.rank'!$A9) -> 1 | AT9: =COUNTIF('enter-data'!AI$8:AI$94,'calc.rank'!$A9) -> 1 | AU9: =COUNTIF('enter-data'!AJ$8:AJ$94,'calc.rank'!$A9) -> 4 | AV9: =COUNTIF('enter-data'!AK$8:AK$94,'calc.rank'!$A9) -> 5 | AW9: =COUNTIF('enter-data'!AL$8:AL$94,'calc.rank'!$A9) -> 0 | AX9: =COUNTIF('enter-data'!AM$8:AM$94,'calc.rank'!$A9) -> 1 | AY9: =COUNTIF('enter-data'!AN$8:AN$94,'calc.rank'!$A9) -> 2 | AZ9: =COUNTIF('enter-data'!AO$8:AO$94,'calc.rank'!$A9) -> 0 | BA9: =COUNTIF('enter-data'!AP$8:AP$94,'calc.rank'!$A9) -> 2 | ... BT9: =COUNTIF('enter-data'!BI$8:BI$94,'calc.rank'!$A9) -> 0
A10: CZE | C10: Czech Rep | E10: =F10+G10 -> 15 | F10: =R10+U10+X10+AA10+AD10+AG10+AJ10+AM10+AP10 -> 15 | G10: =AT10+AW10+AZ10+BC10+BF10+BI10+BL10+BO10+BR10 -> 0 | H10: =I10+J10 -> 26 | I10: =S10+V10+Y10+AB10+AE10+AH10+AK10+AN10+AQ10 -> 26 | J10: =AU10+AX10+BA10+BD10+BG10+BJ10+BM10+BP10+BS10 -> 0 | K10: =L10+M10 -> 15 | L10: =T10+W10+Z10+AC10+AF10+AI10+AL10+AO10+AR10 -> 15 | M10: =AV10+AY10+BB10+BE10+BH10+BK10+BN10+BQ10+BT10 -> 0 | N10: =E10+H10+K10 -> 56 | O10: =F10+I10+L10 -> 56 | P10: =G10+J10+M10 -> 0 | R10: =COUNTIF('enter-data'!G$8:G$94,'calc.rank'!$A10) -> 2 | S10: =COUNTIF('enter-data'!H$8:H$94,'calc.rank'!$A10) -> 3 | T10: =COUNTIF('enter-data'!I$8:I$94,'calc.rank'!$A10) -> 3 | U10: =COUNTIF('enter-data'!J$8:J$94,'calc.rank'!$A10) -> 4 | V10: =COUNTIF('enter-data'!K$8:K$94,'calc.rank'!$A10) -> 6 | W10: =COUNTIF('enter-data'!L$8:L$94,'calc.rank'!$A10) -> 1 | X10: =COUNTIF('enter-data'!M$8:M$94,'calc.rank'!$A10) -> 1 | Y10: =COUNTIF('enter-data'!N$8:N$94,'calc.rank'!$A10) -> 4 | ... AR10: =COUNTIF('enter-data'!AG$8:AG$94,'calc.rank'!$A10) -> 1 | AT10: =COUNTIF('enter-data'!AI$8:AI$94,'calc.rank'!$A10) -> 0 | AU10: =COUNTIF('enter-data'!AJ$8:AJ$94,'calc.rank'!$A10) -> 0 | AV10: =COUNTIF('enter-data'!AK$8:AK$94,'calc.rank'!$A10) -> 0 | AW10: =COUNTIF('enter-data'!AL$8:AL$94,'calc.rank'!$A10) -> 0 | AX10: =COUNTIF('enter-data'!AM$8:AM$94,'calc.rank'!$A10) -> 0 | AY10: =COUNTIF('enter-data'!AN$8:AN$94,'calc.rank'!$A10) -> 0 | AZ10: =COUNTIF('enter-data'!AO$8:AO$94,'calc.rank'!$A10) -> 0 | BA10: =COUNTIF('enter-data'!AP$8:AP$94,'calc.rank'!$A10) -> 0 | ... BT10: =COUNTIF('enter-data'!BI$8:BI$94,'calc.rank'!$A10) -> 0
A11: AUT | C11: Austria | E11: =F11+G11 -> 12 | F11: =R11+U11+X11+AA11+AD11+AG11+AJ11+AM11+AP11 -> 9 | G11: =AT11+AW11+AZ11+BC11+BF11+BI11+BL11+BO11+BR11 -> 3 | H11: =I11+J11 -> 6 | I11: =S11+V11+Y11+AB11+AE11+AH11+AK11+AN11+AQ11 -> 6 | J11: =AU11+AX11+BA11+BD11+BG11+BJ11+BM11+BP11+BS11 -> 0 | K11: =L11+M11 -> 15 | L11: =T11+W11+Z11+AC11+AF11+AI11+AL11+AO11+AR11 -> 15 | M11: =AV11+AY11+BB11+BE11+BH11+BK11+BN11+BQ11+BT11 -> 0 | N11: =E11+H11+K11 -> 33 | O11: =F11+I11+L11 -> 30 | P11: =G11+J11+M11 -> 3 | R11: =COUNTIF('enter-data'!G$8:G$94,'calc.rank'!$A11) -> 4 | S11: =COUNTIF('enter-data'!H$8:H$94,'calc.rank'!$A11) -> 1 | T11: =COUNTIF('enter-data'!I$8:I$94,'calc.rank'!$A11) -> 4 | U11: =COUNTIF('enter-data'!J$8:J$94,'calc.rank'!$A11) -> 0 | V11: =COUNTIF('enter-data'!K$8:K$94,'calc.rank'!$A11) -> 0 | W11: =COUNTIF('enter-data'!L$8:L$94,'calc.rank'!$A11) -> 1 | X11: =COUNTIF('enter-data'!M$8:M$94,'calc.rank'!$A11) -> 0 | Y11: =COUNTIF('enter-data'!N$8:N$94,'calc.rank'!$A11) -> 0 | ... AR11: =COUNTIF('enter-data'!AG$8:AG$94,'calc.rank'!$A11) -> 1 | AT11: =COUNTIF('enter-data'!AI$8:AI$94,'calc.rank'!$A11) -> 0 | AU11: =COUNTIF('enter-data'!AJ$8:AJ$94,'calc.rank'!$A11) -> 0 | AV11: =COUNTIF('enter-data'!AK$8:AK$94,'calc.rank'!$A11) -> 0 | AW11: =COUNTIF('enter-data'!AL$8:AL$94,'calc.rank'!$A11) -> 0 | AX11: =COUNTIF('enter-data'!AM$8:AM$94,'calc.rank'!$A11) -> 0 | AY11: =COUNTIF('enter-data'!AN$8:AN$94,'calc.rank'!$A11) -> 0 | AZ11: =COUNTIF('enter-data'!AO$8:AO$94,'calc.rank'!$A11) -> 0 | BA11: =COUNTIF('enter-data'!AP$8:AP$94,'calc.rank'!$A11) -> 0 | ... BT11: =COUNTIF('enter-data'!BI$8:BI$94,'calc.rank'!$A11) -> 0
A12: SLO | C12: Slovenia | E12: =F12+G12 -> 10 | F12: =R12+U12+X12+AA12+AD12+AG12+AJ12+AM12+AP12 -> 4 | G12: =AT12+AW12+AZ12+BC12+BF12+BI12+BL12+BO12+BR12 -> 6 | H12: =I12+J12 -> 19 | I12: =S12+V12+Y12+AB12+AE12+AH12+AK12+AN12+AQ12 -> 10 | J12: =AU12+AX12+BA12+BD12+BG12+BJ12+BM12+BP12+BS12 -> 9 | K12: =L12+M12 -> 13 | L12: =T12+W12+Z12+AC12+AF12+AI12+AL12+AO12+AR12 -> 8 | M12: =AV12+AY12+BB12+BE12+BH12+BK12+BN12+BQ12+BT12 -> 5 | N12: =E12+H12+K12 -> 42 | O12: =F12+I12+L12 -> 22 | P12: =G12+J12+M12 -> 20 | R12: =COUNTIF('enter-data'!G$8:G$94,'calc.rank'!$A12) -> 2 | S12: =COUNTIF('enter-data'!H$8:H$94,'calc.rank'!$A12) -> 3 | T12: =COUNTIF('enter-data'!I$8:I$94,'calc.rank'!$A12) -> 3 | U12: =COUNTIF('enter-data'!J$8:J$94,'calc.rank'!$A12) -> 0 | V12: =COUNTIF('enter-data'!K$8:K$94,'calc.rank'!$A12) -> 0 | W12: =COUNTIF('enter-data'!L$8:L$94,'calc.rank'!$A12) -> 1 | X12: =COUNTIF('enter-data'!M$8:M$94,'calc.rank'!$A12) -> 0 | Y12: =COUNTIF('enter-data'!N$8:N$94,'calc.rank'!$A12) -> 1 | ... AR12: =COUNTIF('enter-data'!AG$8:AG$94,'calc.rank'!$A12) -> 0 | AT12: =COUNTIF('enter-data'!AI$8:AI$94,'calc.rank'!$A12) -> 0 | AU12: =COUNTIF('enter-data'!AJ$8:AJ$94,'calc.rank'!$A12) -> 5 | AV12: =COUNTIF('enter-data'!AK$8:AK$94,'calc.rank'!$A12) -> 0 | AW12: =COUNTIF('enter-data'!AL$8:AL$94,'calc.rank'!$A12) -> 3 | AX12: =COUNTIF('enter-data'!AM$8:AM$94,'calc.rank'!$A12) -> 2 | AY12: =COUNTIF('enter-data'!AN$8:AN$94,'calc.rank'!$A12) -> 2 | AZ12: =COUNTIF('enter-data'!AO$8:AO$94,'calc.rank'!$A12) -> 3 | BA12: =COUNTIF('enter-data'!AP$8:AP$94,'calc.rank'!$A12) -> 2 | ... BT12: =COUNTIF('enter-data'!BI$8:BI$94,'calc.rank'!$A12) -> 0
A13: SUI | C13: Switzerland | E13: =F13+G13 -> 9 | F13: =R13+U13+X13+AA13+AD13+AG13+AJ13+AM13+AP13 -> 4 | G13: =AT13+AW13+AZ13+BC13+BF13+BI13+BL13+BO13+BR13 -> 5 | H13: =I13+J13 -> 10 | I13: =S13+V13+Y13+AB13+AE13+AH13+AK13+AN13+AQ13 -> 7 | J13: =AU13+AX13+BA13+BD13+BG13+BJ13+BM13+BP13+BS13 -> 3 | K13: =L13+M13 -> 30 | L13: =T13+W13+Z13+AC13+AF13+AI13+AL13+AO13+AR13 -> 16 | M13: =AV13+AY13+BB13+BE13+BH13+BK13+BN13+BQ13+BT13 -> 14 | N13: =E13+H13+K13 -> 49 | O13: =F13+I13+L13 -> 27 | P13: =G13+J13+M13 -> 22 | R13: =COUNTIF('enter-data'!G$8:G$94,'calc.rank'!$A13) -> 0 | S13: =COUNTIF('enter-data'!H$8:H$94,'calc.rank'!$A13) -> 0 | T13: =COUNTIF('enter-data'!I$8:I$94,'calc.rank'!$A13) -> 2 | U13: =COUNTIF('enter-data'!J$8:J$94,'calc.rank'!$A13) -> 0 | V13: =COUNTIF('enter-data'!K$8:K$94,'calc.rank'!$A13) -> 0 | W13: =COUNTIF('enter-data'!L$8:L$94,'calc.rank'!$A13) -> 0 | X13: =COUNTIF('enter-data'!M$8:M$94,'calc.rank'!$A13) -> 1 | Y13: =COUNTIF('enter-data'!N$8:N$94,'calc.rank'!$A13) -> 0 | ... AR13: =COUNTIF('enter-data'!AG$8:AG$94,'calc.rank'!$A13) -> 0 | AT13: =COUNTIF('enter-data'!AI$8:AI$94,'calc.rank'!$A13) -> 2 | AU13: =COUNTIF('enter-data'!AJ$8:AJ$94,'calc.rank'!$A13) -> 1 | AV13: =COUNTIF('enter-data'!AK$8:AK$94,'calc.rank'!$A13) -> 1 | AW13: =COUNTIF('enter-data'!AL$8:AL$94,'calc.rank'!$A13) -> 1 | AX13: =COUNTIF('enter-data'!AM$8:AM$94,'calc.rank'!$A13) -> 0 | AY13: =COUNTIF('enter-data'!AN$8:AN$94,'calc.rank'!$A13) -> 5 | AZ13: =COUNTIF('enter-data'!AO$8:AO$94,'calc.rank'!$A13) -> 1 | BA13: =COUNTIF('enter-data'!AP$8:AP$94,'calc.rank'!$A13) -> 1 | ... BT13: =COUNTIF('enter-data'!BI$8:BI$94,'calc.rank'!$A13) -> 0
A14: ITA | C14: Italy | E14: =F14+G14 -> 7 | F14: =R14+U14+X14+AA14+AD14+AG14+AJ14+AM14+AP14 -> 7 | G14: =AT14+AW14+AZ14+BC14+BF14+BI14+BL14+BO14+BR14 -> 0 | H14: =I14+J14 -> 10 | I14: =S14+V14+Y14+AB14+AE14+AH14+AK14+AN14+AQ14 -> 10 | J14: =AU14+AX14+BA14+BD14+BG14+BJ14+BM14+BP14+BS14 -> 0 | K14: =L14+M14 -> 7 | L14: =T14+W14+Z14+AC14+AF14+AI14+AL14+AO14+AR14 -> 7 | M14: =AV14+AY14+BB14+BE14+BH14+BK14+BN14+BQ14+BT14 -> 0 | N14: =E14+H14+K14 -> 24 | O14: =F14+I14+L14 -> 24 | P14: =G14+J14+M14 -> 0 | R14: =COUNTIF('enter-data'!G$8:G$94,'calc.rank'!$A14) -> 2 | S14: =COUNTIF('enter-data'!H$8:H$94,'calc.rank'!$A14) -> 3 | T14: =COUNTIF('enter-data'!I$8:I$94,'calc.rank'!$A14) -> 0 | U14: =COUNTIF('enter-data'!J$8:J$94,'calc.rank'!$A14) -> 0 | V14: =COUNTIF('enter-data'!K$8:K$94,'calc.rank'!$A14) -> 0 | W14: =COUNTIF('enter-data'!L$8:L$94,'calc.rank'!$A14) -> 1 | X14: =COUNTIF('enter-data'!M$8:M$94,'calc.rank'!$A14) -> 0 | Y14: =COUNTIF('enter-data'!N$8:N$94,'calc.rank'!$A14) -> 1 | ... AR14: =COUNTIF('enter-data'!AG$8:AG$94,'calc.rank'!$A14) -> 0 | AT14: =COUNTIF('enter-data'!AI$8:AI$94,'calc.rank'!$A14) -> 0 | AU14: =COUNTIF('enter-data'!AJ$8:AJ$94,'calc.rank'!$A14) -> 0 | AV14: =COUNTIF('enter-data'!AK$8:AK$94,'calc.rank'!$A14) -> 0 | AW14: =COUNTIF('enter-data'!AL$8:AL$94,'calc.rank'!$A14) -> 0 | AX14: =COUNTIF('enter-data'!AM$8:AM$94,'calc.rank'!$A14) -> 0 | AY14: =COUNTIF('enter-data'!AN$8:AN$94,'calc.rank'!$A14) -> 0 | AZ14: =COUNTIF('enter-data'!AO$8:AO$94,'calc.rank'!$A14) -> 0 | BA14: =COUNTIF('enter-data'!AP$8:AP$94,'calc.rank'!$A14) -> 0 | ... BT14: =COUNTIF('enter-data'!BI$8:BI$94,'calc.rank'!$A14) -> 0
... A90: ZIM | C90: Zimbabwe | E90: =F90+G90 -> 0 | F90: =R90+U90+X90+AA90+AD90+AG90+AJ90+AM90+AP90 -> 0 | G90: =AT90+AW90+AZ90+BC90+BF90+BI90+BL90+BO90+BR90 -> 0 | H90: =I90+J90 -> 0 | I90: =S90+V90+Y90+AB90+AE90+AH90+AK90+AN90+AQ90 -> 0 | J90: =AU90+AX90+BA90+BD90+BG90+BJ90+BM90+BP90+BS90 -> 0 | K90: =L90+M90 -> 0 | L90: =T90+W90+Z90+AC90+AF90+AI90+AL90+AO90+AR90 -> 0 | M90: =AV90+AY90+BB90+BE90+BH90+BK90+BN90+BQ90+BT90 -> 0 | N90: =E90+H90+K90 -> 0 | O90: =F90+I90+L90 -> 0 | P90: =G90+J90+M90 -> 0 | R90: =COUNTIF('enter-data'!G$8:G$94,'calc.rank'!$A90) -> 0 | S90: =COUNTIF('enter-data'!H$8:H$94,'calc.rank'!$A90) -> 0 | T90: =COUNTIF('enter-data'!I$8:I$94,'calc.rank'!$A90) -> 0 | U90: =COUNTIF('enter-data'!J$8:J$94,'calc.rank'!$A90) -> 0 | V90: =COUNTIF('enter-data'!K$8:K$94,'calc.rank'!$A90) -> 0 | W90: =COUNTIF('enter-data'!L$8:L$94,'calc.rank'!$A90) -> 0 | X90: =COUNTIF('enter-data'!M$8:M$94,'calc.rank'!$A90) -> 0 | Y90: =COUNTIF('enter-data'!N$8:N$94,'calc.rank'!$A90) -> 0 | ... AR90: =COUNTIF('enter-data'!AG$8:AG$94,'calc.rank'!$A90) -> 0 | AT90: =COUNTIF('enter-data'!AI$8:AI$94,'calc.rank'!$A90) -> 0 | AU90: =COUNTIF('enter-data'!AJ$8:AJ$94,'calc.rank'!$A90) -> 0 | AV90: =COUNTIF('enter-data'!AK$8:AK$94,'calc.rank'!$A90) -> 0 | AW90: =COUNTIF('enter-data'!AL$8:AL$94,'calc.rank'!$A90) -> 0 | AX90: =COUNTIF('enter-data'!AM$8:AM$94,'calc.rank'!$A90) -> 0 | AY90: =COUNTIF('enter-data'!AN$8:AN$94,'calc.rank'!$A90) -> 0 | AZ90: =COUNTIF('enter-data'!AO$8:AO$94,'calc.rank'!$A90) -> 0 | BA90: =COUNTIF('enter-data'!AP$8:AP$94,'calc.rank'!$A90) -> 0 | ... BT90: =COUNTIF('enter-data'!BI$8:BI$94,'calc.rank'!$A90) -> 0

Sheet R
B1: R A N K I N G N A T I O N S | R1: Back to selection
B2: All WMPC from | F2: =SMALL('enter-data'!C8:C94,1) -> 1964 | I2: to | K2: =LARGE('enter-data'!C8:C94,1) -> 2022
B3: N A T I O N - M E D A L T A B L E
A7: RANK | B7: NATION | E7: GOLD | H7: SILVER | K7: BRONCE | N7: TOTAL
E8: TOTAL | F8: M | G8: F | H8: TOTAL | I8: M | J8: F | K8: TOTAL | L8: M | M8: F | N8: TOTAL | O8: M | P8: F
A9: 1. | B9: FRA | D9: France | E9: ='calc.rank'!E3 -> 109 | F9: ='calc.rank'!F3 -> 78 | G9: ='calc.rank'!G3 -> 31 | H9: ='calc.rank'!H3 -> 105 | I9: ='calc.rank'!I3 -> 67 | J9: ='calc.rank'!J3 -> 38 | K9: ='calc.rank'!K3 -> 100 | L9: ='calc.rank'!L3 -> 65 | ... P9: ='calc.rank'!P3 -> 104
A10: 2. | B10: RUS | D10: Russia | E10: ='calc.rank'!E4 -> 91 | F10: ='calc.rank'!F4 -> 25 | G10: ='calc.rank'!G4 -> 66 | H10: ='calc.rank'!H4 -> 73 | I10: ='calc.rank'!I4 -> 22 | J10: ='calc.rank'!J4 -> 51 | K10: ='calc.rank'!K4 -> 59 | L10: ='calc.rank'!L4 -> 24 | ... P10: ='calc.rank'!P4 -> 152
A11: 3. | B11: USA | D11: Un. States of America | E11: ='calc.rank'!E5 -> 71 | F11: ='calc.rank'!F5 -> 40 | G11: ='calc.rank'!G5 -> 31 | H11: ='calc.rank'!H5 -> 64 | I11: ='calc.rank'!I5 -> 32 | J11: ='calc.rank'!J5 -> 32 | K11: ='calc.rank'!K5 -> 52 | L11: ='calc.rank'!L5 -> 29 | ... P11: ='calc.rank'!P5 -> 86
A12: 4. | B12: GER | D12: Germany | E12: ='calc.rank'!E6 -> 58 | F12: ='calc.rank'!F6 -> 51 | G12: ='calc.rank'!G6 -> 7 | H12: ='calc.rank'!H6 -> 51 | I12: ='calc.rank'!I6 -> 44 | J12: ='calc.rank'!J6 -> 7 | K12: ='calc.rank'!K6 -> 49 | L12: ='calc.rank'!L6 -> 42 | ... P12: ='calc.rank'!P6 -> 21
A13: 5. | B13: CHN | D13: China | E13: ='calc.rank'!E7 -> 45 | F13: ='calc.rank'!F7 -> 17 | G13: ='calc.rank'!G7 -> 28 | H13: ='calc.rank'!H7 -> 35 | I13: ='calc.rank'!I7 -> 17 | J13: ='calc.rank'!J7 -> 18 | K13: ='calc.rank'!K7 -> 36 | L13: ='calc.rank'!L7 -> 15 | ... P13: ='calc.rank'!P7 -> 67
A14: 6. | B14: BEL | D14: Belgium | E14: ='calc.rank'!E8 -> 23 | F14: ='calc.rank'!F8 -> 23 | G14: ='calc.rank'!G8 -> 0 | H14: ='calc.rank'!H8 -> 5 | I14: ='calc.rank'!I8 -> 5 | J14: ='calc.rank'!J8 -> 0 | K14: ='calc.rank'!K8 -> 4 | L14: ='calc.rank'!L8 -> 4 | ... P14: ='calc.rank'!P8 -> 0
A15: 7. | B15: BLR | D15: Belarus | E15: ='calc.rank'!E9 -> 16 | F15: ='calc.rank'!F9 -> 4 | G15: ='calc.rank'!G9 -> 12 | H15: ='calc.rank'!H9 -> 26 | I15: ='calc.rank'!I9 -> 8 | J15: ='calc.rank'!J9 -> 18 | K15: ='calc.rank'!K9 -> 28 | L15: ='calc.rank'!L9 -> 6 | ... P15: ='calc.rank'!P9 -> 52
A16: 8. | B16: CZE | D16: Czech Rep | E16: ='calc.rank'!E10 -> 15 | F16: ='calc.rank'!F10 -> 15 | G16: ='calc.rank'!G10 -> 0 | H16: ='calc.rank'!H10 -> 26 | I16: ='calc.rank'!I10 -> 26 | J16: ='calc.rank'!J10 -> 0 | K16: ='calc.rank'!K10 -> 15 | L16: ='calc.rank'!L10 -> 15 | ... P16: ='calc.rank'!P10 -> 0
A17: 9. | B17: AUT | D17: Austria | E17: ='calc.rank'!E11 -> 12 | F17: ='calc.rank'!F11 -> 9 | G17: ='calc.rank'!G11 -> 3 | H17: ='calc.rank'!H11 -> 6 | I17: ='calc.rank'!I11 -> 6 | J17: ='calc.rank'!J11 -> 0 | K17: ='calc.rank'!K11 -> 15 | L17: ='calc.rank'!L11 -> 15 | ... P17: ='calc.rank'!P11 -> 3
A18: 10. | B18: SLO | D18: Slovenia | E18: ='calc.rank'!E12 -> 10 | F18: ='calc.rank'!F12 -> 4 | G18: ='calc.rank'!G12 -> 6 | H18: ='calc.rank'!H12 -> 19 | I18: ='calc.rank'!I12 -> 10 | J18: ='calc.rank'!J12 -> 9 | K18: ='calc.rank'!K12 -> 13 | L18: ='calc.rank'!L12 -> 8 | ... P18: ='calc.rank'!P12 -> 20
A19: 11. | B19: SUI | D19: Switzerland | E19: ='calc.rank'!E13 -> 9 | F19: ='calc.rank'!F13 -> 4 | G19: ='calc.rank'!G13 -> 5 | H19: ='calc.rank'!H13 -> 10 | I19: ='calc.rank'!I13 -> 7 | J19: ='calc.rank'!J13 -> 3 | K19: ='calc.rank'!K13 -> 30 | L19: ='calc.rank'!L13 -> 16 | ... P19: ='calc.rank'!P13 -> 22
A20: 12. | B20: ITA | D20: Italy | E20: ='calc.rank'!E14 -> 7 | F20: ='calc.rank'!F14 -> 7 | G20: ='calc.rank'!G14 -> 0 | H20: ='calc.rank'!H14 -> 10 | I20: ='calc.rank'!I14 -> 10 | J20: ='calc.rank'!J14 -> 0 | K20: ='calc.rank'!K14 -> 7 | L20: ='calc.rank'!L14 -> 7 | ... P20: ='calc.rank'!P14 -> 0
... A32: 24. | B32: BUL | D32: Bulgaria | E32: ='calc.rank'!E26 -> 1 | F32: ='calc.rank'!F26 -> 1 | G32: ='calc.rank'!G26 -> 0 | H32: ='calc.rank'!H26 -> 0 | I32: ='calc.rank'!I26 -> 0 | J32: ='calc.rank'!J26 -> 0 | K32: ='calc.rank'!K26 -> 0 | L32: ='calc.rank'!L26 -> 0 | ... P32: ='calc.rank'!P26 -> 0
A33: 24 | B33: ROU | D33: Romania | E33: ='calc.rank'!E27 -> 0 | F33: ='calc.rank'!F27 -> 0 | G33: ='calc.rank'!G27 -> 0 | H33: ='calc.rank'!H27 -> 1 | I33: ='calc.rank'!I27 -> 0 | J33: ='calc.rank'!J27 -> 1 | K33: ='calc.rank'!K27 -> 0 | L33: ='calc.rank'!L27 -> 0 | ... P33: ='calc.rank'!P27 -> 1
A34: 26. | B34: QAT | D34: Qatar | E34: ='calc.rank'!E28 -> 0 | F34: ='calc.rank'!F28 -> 0 | G34: ='calc.rank'!G28 -> 0 | H34: ='calc.rank'!H28 -> 8 | I34: ='calc.rank'!I28 -> 8 | J34: ='calc.rank'!J28 -> 0 | K34: ='calc.rank'!K28 -> 2 | L34: ='calc.rank'!L28 -> 2 | ... P34: ='calc.rank'!P28 -> 0
A35: 27. | B35: KAZ | D35: Kazakhstan | E35: ='calc.rank'!E29 -> 0 | F35: ='calc.rank'!F29 -> 0 | G35: ='calc.rank'!G29 -> 0 | H35: ='calc.rank'!H29 -> 4 | I35: ='calc.rank'!I29 -> 0 | J35: ='calc.rank'!J29 -> 4 | K35: ='calc.rank'!K29 -> 2 | L35: ='calc.rank'!L29 -> 0 | ... P35: ='calc.rank'!P29 -> 6
A36: 28. | B36: UZB | D36: Uzbekistan | E36: ='calc.rank'!E30 -> 0 | F36: ='calc.rank'!F30 -> 0 | G36: ='calc.rank'!G30 -> 0 | H36: ='calc.rank'!H30 -> 1 | I36: ='calc.rank'!I30 -> 0 | J36: ='calc.rank'!J30 -> 1 | K36: ='calc.rank'!K30 -> 3 | L36: ='calc.rank'!L30 -> 0 | ... P36: ='calc.rank'!P30 -> 4
A37: 29. | B37: NOR | D37: Norway | E37: ='calc.rank'!E31 -> 0 | F37: ='calc.rank'!F31 -> 0 | G37: ='calc.rank'!G31 -> 0 | H37: ='calc.rank'!H31 -> 1 | I37: ='calc.rank'!I31 -> 0 | J37: ='calc.rank'!J31 -> 1 | K37: ='calc.rank'!K31 -> 1 | L37: ='calc.rank'!L31 -> 0 | ... P37: ='calc.rank'!P31 -> 2
A38: 29. | B38: SWE | D38: Sweden | E38: ='calc.rank'!E32 -> 0 | F38: ='calc.rank'!F32 -> 0 | G38: ='calc.rank'!G32 -> 0 | H38: ='calc.rank'!H32 -> 1 | I38: ='calc.rank'!I32 -> 0 | J38: ='calc.rank'!J32 -> 1 | K38: ='calc.rank'!K32 -> 1 | L38: ='calc.rank'!L32 -> 0 | ... P38: ='calc.rank'!P32 -> 2
A39: 31. | B39: PRK | D39: D.P.R. of Korea | E39: ='calc.rank'!E33 -> 0 | F39: ='calc.rank'!F33 -> 0 | G39: ='calc.rank'!G33 -> 0 | H39: ='calc.rank'!H33 -> 1 | I39: ='calc.rank'!I33 -> 0 | J39: ='calc.rank'!J33 -> 1 | K39: ='calc.rank'!K33 -> 0 | L39: ='calc.rank'!L33 -> 0 | ... P39: ='calc.rank'!P33 -> 1
A40: 32. | B40: LTU | D40: Lithuania | E40: ='calc.rank'!E34 -> 0 | F40: ='calc.rank'!F34 -> 0 | G40: ='calc.rank'!G34 -> 0 | H40: ='calc.rank'!H34 -> 0 | I40: ='calc.rank'!I34 -> 0 | J40: ='calc.rank'!J34 -> 0 | K40: ='calc.rank'!K34 -> 1 | L40: ='calc.rank'!L34 -> 1 | ... P40: ='calc.rank'!P34 -> 0
A41: 32. | B41: SVK | D41: Slovakia | E41: ='calc.rank'!E35 -> 0 | F41: ='calc.rank'!F35 -> 0 | G41: ='calc.rank'!G35 -> 0 | H41: ='calc.rank'!H35 -> 0 | I41: ='calc.rank'!I35 -> 0 | J41: ='calc.rank'!J35 -> 0 | K41: ='calc.rank'!K35 -> 1 | L41: ='calc.rank'!L35 -> 1 | ... P41: ='calc.rank'!P35 -> 0
E42: ='calc.rank'!E36 -> 0 | F42: ='calc.rank'!F36 -> 0 | G42: ='calc.rank'!G36 -> 0 | H42: ='calc.rank'!H36 -> 0 | I42: ='calc.rank'!I36 -> 0 | J42: ='calc.rank'!J36 -> 0 | K42: ='calc.rank'!K36 -> 0 | L42: ='calc.rank'!L36 -> 0 | ... P42: ='calc.rank'!P36 -> 0
E43: ='calc.rank'!E37 -> 0 | F43: ='calc.rank'!F37 -> 0 | G43: ='calc.rank'!G37 -> 0 | H43: ='calc.rank'!H37 -> 0 | I43: ='calc.rank'!I37 -> 0 | J43: ='calc.rank'!J37 -> 0 | K43: ='calc.rank'!K37 -> 0 | L43: ='calc.rank'!L37 -> 0 | ... P43: ='calc.rank'!P37 -> 0

Sheet calc.year
Y1: MIAG | Z1: MIAS | AA1: MIAB | AB1: MISG | AC1: MISS | AD1: MISB | AE1: MIOG | AF1: MIOS | AG1: MIOB | AH1: MTAG | AI1: MTAS | AJ1: MTAB | AK1: MFSG | AL1: MFSS | AM1: MFSB | AN1: MTOG | AO1: MTOS | AP1: MTOB | AQ1: MJAG | AR1: MJAS | AS1: MJAB | AT1: MJSG | AU1: MJSS | AV1: MJSB | AW1: MJOG | AX1: MJOS | AY1: MJOB | BA1: FIAG | BB1: FIAS | BC1: FIAB | BD1: FISG | BE1: FISS | BF1: FISB | BG1: FIOG | BH1: FIOS | BI1: FIOB | BJ1: FTAG | BK1: FTAS | BL1: FTAB | BM1: FFSG | BN1: FFSS | BO1: FFSB | BP1: FTOG | BQ1: FTOS | BR1: FTOB | BS1: FJAG | BT1: FJAS | BU1: FJAB | BV1: FJSG | BW1: FJSS | BX1: FJSB | BY1: FJOG | BZ1: FJOS | CA1: FJOB
F2: =G2&"."&1 -> 0.1 | G2: =SELEKTION!$D$10 -> 0 | Y2: =IF(ISERROR(VLOOKUP($F2,'enter-data'!$A$7:$BI$94,7,FALSE))," ",VLOOKUP($F2,'enter-data'!$A$7:$BI$94,7,FALSE)) | Z2: =IF(ISERROR(VLOOKUP($F2,'enter-data'!$A$7:$BI$94,8,FALSE))," ",VLOOKUP($F2,'enter-data'!$A$7:$BI$94,8,FALSE)) | AA2: =IF(ISERROR(VLOOKUP($F2,'enter-data'!$A$7:$BI$94,9,FALSE))," ",VLOOKUP($F2,'enter-data'!$A$7:$BI$94,9,FALSE)) | AB2: =IF(ISERROR(VLOOKUP($F2,'enter-data'!$A$7:$BI$94,10,FALSE))," ",VLOOKUP($F2,'enter-data'!$A$7:$BI$94,10,FALSE)) | AC2: =IF(ISERROR(VLOOKUP($F2,'enter-data'!$A$7:$BI$94,11,FALSE))," ",VLOOKUP($F2,'enter-data'!$A$7:$BI$94,11,FALSE)) | AD2: =IF(ISERROR(VLOOKUP($F2,'enter-data'!$A$7:$BI$94,12,FALSE))," ",VLOOKUP($F2,'enter-data'!$A$7:$BI$94,12,FALSE)) | AE2: =IF(ISERROR(VLOOKUP($F2,'enter-data'!$A$7:$BI$94,13,FALSE))," ",VLOOKUP($F2,'enter-data'!$A$7:$BI$94,13,FALSE)) | AF2: =IF(ISERROR(VLOOKUP($F2,'enter-data'!$A$7:$BI$94,14,FALSE))," ",VLOOKUP($F2,'enter-data'!$A$7:$BI$94,14,FALSE)) | AG2: =IF(ISERROR(VLOOKUP($F2,'enter-data'!$A$7:$BI$94,15,FALSE))," ",VLOOKUP($F2,'enter-data'!$A$7:$BI$94,15,FALSE)) | AH2: =IF(ISERROR(VLOOKUP($F2,'enter-data'!$A$7:$BI$94,16,FALSE))," ",VLOOKUP($F2,'enter-data'!$A$7:$BI$94,16,FALSE)) | AI2: =IF(ISERROR(VLOOKUP($F2,'enter-data'!$A$7:$BI$94,17,FALSE))," ",VLOOKUP($F2,'enter-data'!$A$7:$BI$94,17,FALSE)) | AJ2: =IF(ISERROR(VLOOKUP($F2,'enter-data'!$A$7:$BI$94,18,FALSE))," ",VLOOKUP($F2,'enter-data'!$A$7:$BI$94,18,FALSE)) | AK2: =IF(ISERROR(VLOOKUP($F2,'enter-data'!$A$7:$BI$94,19,FALSE))," ",VLOOKUP($F2,'enter-data'!$A$7:$BI$94,19,FALSE)) | AL2: =IF(ISERROR(VLOOKUP($F2,'enter-data'!$A$7:$BI$94,20,FALSE))," ",VLOOKUP($F2,'enter-data'!$A$7:$BI$94,20,FALSE)) | AM2: =IF(ISERROR(VLOOKUP($F2,'enter-data'!$A$7:$BI$94,21,FALSE))," ",VLOOKUP($F2,'enter-data'!$A$7:$BI$94,21,FALSE)) | AN2: =IF(ISERROR(VLOOKUP($F2,'enter-data'!$A$7:$BI$94,22,FALSE))," ",VLOOKUP($F2,'enter-data'!$A$7:$BI$94,22,FALSE)) | AO2: =IF(ISERROR(VLOOKUP($F2,'enter-data'!$A$7:$BI$94,23,FALSE))," ",VLOOKUP($F2,'enter-data'!$A$7:$BI$94,23,FALSE)) | AP2: =IF(ISERROR(VLOOKUP($F2,'enter-data'!$A$7:$BI$94,24,FALSE))," ",VLOOKUP($F2,'enter-data'!$A$7:$BI$94,24,FALSE)) | AQ2: =IF(ISERROR(VLOOKUP($F2,'enter-data'!$A$7:$BI$94,25,FALSE))," ",VLOOKUP($F2,'enter-data'!$A$7:$BI$94,25,FALSE)) | AR2: =IF(ISERROR(VLOOKUP($F2,'enter-data'!$A$7:$BI$94,26,FALSE))," ",VLOOKUP($F2,'enter-data'!$A$7:$BI$94,26,FALSE)) | AS2: =IF(ISERROR(VLOOKUP($F2,'enter-data'!$A$7:$BI$94,27,FALSE))," ",VLOOKUP($F2,'enter-data'!$A$7:$BI$94,27,FALSE)) | AT2: =IF(ISERROR(VLOOKUP($F2,'enter-data'!$A$7:$BI$94,28,FALSE))," ",VLOOKUP($F2,'enter-data'!$A$7:$BI$94,28,FALSE)) | AU2: =IF(ISERROR(VLOOKUP($F2,'enter-data'!$A$7:$BI$94,29,FALSE))," ",VLOOKUP($F2,'enter-data'!$A$7:$BI$94,29,FALSE)) | AV2: =IF(ISERROR(VLOOKUP($F2,'enter-data'!$A$7:$BI$94,30,FALSE))," ",VLOOKUP($F2,'enter-data'!$A$7:$BI$94,30,FALSE)) | AW2: =IF(ISERROR(VLOOKUP($F2,'enter-data'!$A$7:$BI$94,31,FALSE))," ",VLOOKUP($F2,'enter-data'!$A$7:$BI$94,31,FALSE)) | AX2: =IF(ISERROR(VLOOKUP($F2,'enter-data'!$A$7:$BI$94,32,FALSE))," ",VLOOKUP($F2,'enter-data'!$A$7:$BI$94,32,FALSE)) | AY2: =IF(ISERROR(VLOOKUP($F2,'enter-data'!$A$7:$BI$94,33,FALSE))," ",VLOOKUP($F2,'enter-data'!$A$7:$BI$94,33,FALSE)) | BA2: =IF(ISERROR(VLOOKUP($F2,'enter-data'!$A$7:$BI$94,35,FALSE))," ",VLOOKUP($F2,'enter-data'!$A$7:$BI$94,35,FALSE)) | BB2: =IF(ISERROR(VLOOKUP($F2,'enter-data'!$A$7:$BI$94,36,FALSE))," ",VLOOKUP($F2,'enter-data'!$A$7:$BI$94,36,FALSE)) | BC2: =IF(ISERROR(VLOOKUP($F2,'enter-data'!$A$7:$BI$94,37,FALSE))," ",VLOOKUP($F2,'enter-data'!$A$7:$BI$94,37,FALSE)) | BD2: =IF(ISERROR(VLOOKUP($F2,'enter-data'!$A$7:$BI$94,38,FALSE))," ",VLOOKUP($F2,'enter-data'!$A$7:$BI$94,38,FALSE)) | BE2: =IF(ISERROR(VLOOKUP($F2,'enter-data'!$A$7:$BI$94,39,FALSE))," ",VLOOKUP($F2,'enter-data'!$A$7:$BI$94,39,FALSE)) | BF2: =IF(ISERROR(VLOOKUP($F2,'enter-data'!$A$7:$BI$94,40,FALSE))," ",VLOOKUP($F2,'enter-data'!$A$7:$BI$94,40,FALSE)) | BG2: =IF(ISERROR(VLOOKUP($F2,'enter-data'!$A$7:$BI$94,41,FALSE))," ",VLOOKUP($F2,'enter-data'!$A$7:$BI$94,41,FALSE)) | BH2: =IF(ISERROR(VLOOKUP($F2,'enter-data'!$A$7:$BI$94,42,FALSE))," ",VLOOKUP($F2,'enter-data'!$A$7:$BI$94,42,FALSE)) | BI2: =IF(ISERROR(VLOOKUP($F2,'enter-data'!$A$7:$BI$94,43,FALSE))," ",VLOOKUP($F2,'enter-data'!$A$7:$BI$94,43,FALSE)) | BJ2: =IF(ISERROR(VLOOKUP($F2,'enter-data'!$A$7:$BI$94,44,FALSE))," ",VLOOKUP($F2,'enter-data'!$A$7:$BI$94,44,FALSE)) | BK2: =IF(ISERROR(VLOOKUP($F2,'enter-data'!$A$7:$BI$94,45,FALSE))," ",VLOOKUP($F2,'enter-data'!$A$7:$BI$94,45,FALSE)) | BL2: =IF(ISERROR(VLOOKUP($F2,'enter-data'!$A$7:$BI$94,46,FALSE))," ",VLOOKUP($F2,'enter-data'!$A$7:$BI$94,46,FALSE)) | BM2: =IF(ISERROR(VLOOKUP($F2,'enter-data'!$A$7:$BI$94,47,FALSE))," ",VLOOKUP($F2,'enter-data'!$A$7:$BI$94,47,FALSE)) | BN2: =IF(ISERROR(VLOOKUP($F2,'enter-data'!$A$7:$BI$94,48,FALSE))," ",VLOOKUP($F2,'enter-data'!$A$7:$BI$94,48,FALSE)) | BO2: =IF(ISERROR(VLOOKUP($F2,'enter-data'!$A$7:$BI$94,49,FALSE))," ",VLOOKUP($F2,'enter-data'!$A$7:$BI$94,49,FALSE)) | BP2: =IF(ISERROR(VLOOKUP($F2,'enter-data'!$A$7:$BI$94,50,FALSE))," ",VLOOKUP($F2,'enter-data'!$A$7:$BI$94,50,FALSE)) | BQ2: =IF(ISERROR(VLOOKUP($F2,'enter-data'!$A$7:$BI$94,51,FALSE))," ",VLOOKUP($F2,'enter-data'!$A$7:$BI$94,51,FALSE)) | BR2: =IF(ISERROR(VLOOKUP($F2,'enter-data'!$A$7:$BI$94,52,FALSE))," ",VLOOKUP($F2,'enter-data'!$A$7:$BI$94,52,FALSE)) | BS2: =IF(ISERROR(VLOOKUP($F2,'enter-data'!$A$7:$BI$94,53,FALSE))," ",VLOOKUP($F2,'enter-data'!$A$7:$BI$94,53,FALSE)) | BT2: =IF(ISERROR(VLOOKUP($F2,'enter-data'!$A$7:$BI$94,54,FALSE))," ",VLOOKUP($F2,'enter-data'!$A$7:$BI$94,54,FALSE)) | BU2: =IF(ISERROR(VLOOKUP($F2,'enter-data'!$A$7:$BI$94,55,FALSE))," ",VLOOKUP($F2,'enter-data'!$A$7:$BI$94,55,FALSE)) | BV2: =IF(ISERROR(VLOOKUP($F2,'enter-data'!$A$7:$BI$94,56,FALSE))," ",VLOOKUP($F2,'enter-data'!$A$7:$BI$94,56,FALSE)) | BW2: =IF(ISERROR(VLOOKUP($F2,'enter-data'!$A$7:$BI$94,57,FALSE))," ",VLOOKUP($F2,'enter-data'!$A$7:$BI$94,57,FALSE)) | BX2: =IF(ISERROR(VLOOKUP($F2,'enter-data'!$A$7:$BI$94,58,FALSE))," ",VLOOKUP($F2,'enter-data'!$A$7:$BI$94,58,FALSE)) | BY2: =IF(ISERROR(VLOOKUP($F2,'enter-data'!$A$7:$BI$94,59,FALSE))," ",VLOOKUP($F2,'enter-data'!$A$7:$BI$94,59,FALSE)) | BZ2: =IF(ISERROR(VLOOKUP($F2,'enter-data'!$A$7:$BI$94,60,FALSE))," ",VLOOKUP($F2,'enter-data'!$A$7:$BI$94,60,FALSE)) | CA2: =IF(ISERROR(VLOOKUP($F2,'enter-data'!$A$7:$BI$94,61,FALSE))," ",VLOOKUP($F2,'enter-data'!$A$7:$BI$94,61,FALSE))
F3: =G3&"."&2 -> 0.2 | G3: =SELEKTION!$D$10 -> 0 | Y3: =IF(ISERROR(VLOOKUP($F3,'enter-data'!$A$7:$BI$94,7,FALSE))," ",VLOOKUP($F3,'enter-data'!$A$7:$BI$94,7,FALSE)) | Z3: =IF(ISERROR(VLOOKUP($F3,'enter-data'!$A$7:$BI$94,8,FALSE))," ",VLOOKUP($F3,'enter-data'!$A$7:$BI$94,8,FALSE)) | AA3: =IF(ISERROR(VLOOKUP($F3,'enter-data'!$A$7:$BI$94,9,FALSE))," ",VLOOKUP($F3,'enter-data'!$A$7:$BI$94,9,FALSE)) | AB3: =IF(ISERROR(VLOOKUP($F3,'enter-data'!$A$7:$BI$94,10,FALSE))," ",VLOOKUP($F3,'enter-data'!$A$7:$BI$94,10,FALSE)) | AC3: =IF(ISERROR(VLOOKUP($F3,'enter-data'!$A$7:$BI$94,11,FALSE))," ",VLOOKUP($F3,'enter-data'!$A$7:$BI$94,11,FALSE)) | AD3: =IF(ISERROR(VLOOKUP($F3,'enter-data'!$A$7:$BI$94,12,FALSE))," ",VLOOKUP($F3,'enter-data'!$A$7:$BI$94,12,FALSE)) | AE3: =IF(ISERROR(VLOOKUP($F3,'enter-data'!$A$7:$BI$94,13,FALSE))," ",VLOOKUP($F3,'enter-data'!$A$7:$BI$94,13,FALSE)) | AF3: =IF(ISERROR(VLOOKUP($F3,'enter-data'!$A$7:$BI$94,14,FALSE))," ",VLOOKUP($F3,'enter-data'!$A$7:$BI$94,14,FALSE)) | AG3: =IF(ISERROR(VLOOKUP($F3,'enter-data'!$A$7:$BI$94,15,FALSE))," ",VLOOKUP($F3,'enter-data'!$A$7:$BI$94,15,FALSE)) | AH3: =IF(ISERROR(VLOOKUP($F3,'enter-data'!$A$7:$BI$94,16,FALSE))," ",VLOOKUP($F3,'enter-data'!$A$7:$BI$94,16,FALSE)) | AI3: =IF(ISERROR(VLOOKUP($F3,'enter-data'!$A$7:$BI$94,17,FALSE))," ",VLOOKUP($F3,'enter-data'!$A$7:$BI$94,17,FALSE)) | AJ3: =IF(ISERROR(VLOOKUP($F3,'enter-data'!$A$7:$BI$94,18,FALSE))," ",VLOOKUP($F3,'enter-data'!$A$7:$BI$94,18,FALSE)) | AK3: =IF(ISERROR(VLOOKUP($F3,'enter-data'!$A$7:$BI$94,19,FALSE))," ",VLOOKUP($F3,'enter-data'!$A$7:$BI$94,19,FALSE)) | AL3: =IF(ISERROR(VLOOKUP($F3,'enter-data'!$A$7:$BI$94,20,FALSE))," ",VLOOKUP($F3,'enter-data'!$A$7:$BI$94,20,FALSE)) | AM3: =IF(ISERROR(VLOOKUP($F3,'enter-data'!$A$7:$BI$94,21,FALSE))," ",VLOOKUP($F3,'enter-data'!$A$7:$BI$94,21,FALSE)) | AN3: =IF(ISERROR(VLOOKUP($F3,'enter-data'!$A$7:$BI$94,22,FALSE))," ",VLOOKUP($F3,'enter-data'!$A$7:$BI$94,22,FALSE)) | AO3: =IF(ISERROR(VLOOKUP($F3,'enter-data'!$A$7:$BI$94,23,FALSE))," ",VLOOKUP($F3,'enter-data'!$A$7:$BI$94,23,FALSE)) | AP3: =IF(ISERROR(VLOOKUP($F3,'enter-data'!$A$7:$BI$94,24,FALSE))," ",VLOOKUP($F3,'enter-data'!$A$7:$BI$94,24,FALSE)) | AQ3: =IF(ISERROR(VLOOKUP($F3,'enter-data'!$A$7:$BI$94,25,FALSE))," ",VLOOKUP($F3,'enter-data'!$A$7:$BI$94,25,FALSE)) | AR3: =IF(ISERROR(VLOOKUP($F3,'enter-data'!$A$7:$BI$94,26,FALSE))," ",VLOOKUP($F3,'enter-data'!$A$7:$BI$94,26,FALSE)) | AS3: =IF(ISERROR(VLOOKUP($F3,'enter-data'!$A$7:$BI$94,27,FALSE))," ",VLOOKUP($F3,'enter-data'!$A$7:$BI$94,27,FALSE)) | AT3: =IF(ISERROR(VLOOKUP($F3,'enter-data'!$A$7:$BI$94,28,FALSE))," ",VLOOKUP($F3,'enter-data'!$A$7:$BI$94,28,FALSE)) | AU3: =IF(ISERROR(VLOOKUP($F3,'enter-data'!$A$7:$BI$94,29,FALSE))," ",VLOOKUP($F3,'enter-data'!$A$7:$BI$94,29,FALSE)) | AV3: =IF(ISERROR(VLOOKUP($F3,'enter-data'!$A$7:$BI$94,30,FALSE))," ",VLOOKUP($F3,'enter-data'!$A$7:$BI$94,30,FALSE)) | AW3: =IF(ISERROR(VLOOKUP($F3,'enter-data'!$A$7:$BI$94,31,FALSE))," ",VLOOKUP($F3,'enter-data'!$A$7:$BI$94,31,FALSE)) | AX3: =IF(ISERROR(VLOOKUP($F3,'enter-data'!$A$7:$BI$94,32,FALSE))," ",VLOOKUP($F3,'enter-data'!$A$7:$BI$94,32,FALSE)) | AY3: =IF(ISERROR(VLOOKUP($F3,'enter-data'!$A$7:$BI$94,33,FALSE))," ",VLOOKUP($F3,'enter-data'!$A$7:$BI$94,33,FALSE)) | BA3: =IF(ISERROR(VLOOKUP($F3,'enter-data'!$A$7:$BI$94,35,FALSE))," ",VLOOKUP($F3,'enter-data'!$A$7:$BI$94,35,FALSE)) | BB3: =IF(ISERROR(VLOOKUP($F3,'enter-data'!$A$7:$BI$94,36,FALSE))," ",VLOOKUP($F3,'enter-data'!$A$7:$BI$94,36,FALSE)) | BC3: =IF(ISERROR(VLOOKUP($F3,'enter-data'!$A$7:$BI$94,37,FALSE))," ",VLOOKUP($F3,'enter-data'!$A$7:$BI$94,37,FALSE)) | BD3: =IF(ISERROR(VLOOKUP($F3,'enter-data'!$A$7:$BI$94,38,FALSE))," ",VLOOKUP($F3,'enter-data'!$A$7:$BI$94,38,FALSE)) | BE3: =IF(ISERROR(VLOOKUP($F3,'enter-data'!$A$7:$BI$94,39,FALSE))," ",VLOOKUP($F3,'enter-data'!$A$7:$BI$94,39,FALSE)) | BF3: =IF(ISERROR(VLOOKUP($F3,'enter-data'!$A$7:$BI$94,40,FALSE))," ",VLOOKUP($F3,'enter-data'!$A$7:$BI$94,40,FALSE)) | BG3: =IF(ISERROR(VLOOKUP($F3,'enter-data'!$A$7:$BI$94,41,FALSE))," ",VLOOKUP($F3,'enter-data'!$A$7:$BI$94,41,FALSE)) | BH3: =IF(ISERROR(VLOOKUP($F3,'enter-data'!$A$7:$BI$94,42,FALSE))," ",VLOOKUP($F3,'enter-data'!$A$7:$BI$94,42,FALSE)) | BI3: =IF(ISERROR(VLOOKUP($F3,'enter-data'!$A$7:$BI$94,43,FALSE))," ",VLOOKUP($F3,'enter-data'!$A$7:$BI$94,43,FALSE)) | BJ3: =IF(ISERROR(VLOOKUP($F3,'enter-data'!$A$7:$BI$94,44,FALSE))," ",VLOOKUP($F3,'enter-data'!$A$7:$BI$94,44,FALSE)) | BK3: =IF(ISERROR(VLOOKUP($F3,'enter-data'!$A$7:$BI$94,45,FALSE))," ",VLOOKUP($F3,'enter-data'!$A$7:$BI$94,45,FALSE)) | BL3: =IF(ISERROR(VLOOKUP($F3,'enter-data'!$A$7:$BI$94,46,FALSE))," ",VLOOKUP($F3,'enter-data'!$A$7:$BI$94,46,FALSE)) | BM3: =IF(ISERROR(VLOOKUP($F3,'enter-data'!$A$7:$BI$94,47,FALSE))," ",VLOOKUP($F3,'enter-data'!$A$7:$BI$94,47,FALSE)) | BN3: =IF(ISERROR(VLOOKUP($F3,'enter-data'!$A$7:$BI$94,48,FALSE))," ",VLOOKUP($F3,'enter-data'!$A$7:$BI$94,48,FALSE)) | BO3: =IF(ISERROR(VLOOKUP($F3,'enter-data'!$A$7:$BI$94,49,FALSE))," ",VLOOKUP($F3,'enter-data'!$A$7:$BI$94,49,FALSE)) | BP3: =IF(ISERROR(VLOOKUP($F3,'enter-data'!$A$7:$BI$94,50,FALSE))," ",VLOOKUP($F3,'enter-data'!$A$7:$BI$94,50,FALSE)) | BQ3: =IF(ISERROR(VLOOKUP($F3,'enter-data'!$A$7:$BI$94,51,FALSE))," ",VLOOKUP($F3,'enter-data'!$A$7:$BI$94,51,FALSE)) | BR3: =IF(ISERROR(VLOOKUP($F3,'enter-data'!$A$7:$BI$94,52,FALSE))," ",VLOOKUP($F3,'enter-data'!$A$7:$BI$94,52,FALSE)) | BS3: =IF(ISERROR(VLOOKUP($F3,'enter-data'!$A$7:$BI$94,53,FALSE))," ",VLOOKUP($F3,'enter-data'!$A$7:$BI$94,53,FALSE)) | BT3: =IF(ISERROR(VLOOKUP($F3,'enter-data'!$A$7:$BI$94,54,FALSE))," ",VLOOKUP($F3,'enter-data'!$A$7:$BI$94,54,FALSE)) | BU3: =IF(ISERROR(VLOOKUP($F3,'enter-data'!$A$7:$BI$94,55,FALSE))," ",VLOOKUP($F3,'enter-data'!$A$7:$BI$94,55,FALSE)) | BV3: =IF(ISERROR(VLOOKUP($F3,'enter-data'!$A$7:$BI$94,56,FALSE))," ",VLOOKUP($F3,'enter-data'!$A$7:$BI$94,56,FALSE)) | BW3: =IF(ISERROR(VLOOKUP($F3,'enter-data'!$A$7:$BI$94,57,FALSE))," ",VLOOKUP($F3,'enter-data'!$A$7:$BI$94,57,FALSE)) | BX3: =IF(ISERROR(VLOOKUP($F3,'enter-data'!$A$7:$BI$94,58,FALSE))," ",VLOOKUP($F3,'enter-data'!$A$7:$BI$94,58,FALSE)) | BY3: =IF(ISERROR(VLOOKUP($F3,'enter-data'!$A$7:$BI$94,59,FALSE))," ",VLOOKUP($F3,'enter-data'!$A$7:$BI$94,59,FALSE)) | BZ3: =IF(ISERROR(VLOOKUP($F3,'enter-data'!$A$7:$BI$94,60,FALSE))," ",VLOOKUP($F3,'enter-data'!$A$7:$BI$94,60,FALSE)) | CA3: =IF(ISERROR(VLOOKUP($F3,'enter-data'!$A$7:$BI$94,61,FALSE))," ",VLOOKUP($F3,'enter-data'!$A$7:$BI$94,61,FALSE))
F4: =G4&"."&3 -> 0.3 | G4: =SELEKTION!$D$10 -> 0 | Y4: =IF(ISERROR(VLOOKUP($F4,'enter-data'!$A$7:$BI$94,7,FALSE))," ",VLOOKUP($F4,'enter-data'!$A$7:$BI$94,7,FALSE)) | Z4: =IF(ISERROR(VLOOKUP($F4,'enter-data'!$A$7:$BI$94,8,FALSE))," ",VLOOKUP($F4,'enter-data'!$A$7:$BI$94,8,FALSE)) | AA4: =IF(ISERROR(VLOOKUP($F4,'enter-data'!$A$7:$BI$94,9,FALSE))," ",VLOOKUP($F4,'enter-data'!$A$7:$BI$94,9,FALSE)) | AB4: =IF(ISERROR(VLOOKUP($F4,'enter-data'!$A$7:$BI$94,10,FALSE))," ",VLOOKUP($F4,'enter-data'!$A$7:$BI$94,10,FALSE)) | AC4: =IF(ISERROR(VLOOKUP($F4,'enter-data'!$A$7:$BI$94,11,FALSE))," ",VLOOKUP($F4,'enter-data'!$A$7:$BI$94,11,FALSE)) | AD4: =IF(ISERROR(VLOOKUP($F4,'enter-data'!$A$7:$BI$94,12,FALSE))," ",VLOOKUP($F4,'enter-data'!$A$7:$BI$94,12,FALSE)) | AE4: =IF(ISERROR(VLOOKUP($F4,'enter-data'!$A$7:$BI$94,13,FALSE))," ",VLOOKUP($F4,'enter-data'!$A$7:$BI$94,13,FALSE)) | AF4: =IF(ISERROR(VLOOKUP($F4,'enter-data'!$A$7:$BI$94,14,FALSE))," ",VLOOKUP($F4,'enter-data'!$A$7:$BI$94,14,FALSE)) | AG4: =IF(ISERROR(VLOOKUP($F4,'enter-data'!$A$7:$BI$94,15,FALSE))," ",VLOOKUP($F4,'enter-data'!$A$7:$BI$94,15,FALSE)) | AH4: =IF(ISERROR(VLOOKUP($F4,'enter-data'!$A$7:$BI$94,16,FALSE))," ",VLOOKUP($F4,'enter-data'!$A$7:$BI$94,16,FALSE)) | AI4: =IF(ISERROR(VLOOKUP($F4,'enter-data'!$A$7:$BI$94,17,FALSE))," ",VLOOKUP($F4,'enter-data'!$A$7:$BI$94,17,FALSE)) | AJ4: =IF(ISERROR(VLOOKUP($F4,'enter-data'!$A$7:$BI$94,18,FALSE))," ",VLOOKUP($F4,'enter-data'!$A$7:$BI$94,18,FALSE)) | AK4: =IF(ISERROR(VLOOKUP($F4,'enter-data'!$A$7:$BI$94,19,FALSE))," ",VLOOKUP($F4,'enter-data'!$A$7:$BI$94,19,FALSE)) | AL4: =IF(ISERROR(VLOOKUP($F4,'enter-data'!$A$7:$BI$94,20,FALSE))," ",VLOOKUP($F4,'enter-data'!$A$7:$BI$94,20,FALSE)) | AM4: =IF(ISERROR(VLOOKUP($F4,'enter-data'!$A$7:$BI$94,21,FALSE))," ",VLOOKUP($F4,'enter-data'!$A$7:$BI$94,21,FALSE)) | AN4: =IF(ISERROR(VLOOKUP($F4,'enter-data'!$A$7:$BI$94,22,FALSE))," ",VLOOKUP($F4,'enter-data'!$A$7:$BI$94,22,FALSE)) | AO4: =IF(ISERROR(VLOOKUP($F4,'enter-data'!$A$7:$BI$94,23,FALSE))," ",VLOOKUP($F4,'enter-data'!$A$7:$BI$94,23,FALSE)) | AP4: =IF(ISERROR(VLOOKUP($F4,'enter-data'!$A$7:$BI$94,24,FALSE))," ",VLOOKUP($F4,'enter-data'!$A$7:$BI$94,24,FALSE)) | AQ4: =IF(ISERROR(VLOOKUP($F4,'enter-data'!$A$7:$BI$94,25,FALSE))," ",VLOOKUP($F4,'enter-data'!$A$7:$BI$94,25,FALSE)) | AR4: =IF(ISERROR(VLOOKUP($F4,'enter-data'!$A$7:$BI$94,26,FALSE))," ",VLOOKUP($F4,'enter-data'!$A$7:$BI$94,26,FALSE)) | AS4: =IF(ISERROR(VLOOKUP($F4,'enter-data'!$A$7:$BI$94,27,FALSE))," ",VLOOKUP($F4,'enter-data'!$A$7:$BI$94,27,FALSE)) | AT4: =IF(ISERROR(VLOOKUP($F4,'enter-data'!$A$7:$BI$94,28,FALSE))," ",VLOOKUP($F4,'enter-data'!$A$7:$BI$94,28,FALSE)) | AU4: =IF(ISERROR(VLOOKUP($F4,'enter-data'!$A$7:$BI$94,29,FALSE))," ",VLOOKUP($F4,'enter-data'!$A$7:$BI$94,29,FALSE)) | AV4: =IF(ISERROR(VLOOKUP($F4,'enter-data'!$A$7:$BI$94,30,FALSE))," ",VLOOKUP($F4,'enter-data'!$A$7:$BI$94,30,FALSE)) | AW4: =IF(ISERROR(VLOOKUP($F4,'enter-data'!$A$7:$BI$94,31,FALSE))," ",VLOOKUP($F4,'enter-data'!$A$7:$BI$94,31,FALSE)) | AX4: =IF(ISERROR(VLOOKUP($F4,'enter-data'!$A$7:$BI$94,32,FALSE))," ",VLOOKUP($F4,'enter-data'!$A$7:$BI$94,32,FALSE)) | AY4: =IF(ISERROR(VLOOKUP($F4,'enter-data'!$A$7:$BI$94,33,FALSE))," ",VLOOKUP($F4,'enter-data'!$A$7:$BI$94,33,FALSE)) | BA4: =IF(ISERROR(VLOOKUP($F4,'enter-data'!$A$7:$BI$94,35,FALSE))," ",VLOOKUP($F4,'enter-data'!$A$7:$BI$94,35,FALSE)) | BB4: =IF(ISERROR(VLOOKUP($F4,'enter-data'!$A$7:$BI$94,36,FALSE))," ",VLOOKUP($F4,'enter-data'!$A$7:$BI$94,36,FALSE)) | BC4: =IF(ISERROR(VLOOKUP($F4,'enter-data'!$A$7:$BI$94,37,FALSE))," ",VLOOKUP($F4,'enter-data'!$A$7:$BI$94,37,FALSE)) | BD4: =IF(ISERROR(VLOOKUP($F4,'enter-data'!$A$7:$BI$94,38,FALSE))," ",VLOOKUP($F4,'enter-data'!$A$7:$BI$94,38,FALSE)) | BE4: =IF(ISERROR(VLOOKUP($F4,'enter-data'!$A$7:$BI$94,39,FALSE))," ",VLOOKUP($F4,'enter-data'!$A$7:$BI$94,39,FALSE)) | BF4: =IF(ISERROR(VLOOKUP($F4,'enter-data'!$A$7:$BI$94,40,FALSE))," ",VLOOKUP($F4,'enter-data'!$A$7:$BI$94,40,FALSE)) | BG4: =IF(ISERROR(VLOOKUP($F4,'enter-data'!$A$7:$BI$94,41,FALSE))," ",VLOOKUP($F4,'enter-data'!$A$7:$BI$94,41,FALSE)) | BH4: =IF(ISERROR(VLOOKUP($F4,'enter-data'!$A$7:$BI$94,42,FALSE))," ",VLOOKUP($F4,'enter-data'!$A$7:$BI$94,42,FALSE)) | BI4: =IF(ISERROR(VLOOKUP($F4,'enter-data'!$A$7:$BI$94,43,FALSE))," ",VLOOKUP($F4,'enter-data'!$A$7:$BI$94,43,FALSE)) | BJ4: =IF(ISERROR(VLOOKUP($F4,'enter-data'!$A$7:$BI$94,44,FALSE))," ",VLOOKUP($F4,'enter-data'!$A$7:$BI$94,44,FALSE)) | BK4: =IF(ISERROR(VLOOKUP($F4,'enter-data'!$A$7:$BI$94,45,FALSE))," ",VLOOKUP($F4,'enter-data'!$A$7:$BI$94,45,FALSE)) | BL4: =IF(ISERROR(VLOOKUP($F4,'enter-data'!$A$7:$BI$94,46,FALSE))," ",VLOOKUP($F4,'enter-data'!$A$7:$BI$94,46,FALSE)) | BM4: =IF(ISERROR(VLOOKUP($F4,'enter-data'!$A$7:$BI$94,47,FALSE))," ",VLOOKUP($F4,'enter-data'!$A$7:$BI$94,47,FALSE)) | BN4: =IF(ISERROR(VLOOKUP($F4,'enter-data'!$A$7:$BI$94,48,FALSE))," ",VLOOKUP($F4,'enter-data'!$A$7:$BI$94,48,FALSE)) | BO4: =IF(ISERROR(VLOOKUP($F4,'enter-data'!$A$7:$BI$94,49,FALSE))," ",VLOOKUP($F4,'enter-data'!$A$7:$BI$94,49,FALSE)) | BP4: =IF(ISERROR(VLOOKUP($F4,'enter-data'!$A$7:$BI$94,50,FALSE))," ",VLOOKUP($F4,'enter-data'!$A$7:$BI$94,50,FALSE)) | BQ4: =IF(ISERROR(VLOOKUP($F4,'enter-data'!$A$7:$BI$94,51,FALSE))," ",VLOOKUP($F4,'enter-data'!$A$7:$BI$94,51,FALSE)) | BR4: =IF(ISERROR(VLOOKUP($F4,'enter-data'!$A$7:$BI$94,52,FALSE))," ",VLOOKUP($F4,'enter-data'!$A$7:$BI$94,52,FALSE)) | BS4: =IF(ISERROR(VLOOKUP($F4,'enter-data'!$A$7:$BI$94,53,FALSE))," ",VLOOKUP($F4,'enter-data'!$A$7:$BI$94,53,FALSE)) | BT4: =IF(ISERROR(VLOOKUP($F4,'enter-data'!$A$7:$BI$94,54,FALSE))," ",VLOOKUP($F4,'enter-data'!$A$7:$BI$94,54,FALSE)) | BU4: =IF(ISERROR(VLOOKUP($F4,'enter-data'!$A$7:$BI$94,55,FALSE))," ",VLOOKUP($F4,'enter-data'!$A$7:$BI$94,55,FALSE)) | BV4: =IF(ISERROR(VLOOKUP($F4,'enter-data'!$A$7:$BI$94,56,FALSE))," ",VLOOKUP($F4,'enter-data'!$A$7:$BI$94,56,FALSE)) | BW4: =IF(ISERROR(VLOOKUP($F4,'enter-data'!$A$7:$BI$94,57,FALSE))," ",VLOOKUP($F4,'enter-data'!$A$7:$BI$94,57,FALSE)) | BX4: =IF(ISERROR(VLOOKUP($F4,'enter-data'!$A$7:$BI$94,58,FALSE))," ",VLOOKUP($F4,'enter-data'!$A$7:$BI$94,58,FALSE)) | BY4: =IF(ISERROR(VLOOKUP($F4,'enter-data'!$A$7:$BI$94,59,FALSE))," ",VLOOKUP($F4,'enter-data'!$A$7:$BI$94,59,FALSE)) | BZ4: =IF(ISERROR(VLOOKUP($F4,'enter-data'!$A$7:$BI$94,60,FALSE))," ",VLOOKUP($F4,'enter-data'!$A$7:$BI$94,60,FALSE)) | CA4: =IF(ISERROR(VLOOKUP($F4,'enter-data'!$A$7:$BI$94,61,FALSE))," ",VLOOKUP($F4,'enter-data'!$A$7:$BI$94,61,FALSE))
F5: =G5&"."&4 -> 0.4 | G5: =SELEKTION!$D$10 -> 0 | Y5: =IF(ISERROR(VLOOKUP($F5,'enter-data'!$A$7:$BI$94,7,FALSE))," ",VLOOKUP($F5,'enter-data'!$A$7:$BI$94,7,FALSE)) | Z5: =IF(ISERROR(VLOOKUP($F5,'enter-data'!$A$7:$BI$94,8,FALSE))," ",VLOOKUP($F5,'enter-data'!$A$7:$BI$94,8,FALSE)) | AA5: =IF(ISERROR(VLOOKUP($F5,'enter-data'!$A$7:$BI$94,9,FALSE))," ",VLOOKUP($F5,'enter-data'!$A$7:$BI$94,9,FALSE)) | AB5: =IF(ISERROR(VLOOKUP($F5,'enter-data'!$A$7:$BI$94,10,FALSE))," ",VLOOKUP($F5,'enter-data'!$A$7:$BI$94,10,FALSE)) | AC5: =IF(ISERROR(VLOOKUP($F5,'enter-data'!$A$7:$BI$94,11,FALSE))," ",VLOOKUP($F5,'enter-data'!$A$7:$BI$94,11,FALSE)) | AD5: =IF(ISERROR(VLOOKUP($F5,'enter-data'!$A$7:$BI$94,12,FALSE))," ",VLOOKUP($F5,'enter-data'!$A$7:$BI$94,12,FALSE)) | AE5: =IF(ISERROR(VLOOKUP($F5,'enter-data'!$A$7:$BI$94,13,FALSE))," ",VLOOKUP($F5,'enter-data'!$A$7:$BI$94,13,FALSE)) | AF5: =IF(ISERROR(VLOOKUP($F5,'enter-data'!$A$7:$BI$94,14,FALSE))," ",VLOOKUP($F5,'enter-data'!$A$7:$BI$94,14,FALSE)) | AG5: =IF(ISERROR(VLOOKUP($F5,'enter-data'!$A$7:$BI$94,15,FALSE))," ",VLOOKUP($F5,'enter-data'!$A$7:$BI$94,15,FALSE)) | AH5: =IF(ISERROR(VLOOKUP($F5,'enter-data'!$A$7:$BI$94,16,FALSE))," ",VLOOKUP($F5,'enter-data'!$A$7:$BI$94,16,FALSE)) | AI5: =IF(ISERROR(VLOOKUP($F5,'enter-data'!$A$7:$BI$94,17,FALSE))," ",VLOOKUP($F5,'enter-data'!$A$7:$BI$94,17,FALSE)) | AJ5: =IF(ISERROR(VLOOKUP($F5,'enter-data'!$A$7:$BI$94,18,FALSE))," ",VLOOKUP($F5,'enter-data'!$A$7:$BI$94,18,FALSE)) | AK5: =IF(ISERROR(VLOOKUP($F5,'enter-data'!$A$7:$BI$94,19,FALSE))," ",VLOOKUP($F5,'enter-data'!$A$7:$BI$94,19,FALSE)) | AL5: =IF(ISERROR(VLOOKUP($F5,'enter-data'!$A$7:$BI$94,20,FALSE))," ",VLOOKUP($F5,'enter-data'!$A$7:$BI$94,20,FALSE)) | AM5: =IF(ISERROR(VLOOKUP($F5,'enter-data'!$A$7:$BI$94,21,FALSE))," ",VLOOKUP($F5,'enter-data'!$A$7:$BI$94,21,FALSE)) | AN5: =IF(ISERROR(VLOOKUP($F5,'enter-data'!$A$7:$BI$94,22,FALSE))," ",VLOOKUP($F5,'enter-data'!$A$7:$BI$94,22,FALSE)) | AO5: =IF(ISERROR(VLOOKUP($F5,'enter-data'!$A$7:$BI$94,23,FALSE))," ",VLOOKUP($F5,'enter-data'!$A$7:$BI$94,23,FALSE)) | AP5: =IF(ISERROR(VLOOKUP($F5,'enter-data'!$A$7:$BI$94,24,FALSE))," ",VLOOKUP($F5,'enter-data'!$A$7:$BI$94,24,FALSE)) | AQ5: =IF(ISERROR(VLOOKUP($F5,'enter-data'!$A$7:$BI$94,25,FALSE))," ",VLOOKUP($F5,'enter-data'!$A$7:$BI$94,25,FALSE)) | AR5: =IF(ISERROR(VLOOKUP($F5,'enter-data'!$A$7:$BI$94,26,FALSE))," ",VLOOKUP($F5,'enter-data'!$A$7:$BI$94,26,FALSE)) | AS5: =IF(ISERROR(VLOOKUP($F5,'enter-data'!$A$7:$BI$94,27,FALSE))," ",VLOOKUP($F5,'enter-data'!$A$7:$BI$94,27,FALSE)) | AT5: =IF(ISERROR(VLOOKUP($F5,'enter-data'!$A$7:$BI$94,28,FALSE))," ",VLOOKUP($F5,'enter-data'!$A$7:$BI$94,28,FALSE)) | AU5: =IF(ISERROR(VLOOKUP($F5,'enter-data'!$A$7:$BI$94,29,FALSE))," ",VLOOKUP($F5,'enter-data'!$A$7:$BI$94,29,FALSE)) | AV5: =IF(ISERROR(VLOOKUP($F5,'enter-data'!$A$7:$BI$94,30,FALSE))," ",VLOOKUP($F5,'enter-data'!$A$7:$BI$94,30,FALSE)) | AW5: =IF(ISERROR(VLOOKUP($F5,'enter-data'!$A$7:$BI$94,31,FALSE))," ",VLOOKUP($F5,'enter-data'!$A$7:$BI$94,31,FALSE)) | AX5: =IF(ISERROR(VLOOKUP($F5,'enter-data'!$A$7:$BI$94,32,FALSE))," ",VLOOKUP($F5,'enter-data'!$A$7:$BI$94,32,FALSE)) | AY5: =IF(ISERROR(VLOOKUP($F5,'enter-data'!$A$7:$BI$94,33,FALSE))," ",VLOOKUP($F5,'enter-data'!$A$7:$BI$94,33,FALSE)) | BA5: =IF(ISERROR(VLOOKUP($F5,'enter-data'!$A$7:$BI$94,35,FALSE))," ",VLOOKUP($F5,'enter-data'!$A$7:$BI$94,35,FALSE)) | BB5: =IF(ISERROR(VLOOKUP($F5,'enter-data'!$A$7:$BI$94,36,FALSE))," ",VLOOKUP($F5,'enter-data'!$A$7:$BI$94,36,FALSE)) | BC5: =IF(ISERROR(VLOOKUP($F5,'enter-data'!$A$7:$BI$94,37,FALSE))," ",VLOOKUP($F5,'enter-data'!$A$7:$BI$94,37,FALSE)) | BD5: =IF(ISERROR(VLOOKUP($F5,'enter-data'!$A$7:$BI$94,38,FALSE))," ",VLOOKUP($F5,'enter-data'!$A$7:$BI$94,38,FALSE)) | BE5: =IF(ISERROR(VLOOKUP($F5,'enter-data'!$A$7:$BI$94,39,FALSE))," ",VLOOKUP($F5,'enter-data'!$A$7:$BI$94,39,FALSE)) | BF5: =IF(ISERROR(VLOOKUP($F5,'enter-data'!$A$7:$BI$94,40,FALSE))," ",VLOOKUP($F5,'enter-data'!$A$7:$BI$94,40,FALSE)) | BG5: =IF(ISERROR(VLOOKUP($F5,'enter-data'!$A$7:$BI$94,41,FALSE))," ",VLOOKUP($F5,'enter-data'!$A$7:$BI$94,41,FALSE)) | BH5: =IF(ISERROR(VLOOKUP($F5,'enter-data'!$A$7:$BI$94,42,FALSE))," ",VLOOKUP($F5,'enter-data'!$A$7:$BI$94,42,FALSE)) | BI5: =IF(ISERROR(VLOOKUP($F5,'enter-data'!$A$7:$BI$94,43,FALSE))," ",VLOOKUP($F5,'enter-data'!$A$7:$BI$94,43,FALSE)) | BJ5: =IF(ISERROR(VLOOKUP($F5,'enter-data'!$A$7:$BI$94,44,FALSE))," ",VLOOKUP($F5,'enter-data'!$A$7:$BI$94,44,FALSE)) | BK5: =IF(ISERROR(VLOOKUP($F5,'enter-data'!$A$7:$BI$94,45,FALSE))," ",VLOOKUP($F5,'enter-data'!$A$7:$BI$94,45,FALSE)) | BL5: =IF(ISERROR(VLOOKUP($F5,'enter-data'!$A$7:$BI$94,46,FALSE))," ",VLOOKUP($F5,'enter-data'!$A$7:$BI$94,46,FALSE)) | BM5: =IF(ISERROR(VLOOKUP($F5,'enter-data'!$A$7:$BI$94,47,FALSE))," ",VLOOKUP($F5,'enter-data'!$A$7:$BI$94,47,FALSE)) | BN5: =IF(ISERROR(VLOOKUP($F5,'enter-data'!$A$7:$BI$94,48,FALSE))," ",VLOOKUP($F5,'enter-data'!$A$7:$BI$94,48,FALSE)) | BO5: =IF(ISERROR(VLOOKUP($F5,'enter-data'!$A$7:$BI$94,49,FALSE))," ",VLOOKUP($F5,'enter-data'!$A$7:$BI$94,49,FALSE)) | BP5: =IF(ISERROR(VLOOKUP($F5,'enter-data'!$A$7:$BI$94,50,FALSE))," ",VLOOKUP($F5,'enter-data'!$A$7:$BI$94,50,FALSE)) | BQ5: =IF(ISERROR(VLOOKUP($F5,'enter-data'!$A$7:$BI$94,51,FALSE))," ",VLOOKUP($F5,'enter-data'!$A$7:$BI$94,51,FALSE)) | BR5: =IF(ISERROR(VLOOKUP($F5,'enter-data'!$A$7:$BI$94,52,FALSE))," ",VLOOKUP($F5,'enter-data'!$A$7:$BI$94,52,FALSE)) | BS5: =IF(ISERROR(VLOOKUP($F5,'enter-data'!$A$7:$BI$94,53,FALSE))," ",VLOOKUP($F5,'enter-data'!$A$7:$BI$94,53,FALSE)) | BT5: =IF(ISERROR(VLOOKUP($F5,'enter-data'!$A$7:$BI$94,54,FALSE))," ",VLOOKUP($F5,'enter-data'!$A$7:$BI$94,54,FALSE)) | BU5: =IF(ISERROR(VLOOKUP($F5,'enter-data'!$A$7:$BI$94,55,FALSE))," ",VLOOKUP($F5,'enter-data'!$A$7:$BI$94,55,FALSE)) | BV5: =IF(ISERROR(VLOOKUP($F5,'enter-data'!$A$7:$BI$94,56,FALSE))," ",VLOOKUP($F5,'enter-data'!$A$7:$BI$94,56,FALSE)) | BW5: =IF(ISERROR(VLOOKUP($F5,'enter-data'!$A$7:$BI$94,57,FALSE))," ",VLOOKUP($F5,'enter-data'!$A$7:$BI$94,57,FALSE)) | BX5: =IF(ISERROR(VLOOKUP($F5,'enter-data'!$A$7:$BI$94,58,FALSE))," ",VLOOKUP($F5,'enter-data'!$A$7:$BI$94,58,FALSE)) | BY5: =IF(ISERROR(VLOOKUP($F5,'enter-data'!$A$7:$BI$94,59,FALSE))," ",VLOOKUP($F5,'enter-data'!$A$7:$BI$94,59,FALSE)) | BZ5: =IF(ISERROR(VLOOKUP($F5,'enter-data'!$A$7:$BI$94,60,FALSE))," ",VLOOKUP($F5,'enter-data'!$A$7:$BI$94,60,FALSE)) | CA5: =IF(ISERROR(VLOOKUP($F5,'enter-data'!$A$7:$BI$94,61,FALSE))," ",VLOOKUP($F5,'enter-data'!$A$7:$BI$94,61,FALSE))
F6: =G6&"."&5 -> 0.5 | G6: =SELEKTION!$D$10 -> 0 | Y6: =IF(ISERROR(VLOOKUP($F6,'enter-data'!$A$7:$BI$94,7,FALSE))," ",VLOOKUP($F6,'enter-data'!$A$7:$BI$94,7,FALSE)) | Z6: =IF(ISERROR(VLOOKUP($F6,'enter-data'!$A$7:$BI$94,8,FALSE))," ",VLOOKUP($F6,'enter-data'!$A$7:$BI$94,8,FALSE)) | AA6: =IF(ISERROR(VLOOKUP($F6,'enter-data'!$A$7:$BI$94,9,FALSE))," ",VLOOKUP($F6,'enter-data'!$A$7:$BI$94,9,FALSE)) | AB6: =IF(ISERROR(VLOOKUP($F6,'enter-data'!$A$7:$BI$94,10,FALSE))," ",VLOOKUP($F6,'enter-data'!$A$7:$BI$94,10,FALSE)) | AC6: =IF(ISERROR(VLOOKUP($F6,'enter-data'!$A$7:$BI$94,11,FALSE))," ",VLOOKUP($F6,'enter-data'!$A$7:$BI$94,11,FALSE)) | AD6: =IF(ISERROR(VLOOKUP($F6,'enter-data'!$A$7:$BI$94,12,FALSE))," ",VLOOKUP($F6,'enter-data'!$A$7:$BI$94,12,FALSE)) | AE6: =IF(ISERROR(VLOOKUP($F6,'enter-data'!$A$7:$BI$94,13,FALSE))," ",VLOOKUP($F6,'enter-data'!$A$7:$BI$94,13,FALSE)) | AF6: =IF(ISERROR(VLOOKUP($F6,'enter-data'!$A$7:$BI$94,14,FALSE))," ",VLOOKUP($F6,'enter-data'!$A$7:$BI$94,14,FALSE)) | AG6: =IF(ISERROR(VLOOKUP($F6,'enter-data'!$A$7:$BI$94,15,FALSE))," ",VLOOKUP($F6,'enter-data'!$A$7:$BI$94,15,FALSE)) | AH6: =IF(ISERROR(VLOOKUP($F6,'enter-data'!$A$7:$BI$94,16,FALSE))," ",VLOOKUP($F6,'enter-data'!$A$7:$BI$94,16,FALSE)) | AI6: =IF(ISERROR(VLOOKUP($F6,'enter-data'!$A$7:$BI$94,17,FALSE))," ",VLOOKUP($F6,'enter-data'!$A$7:$BI$94,17,FALSE)) | AJ6: =IF(ISERROR(VLOOKUP($F6,'enter-data'!$A$7:$BI$94,18,FALSE))," ",VLOOKUP($F6,'enter-data'!$A$7:$BI$94,18,FALSE)) | AK6: =IF(ISERROR(VLOOKUP($F6,'enter-data'!$A$7:$BI$94,19,FALSE))," ",VLOOKUP($F6,'enter-data'!$A$7:$BI$94,19,FALSE)) | AL6: =IF(ISERROR(VLOOKUP($F6,'enter-data'!$A$7:$BI$94,20,FALSE))," ",VLOOKUP($F6,'enter-data'!$A$7:$BI$94,20,FALSE)) | AM6: =IF(ISERROR(VLOOKUP($F6,'enter-data'!$A$7:$BI$94,21,FALSE))," ",VLOOKUP($F6,'enter-data'!$A$7:$BI$94,21,FALSE)) | AN6: =IF(ISERROR(VLOOKUP($F6,'enter-data'!$A$7:$BI$94,22,FALSE))," ",VLOOKUP($F6,'enter-data'!$A$7:$BI$94,22,FALSE)) | AO6: =IF(ISERROR(VLOOKUP($F6,'enter-data'!$A$7:$BI$94,23,FALSE))," ",VLOOKUP($F6,'enter-data'!$A$7:$BI$94,23,FALSE)) | AP6: =IF(ISERROR(VLOOKUP($F6,'enter-data'!$A$7:$BI$94,24,FALSE))," ",VLOOKUP($F6,'enter-data'!$A$7:$BI$94,24,FALSE)) | AQ6: =IF(ISERROR(VLOOKUP($F6,'enter-data'!$A$7:$BI$94,25,FALSE))," ",VLOOKUP($F6,'enter-data'!$A$7:$BI$94,25,FALSE)) | AR6: =IF(ISERROR(VLOOKUP($F6,'enter-data'!$A$7:$BI$94,26,FALSE))," ",VLOOKUP($F6,'enter-data'!$A$7:$BI$94,26,FALSE)) | AS6: =IF(ISERROR(VLOOKUP($F6,'enter-data'!$A$7:$BI$94,27,FALSE))," ",VLOOKUP($F6,'enter-data'!$A$7:$BI$94,27,FALSE)) | AT6: =IF(ISERROR(VLOOKUP($F6,'enter-data'!$A$7:$BI$94,28,FALSE))," ",VLOOKUP($F6,'enter-data'!$A$7:$BI$94,28,FALSE)) | AU6: =IF(ISERROR(VLOOKUP($F6,'enter-data'!$A$7:$BI$94,29,FALSE))," ",VLOOKUP($F6,'enter-data'!$A$7:$BI$94,29,FALSE)) | AV6: =IF(ISERROR(VLOOKUP($F6,'enter-data'!$A$7:$BI$94,30,FALSE))," ",VLOOKUP($F6,'enter-data'!$A$7:$BI$94,30,FALSE)) | AW6: =IF(ISERROR(VLOOKUP($F6,'enter-data'!$A$7:$BI$94,31,FALSE))," ",VLOOKUP($F6,'enter-data'!$A$7:$BI$94,31,FALSE)) | AX6: =IF(ISERROR(VLOOKUP($F6,'enter-data'!$A$7:$BI$94,32,FALSE))," ",VLOOKUP($F6,'enter-data'!$A$7:$BI$94,32,FALSE)) | AY6: =IF(ISERROR(VLOOKUP($F6,'enter-data'!$A$7:$BI$94,33,FALSE))," ",VLOOKUP($F6,'enter-data'!$A$7:$BI$94,33,FALSE)) | BA6: =IF(ISERROR(VLOOKUP($F6,'enter-data'!$A$7:$BI$94,35,FALSE))," ",VLOOKUP($F6,'enter-data'!$A$7:$BI$94,35,FALSE)) | BB6: =IF(ISERROR(VLOOKUP($F6,'enter-data'!$A$7:$BI$94,36,FALSE))," ",VLOOKUP($F6,'enter-data'!$A$7:$BI$94,36,FALSE)) | BC6: =IF(ISERROR(VLOOKUP($F6,'enter-data'!$A$7:$BI$94,37,FALSE))," ",VLOOKUP($F6,'enter-data'!$A$7:$BI$94,37,FALSE)) | BD6: =IF(ISERROR(VLOOKUP($F6,'enter-data'!$A$7:$BI$94,38,FALSE))," ",VLOOKUP($F6,'enter-data'!$A$7:$BI$94,38,FALSE)) | BE6: =IF(ISERROR(VLOOKUP($F6,'enter-data'!$A$7:$BI$94,39,FALSE))," ",VLOOKUP($F6,'enter-data'!$A$7:$BI$94,39,FALSE)) | BF6: =IF(ISERROR(VLOOKUP($F6,'enter-data'!$A$7:$BI$94,40,FALSE))," ",VLOOKUP($F6,'enter-data'!$A$7:$BI$94,40,FALSE)) | BG6: =IF(ISERROR(VLOOKUP($F6,'enter-data'!$A$7:$BI$94,41,FALSE))," ",VLOOKUP($F6,'enter-data'!$A$7:$BI$94,41,FALSE)) | BH6: =IF(ISERROR(VLOOKUP($F6,'enter-data'!$A$7:$BI$94,42,FALSE))," ",VLOOKUP($F6,'enter-data'!$A$7:$BI$94,42,FALSE)) | BI6: =IF(ISERROR(VLOOKUP($F6,'enter-data'!$A$7:$BI$94,43,FALSE))," ",VLOOKUP($F6,'enter-data'!$A$7:$BI$94,43,FALSE)) | BJ6: =IF(ISERROR(VLOOKUP($F6,'enter-data'!$A$7:$BI$94,44,FALSE))," ",VLOOKUP($F6,'enter-data'!$A$7:$BI$94,44,FALSE)) | BK6: =IF(ISERROR(VLOOKUP($F6,'enter-data'!$A$7:$BI$94,45,FALSE))," ",VLOOKUP($F6,'enter-data'!$A$7:$BI$94,45,FALSE)) | BL6: =IF(ISERROR(VLOOKUP($F6,'enter-data'!$A$7:$BI$94,46,FALSE))," ",VLOOKUP($F6,'enter-data'!$A$7:$BI$94,46,FALSE)) | BM6: =IF(ISERROR(VLOOKUP($F6,'enter-data'!$A$7:$BI$94,47,FALSE))," ",VLOOKUP($F6,'enter-data'!$A$7:$BI$94,47,FALSE)) | BN6: =IF(ISERROR(VLOOKUP($F6,'enter-data'!$A$7:$BI$94,48,FALSE))," ",VLOOKUP($F6,'enter-data'!$A$7:$BI$94,48,FALSE)) | BO6: =IF(ISERROR(VLOOKUP($F6,'enter-data'!$A$7:$BI$94,49,FALSE))," ",VLOOKUP($F6,'enter-data'!$A$7:$BI$94,49,FALSE)) | BP6: =IF(ISERROR(VLOOKUP($F6,'enter-data'!$A$7:$BI$94,50,FALSE))," ",VLOOKUP($F6,'enter-data'!$A$7:$BI$94,50,FALSE)) | BQ6: =IF(ISERROR(VLOOKUP($F6,'enter-data'!$A$7:$BI$94,51,FALSE))," ",VLOOKUP($F6,'enter-data'!$A$7:$BI$94,51,FALSE)) | BR6: =IF(ISERROR(VLOOKUP($F6,'enter-data'!$A$7:$BI$94,52,FALSE))," ",VLOOKUP($F6,'enter-data'!$A$7:$BI$94,52,FALSE)) | BS6: =IF(ISERROR(VLOOKUP($F6,'enter-data'!$A$7:$BI$94,53,FALSE))," ",VLOOKUP($F6,'enter-data'!$A$7:$BI$94,53,FALSE)) | BT6: =IF(ISERROR(VLOOKUP($F6,'enter-data'!$A$7:$BI$94,54,FALSE))," ",VLOOKUP($F6,'enter-data'!$A$7:$BI$94,54,FALSE)) | BU6: =IF(ISERROR(VLOOKUP($F6,'enter-data'!$A$7:$BI$94,55,FALSE))," ",VLOOKUP($F6,'enter-data'!$A$7:$BI$94,55,FALSE)) | BV6: =IF(ISERROR(VLOOKUP($F6,'enter-data'!$A$7:$BI$94,56,FALSE))," ",VLOOKUP($F6,'enter-data'!$A$7:$BI$94,56,FALSE)) | BW6: =IF(ISERROR(VLOOKUP($F6,'enter-data'!$A$7:$BI$94,57,FALSE))," ",VLOOKUP($F6,'enter-data'!$A$7:$BI$94,57,FALSE)) | BX6: =IF(ISERROR(VLOOKUP($F6,'enter-data'!$A$7:$BI$94,58,FALSE))," ",VLOOKUP($F6,'enter-data'!$A$7:$BI$94,58,FALSE)) | BY6: =IF(ISERROR(VLOOKUP($F6,'enter-data'!$A$7:$BI$94,59,FALSE))," ",VLOOKUP($F6,'enter-data'!$A$7:$BI$94,59,FALSE)) | BZ6: =IF(ISERROR(VLOOKUP($F6,'enter-data'!$A$7:$BI$94,60,FALSE))," ",VLOOKUP($F6,'enter-data'!$A$7:$BI$94,60,FALSE)) | CA6: =IF(ISERROR(VLOOKUP($F6,'enter-data'!$A$7:$BI$94,61,FALSE))," ",VLOOKUP($F6,'enter-data'!$A$7:$BI$94,61,FALSE))
E8: Rank | F8: Country | G8: IOC | H8: TG | I8: MG | J8: FG | K8: TS | L8: MS | M8: FS | N8: TB | O8: MB | P8: FB | Q8: TT | R8: MT | S8: FT | T8: Point G | U8: Point S | V8: Point B | W8: Point T
A9: 1 | B9: =ROUND(A9/1000,3) -> 0.001 | C9: =IF(Q9>0,E9+B9," ") | D9: =IF(Q9>0,RANK(C9,$C$9:$C$148,1)," ") | E9: =IF(Q9>0,RANK(W9,$W$9:$W$148)," ") | F9: Afghanistan | G9: AFG | H9: =I9+J9 -> 0 | I9: =Y9+AB9+AE9+AH9+AK9+AN9+AQ9+AT9+AW9 -> 0 | J9: =BA9+BD9+BG9+BJ9+BM9+BP9+BS9+BV9+BY9 -> 0 | K9: =L9+M9 -> 0 | L9: =Z9+AC9+AF9+AI9+AL9+AO9+AR9+AU9+AX9 -> 0 | M9: =BB9+BE9+BH9+BK9+BN9+BQ9+BT9+BW9+BZ9 -> 0 | N9: =O9+P9 -> 0 | O9: =AA9+AD9+AG9+AJ9+AM9+AP9+AS9+AV9+AY9 -> 0 | P9: =BC9+BF9+BI9+BL9+BO9+BR9+BU9+BX9+CA9 -> 0 | Q9: =H9+K9+N9 -> 0 | R9: =I9+L9+O9 -> 0 | S9: =J9+M9+P9 -> 0 | T9: =H9*100 -> 0 | U9: =K9*10 -> 0 | V9: =N9 -> 0 | W9: =SUM(T9:V9) -> 0 | Y9: =COUNTIF(Y$2:Y$6,$G9) -> 0 | Z9: =COUNTIF(Z$2:Z$6,$G9) -> 0 | AA9: =COUNTIF(AA$2:AA$6,$G9) -> 0 | AB9: =COUNTIF(AB$2:AB$6,$G9) -> 0 | AC9: =COUNTIF(AC$2:AC$6,$G9) -> 0 | AD9: =COUNTIF(AD$2:AD$6,$G9) -> 0 | AE9: =COUNTIF(AE$2:AE$6,$G9) -> 0 | AF9: =COUNTIF(AF$2:AF$6,$G9) -> 0 | ... CA9: =COUNTIF(CA$2:CA$6,$G9) -> 0
A10: 2 | B10: =ROUND(A10/1000,3) -> 0.002 | C10: =IF(Q10>0,E10+B10," ") | D10: =IF(Q10>0,RANK(C10,$C$9:$C$148,1)," ") | E10: =IF(Q10>0,RANK(W10,$W$9:$W$148)," ") | F10: South Africa | G10: RSA | H10: =I10+J10 -> 0 | I10: =Y10+AB10+AE10+AH10+AK10+AN10+AQ10+AT10+AW10 -> 0 | J10: =BA10+BD10+BG10+BJ10+BM10+BP10+BS10+BV10+BY10 -> 0 | K10: =L10+M10 -> 0 | L10: =Z10+AC10+AF10+AI10+AL10+AO10+AR10+AU10+AX10 -> 0 | M10: =BB10+BE10+BH10+BK10+BN10+BQ10+BT10+BW10+BZ10 -> 0 | N10: =O10+P10 -> 0 | O10: =AA10+AD10+AG10+AJ10+AM10+AP10+AS10+AV10+AY10 -> 0 | P10: =BC10+BF10+BI10+BL10+BO10+BR10+BU10+BX10+CA10 -> 0 | Q10: =H10+K10+N10 -> 0 | R10: =I10+L10+O10 -> 0 | S10: =J10+M10+P10 -> 0 | T10: =H10*100 -> 0 | U10: =K10*10 -> 0 | V10: =N10 -> 0 | W10: =SUM(T10:V10) -> 0 | Y10: =COUNTIF(Y$2:Y$6,$G10) -> 0 | Z10: =COUNTIF(Z$2:Z$6,$G10) -> 0 | AA10: =COUNTIF(AA$2:AA$6,$G10) -> 0 | AB10: =COUNTIF(AB$2:AB$6,$G10) -> 0 | AC10: =COUNTIF(AC$2:AC$6,$G10) -> 0 | AD10: =COUNTIF(AD$2:AD$6,$G10) -> 0 | AE10: =COUNTIF(AE$2:AE$6,$G10) -> 0 | AF10: =COUNTIF(AF$2:AF$6,$G10) -> 0 | ... CA10: =COUNTIF(CA$2:CA$6,$G10) -> 0
A11: 3 | B11: =ROUND(A11/1000,3) -> 0.003 | C11: =IF(Q11>0,E11+B11," ") | D11: =IF(Q11>0,RANK(C11,$C$9:$C$148,1)," ") | E11: =IF(Q11>0,RANK(W11,$W$9:$W$148)," ") | F11: Albania | G11: ALB | H11: =I11+J11 -> 0 | I11: =Y11+AB11+AE11+AH11+AK11+AN11+AQ11+AT11+AW11 -> 0 | J11: =BA11+BD11+BG11+BJ11+BM11+BP11+BS11+BV11+BY11 -> 0 | K11: =L11+M11 -> 0 | L11: =Z11+AC11+AF11+AI11+AL11+AO11+AR11+AU11+AX11 -> 0 | M11: =BB11+BE11+BH11+BK11+BN11+BQ11+BT11+BW11+BZ11 -> 0 | N11: =O11+P11 -> 0 | O11: =AA11+AD11+AG11+AJ11+AM11+AP11+AS11+AV11+AY11 -> 0 | P11: =BC11+BF11+BI11+BL11+BO11+BR11+BU11+BX11+CA11 -> 0 | Q11: =H11+K11+N11 -> 0 | R11: =I11+L11+O11 -> 0 | S11: =J11+M11+P11 -> 0 | T11: =H11*100 -> 0 | U11: =K11*10 -> 0 | V11: =N11 -> 0 | W11: =SUM(T11:V11) -> 0 | Y11: =COUNTIF(Y$2:Y$6,$G11) -> 0 | Z11: =COUNTIF(Z$2:Z$6,$G11) -> 0 | AA11: =COUNTIF(AA$2:AA$6,$G11) -> 0 | AB11: =COUNTIF(AB$2:AB$6,$G11) -> 0 | AC11: =COUNTIF(AC$2:AC$6,$G11) -> 0 | AD11: =COUNTIF(AD$2:AD$6,$G11) -> 0 | AE11: =COUNTIF(AE$2:AE$6,$G11) -> 0 | AF11: =COUNTIF(AF$2:AF$6,$G11) -> 0 | ... CA11: =COUNTIF(CA$2:CA$6,$G11) -> 0
A12: 4 | B12: =ROUND(A12/1000,3) -> 0.004 | C12: =IF(Q12>0,E12+B12," ") | D12: =IF(Q12>0,RANK(C12,$C$9:$C$148,1)," ") | E12: =IF(Q12>0,RANK(W12,$W$9:$W$148)," ") | F12: Algeria | G12: ALG | H12: =I12+J12 -> 0 | I12: =Y12+AB12+AE12+AH12+AK12+AN12+AQ12+AT12+AW12 -> 0 | J12: =BA12+BD12+BG12+BJ12+BM12+BP12+BS12+BV12+BY12 -> 0 | K12: =L12+M12 -> 0 | L12: =Z12+AC12+AF12+AI12+AL12+AO12+AR12+AU12+AX12 -> 0 | M12: =BB12+BE12+BH12+BK12+BN12+BQ12+BT12+BW12+BZ12 -> 0 | N12: =O12+P12 -> 0 | O12: =AA12+AD12+AG12+AJ12+AM12+AP12+AS12+AV12+AY12 -> 0 | P12: =BC12+BF12+BI12+BL12+BO12+BR12+BU12+BX12+CA12 -> 0 | Q12: =H12+K12+N12 -> 0 | R12: =I12+L12+O12 -> 0 | S12: =J12+M12+P12 -> 0 | T12: =H12*100 -> 0 | U12: =K12*10 -> 0 | V12: =N12 -> 0 | W12: =SUM(T12:V12) -> 0 | Y12: =COUNTIF(Y$2:Y$6,$G12) -> 0 | Z12: =COUNTIF(Z$2:Z$6,$G12) -> 0 | AA12: =COUNTIF(AA$2:AA$6,$G12) -> 0 | AB12: =COUNTIF(AB$2:AB$6,$G12) -> 0 | AC12: =COUNTIF(AC$2:AC$6,$G12) -> 0 | AD12: =COUNTIF(AD$2:AD$6,$G12) -> 0 | AE12: =COUNTIF(AE$2:AE$6,$G12) -> 0 | AF12: =COUNTIF(AF$2:AF$6,$G12) -> 0 | ... CA12: =COUNTIF(CA$2:CA$6,$G12) -> 0
A13: 5 | B13: =ROUND(A13/1000,3) -> 0.005 | C13: =IF(Q13>0,E13+B13," ") | D13: =IF(Q13>0,RANK(C13,$C$9:$C$148,1)," ") | E13: =IF(Q13>0,RANK(W13,$W$9:$W$148)," ") | F13: Germany | G13: GER | H13: =I13+J13 -> 0 | I13: =Y13+AB13+AE13+AH13+AK13+AN13+AQ13+AT13+AW13 -> 0 | J13: =BA13+BD13+BG13+BJ13+BM13+BP13+BS13+BV13+BY13 -> 0 | K13: =L13+M13 -> 0 | L13: =Z13+AC13+AF13+AI13+AL13+AO13+AR13+AU13+AX13 -> 0 | M13: =BB13+BE13+BH13+BK13+BN13+BQ13+BT13+BW13+BZ13 -> 0 | N13: =O13+P13 -> 0 | O13: =AA13+AD13+AG13+AJ13+AM13+AP13+AS13+AV13+AY13 -> 0 | P13: =BC13+BF13+BI13+BL13+BO13+BR13+BU13+BX13+CA13 -> 0 | Q13: =H13+K13+N13 -> 0 | R13: =I13+L13+O13 -> 0 | S13: =J13+M13+P13 -> 0 | T13: =H13*100 -> 0 | U13: =K13*10 -> 0 | V13: =N13 -> 0 | W13: =SUM(T13:V13) -> 0 | Y13: =COUNTIF(Y$2:Y$6,$G13) -> 0 | Z13: =COUNTIF(Z$2:Z$6,$G13) -> 0 | AA13: =COUNTIF(AA$2:AA$6,$G13) -> 0 | AB13: =COUNTIF(AB$2:AB$6,$G13) -> 0 | AC13: =COUNTIF(AC$2:AC$6,$G13) -> 0 | AD13: =COUNTIF(AD$2:AD$6,$G13) -> 0 | AE13: =COUNTIF(AE$2:AE$6,$G13) -> 0 | AF13: =COUNTIF(AF$2:AF$6,$G13) -> 0 | ... CA13: =COUNTIF(CA$2:CA$6,$G13) -> 0
A14: 6 | B14: =ROUND(A14/1000,3) -> 0.006 | C14: =IF(Q14>0,E14+B14," ") | D14: =IF(Q14>0,RANK(C14,$C$9:$C$148,1)," ") | E14: =IF(Q14>0,RANK(W14,$W$9:$W$148)," ") | F14: Angola | G14: ANG | H14: =I14+J14 -> 0 | I14: =Y14+AB14+AE14+AH14+AK14+AN14+AQ14+AT14+AW14 -> 0 | J14: =BA14+BD14+BG14+BJ14+BM14+BP14+BS14+BV14+BY14 -> 0 | K14: =L14+M14 -> 0 | L14: =Z14+AC14+AF14+AI14+AL14+AO14+AR14+AU14+AX14 -> 0 | M14: =BB14+BE14+BH14+BK14+BN14+BQ14+BT14+BW14+BZ14 -> 0 | N14: =O14+P14 -> 0 | O14: =AA14+AD14+AG14+AJ14+AM14+AP14+AS14+AV14+AY14 -> 0 | P14: =BC14+BF14+BI14+BL14+BO14+BR14+BU14+BX14+CA14 -> 0 | Q14: =H14+K14+N14 -> 0 | R14: =I14+L14+O14 -> 0 | S14: =J14+M14+P14 -> 0 | T14: =H14*100 -> 0 | U14: =K14*10 -> 0 | V14: =N14 -> 0 | W14: =SUM(T14:V14) -> 0 | Y14: =COUNTIF(Y$2:Y$6,$G14) -> 0 | Z14: =COUNTIF(Z$2:Z$6,$G14) -> 0 | AA14: =COUNTIF(AA$2:AA$6,$G14) -> 0 | AB14: =COUNTIF(AB$2:AB$6,$G14) -> 0 | AC14: =COUNTIF(AC$2:AC$6,$G14) -> 0 | AD14: =COUNTIF(AD$2:AD$6,$G14) -> 0 | AE14: =COUNTIF(AE$2:AE$6,$G14) -> 0 | AF14: =COUNTIF(AF$2:AF$6,$G14) -> 0 | ... CA14: =COUNTIF(CA$2:CA$6,$G14) -> 0
A15: 7 | B15: =ROUND(A15/1000,3) -> 0.007 | C15: =IF(Q15>0,E15+B15," ") | D15: =IF(Q15>0,RANK(C15,$C$9:$C$148,1)," ") | E15: =IF(Q15>0,RANK(W15,$W$9:$W$148)," ") | F15: Saudi Arabia | G15: KSA | H15: =I15+J15 -> 0 | I15: =Y15+AB15+AE15+AH15+AK15+AN15+AQ15+AT15+AW15 -> 0 | J15: =BA15+BD15+BG15+BJ15+BM15+BP15+BS15+BV15+BY15 -> 0 | K15: =L15+M15 -> 0 | L15: =Z15+AC15+AF15+AI15+AL15+AO15+AR15+AU15+AX15 -> 0 | M15: =BB15+BE15+BH15+BK15+BN15+BQ15+BT15+BW15+BZ15 -> 0 | N15: =O15+P15 -> 0 | O15: =AA15+AD15+AG15+AJ15+AM15+AP15+AS15+AV15+AY15 -> 0 | P15: =BC15+BF15+BI15+BL15+BO15+BR15+BU15+BX15+CA15 -> 0 | Q15: =H15+K15+N15 -> 0 | R15: =I15+L15+O15 -> 0 | S15: =J15+M15+P15 -> 0 | T15: =H15*100 -> 0 | U15: =K15*10 -> 0 | V15: =N15 -> 0 | W15: =SUM(T15:V15) -> 0 | Y15: =COUNTIF(Y$2:Y$6,$G15) -> 0 | Z15: =COUNTIF(Z$2:Z$6,$G15) -> 0 | AA15: =COUNTIF(AA$2:AA$6,$G15) -> 0 | AB15: =COUNTIF(AB$2:AB$6,$G15) -> 0 | AC15: =COUNTIF(AC$2:AC$6,$G15) -> 0 | AD15: =COUNTIF(AD$2:AD$6,$G15) -> 0 | AE15: =COUNTIF(AE$2:AE$6,$G15) -> 0 | AF15: =COUNTIF(AF$2:AF$6,$G15) -> 0 | ... CA15: =COUNTIF(CA$2:CA$6,$G15) -> 0
A16: 8 | B16: =ROUND(A16/1000,3) -> 0.008 | C16: =IF(Q16>0,E16+B16," ") | D16: =IF(Q16>0,RANK(C16,$C$9:$C$148,1)," ") | E16: =IF(Q16>0,RANK(W16,$W$9:$W$148)," ") | F16: Argentina | G16: ARG | H16: =I16+J16 -> 0 | I16: =Y16+AB16+AE16+AH16+AK16+AN16+AQ16+AT16+AW16 -> 0 | J16: =BA16+BD16+BG16+BJ16+BM16+BP16+BS16+BV16+BY16 -> 0 | K16: =L16+M16 -> 0 | L16: =Z16+AC16+AF16+AI16+AL16+AO16+AR16+AU16+AX16 -> 0 | M16: =BB16+BE16+BH16+BK16+BN16+BQ16+BT16+BW16+BZ16 -> 0 | N16: =O16+P16 -> 0 | O16: =AA16+AD16+AG16+AJ16+AM16+AP16+AS16+AV16+AY16 -> 0 | P16: =BC16+BF16+BI16+BL16+BO16+BR16+BU16+BX16+CA16 -> 0 | Q16: =H16+K16+N16 -> 0 | R16: =I16+L16+O16 -> 0 | S16: =J16+M16+P16 -> 0 | T16: =H16*100 -> 0 | U16: =K16*10 -> 0 | V16: =N16 -> 0 | W16: =SUM(T16:V16) -> 0 | Y16: =COUNTIF(Y$2:Y$6,$G16) -> 0 | Z16: =COUNTIF(Z$2:Z$6,$G16) -> 0 | AA16: =COUNTIF(AA$2:AA$6,$G16) -> 0 | AB16: =COUNTIF(AB$2:AB$6,$G16) -> 0 | AC16: =COUNTIF(AC$2:AC$6,$G16) -> 0 | AD16: =COUNTIF(AD$2:AD$6,$G16) -> 0 | AE16: =COUNTIF(AE$2:AE$6,$G16) -> 0 | AF16: =COUNTIF(AF$2:AF$6,$G16) -> 0 | ... CA16: =COUNTIF(CA$2:CA$6,$G16) -> 0
A17: 9 | B17: =ROUND(A17/1000,3) -> 0.009 | C17: =IF(Q17>0,E17+B17," ") | D17: =IF(Q17>0,RANK(C17,$C$9:$C$148,1)," ") | E17: =IF(Q17>0,RANK(W17,$W$9:$W$148)," ") | F17: Armenia | G17: ARM | H17: =I17+J17 -> 0 | I17: =Y17+AB17+AE17+AH17+AK17+AN17+AQ17+AT17+AW17 -> 0 | J17: =BA17+BD17+BG17+BJ17+BM17+BP17+BS17+BV17+BY17 -> 0 | K17: =L17+M17 -> 0 | L17: =Z17+AC17+AF17+AI17+AL17+AO17+AR17+AU17+AX17 -> 0 | M17: =BB17+BE17+BH17+BK17+BN17+BQ17+BT17+BW17+BZ17 -> 0 | N17: =O17+P17 -> 0 | O17: =AA17+AD17+AG17+AJ17+AM17+AP17+AS17+AV17+AY17 -> 0 | P17: =BC17+BF17+BI17+BL17+BO17+BR17+BU17+BX17+CA17 -> 0 | Q17: =H17+K17+N17 -> 0 | R17: =I17+L17+O17 -> 0 | S17: =J17+M17+P17 -> 0 | T17: =H17*100 -> 0 | U17: =K17*10 -> 0 | V17: =N17 -> 0 | W17: =SUM(T17:V17) -> 0 | Y17: =COUNTIF(Y$2:Y$6,$G17) -> 0 | Z17: =COUNTIF(Z$2:Z$6,$G17) -> 0 | AA17: =COUNTIF(AA$2:AA$6,$G17) -> 0 | AB17: =COUNTIF(AB$2:AB$6,$G17) -> 0 | AC17: =COUNTIF(AC$2:AC$6,$G17) -> 0 | AD17: =COUNTIF(AD$2:AD$6,$G17) -> 0 | AE17: =COUNTIF(AE$2:AE$6,$G17) -> 0 | AF17: =COUNTIF(AF$2:AF$6,$G17) -> 0 | ... CA17: =COUNTIF(CA$2:CA$6,$G17) -> 0
A18: 10 | B18: =ROUND(A18/1000,3) -> 0.01 | C18: =IF(Q18>0,E18+B18," ") | D18: =IF(Q18>0,RANK(C18,$C$9:$C$148,1)," ") | E18: =IF(Q18>0,RANK(W18,$W$9:$W$148)," ") | F18: Austria | G18: AUT | H18: =I18+J18 -> 0 | I18: =Y18+AB18+AE18+AH18+AK18+AN18+AQ18+AT18+AW18 -> 0 | J18: =BA18+BD18+BG18+BJ18+BM18+BP18+BS18+BV18+BY18 -> 0 | K18: =L18+M18 -> 0 | L18: =Z18+AC18+AF18+AI18+AL18+AO18+AR18+AU18+AX18 -> 0 | M18: =BB18+BE18+BH18+BK18+BN18+BQ18+BT18+BW18+BZ18 -> 0 | N18: =O18+P18 -> 0 | O18: =AA18+AD18+AG18+AJ18+AM18+AP18+AS18+AV18+AY18 -> 0 | P18: =BC18+BF18+BI18+BL18+BO18+BR18+BU18+BX18+CA18 -> 0 | Q18: =H18+K18+N18 -> 0 | R18: =I18+L18+O18 -> 0 | S18: =J18+M18+P18 -> 0 | T18: =H18*100 -> 0 | U18: =K18*10 -> 0 | V18: =N18 -> 0 | W18: =SUM(T18:V18) -> 0 | Y18: =COUNTIF(Y$2:Y$6,$G18) -> 0 | Z18: =COUNTIF(Z$2:Z$6,$G18) -> 0 | AA18: =COUNTIF(AA$2:AA$6,$G18) -> 0 | AB18: =COUNTIF(AB$2:AB$6,$G18) -> 0 | AC18: =COUNTIF(AC$2:AC$6,$G18) -> 0 | AD18: =COUNTIF(AD$2:AD$6,$G18) -> 0 | AE18: =COUNTIF(AE$2:AE$6,$G18) -> 0 | AF18: =COUNTIF(AF$2:AF$6,$G18) -> 0 | ... CA18: =COUNTIF(CA$2:CA$6,$G18) -> 0
A19: 11 | B19: =ROUND(A19/1000,3) -> 0.011 | C19: =IF(Q19>0,E19+B19," ") | D19: =IF(Q19>0,RANK(C19,$C$9:$C$148,1)," ") | E19: =IF(Q19>0,RANK(W19,$W$9:$W$148)," ") | F19: Azerbaijan | G19: AZE | H19: =I19+J19 -> 0 | I19: =Y19+AB19+AE19+AH19+AK19+AN19+AQ19+AT19+AW19 -> 0 | J19: =BA19+BD19+BG19+BJ19+BM19+BP19+BS19+BV19+BY19 -> 0 | K19: =L19+M19 -> 0 | L19: =Z19+AC19+AF19+AI19+AL19+AO19+AR19+AU19+AX19 -> 0 | M19: =BB19+BE19+BH19+BK19+BN19+BQ19+BT19+BW19+BZ19 -> 0 | N19: =O19+P19 -> 0 | O19: =AA19+AD19+AG19+AJ19+AM19+AP19+AS19+AV19+AY19 -> 0 | P19: =BC19+BF19+BI19+BL19+BO19+BR19+BU19+BX19+CA19 -> 0 | Q19: =H19+K19+N19 -> 0 | R19: =I19+L19+O19 -> 0 | S19: =J19+M19+P19 -> 0 | T19: =H19*100 -> 0 | U19: =K19*10 -> 0 | V19: =N19 -> 0 | W19: =SUM(T19:V19) -> 0 | Y19: =COUNTIF(Y$2:Y$6,$G19) -> 0 | Z19: =COUNTIF(Z$2:Z$6,$G19) -> 0 | AA19: =COUNTIF(AA$2:AA$6,$G19) -> 0 | AB19: =COUNTIF(AB$2:AB$6,$G19) -> 0 | AC19: =COUNTIF(AC$2:AC$6,$G19) -> 0 | AD19: =COUNTIF(AD$2:AD$6,$G19) -> 0 | AE19: =COUNTIF(AE$2:AE$6,$G19) -> 0 | AF19: =COUNTIF(AF$2:AF$6,$G19) -> 0 | ... CA19: =COUNTIF(CA$2:CA$6,$G19) -> 0
A20: 12 | B20: =ROUND(A20/1000,3) -> 0.012 | C20: =IF(Q20>0,E20+B20," ") | D20: =IF(Q20>0,RANK(C20,$C$9:$C$148,1)," ") | E20: =IF(Q20>0,RANK(W20,$W$9:$W$148)," ") | F20: Bahrain | G20: BRN | H20: =I20+J20 -> 0 | I20: =Y20+AB20+AE20+AH20+AK20+AN20+AQ20+AT20+AW20 -> 0 | J20: =BA20+BD20+BG20+BJ20+BM20+BP20+BS20+BV20+BY20 -> 0 | K20: =L20+M20 -> 0 | L20: =Z20+AC20+AF20+AI20+AL20+AO20+AR20+AU20+AX20 -> 0 | M20: =BB20+BE20+BH20+BK20+BN20+BQ20+BT20+BW20+BZ20 -> 0 | N20: =O20+P20 -> 0 | O20: =AA20+AD20+AG20+AJ20+AM20+AP20+AS20+AV20+AY20 -> 0 | P20: =BC20+BF20+BI20+BL20+BO20+BR20+BU20+BX20+CA20 -> 0 | Q20: =H20+K20+N20 -> 0 | R20: =I20+L20+O20 -> 0 | S20: =J20+M20+P20 -> 0 | T20: =H20*100 -> 0 | U20: =K20*10 -> 0 | V20: =N20 -> 0 | W20: =SUM(T20:V20) -> 0 | Y20: =COUNTIF(Y$2:Y$6,$G20) -> 0 | Z20: =COUNTIF(Z$2:Z$6,$G20) -> 0 | AA20: =COUNTIF(AA$2:AA$6,$G20) -> 0 | AB20: =COUNTIF(AB$2:AB$6,$G20) -> 0 | AC20: =COUNTIF(AC$2:AC$6,$G20) -> 0 | AD20: =COUNTIF(AD$2:AD$6,$G20) -> 0 | AE20: =COUNTIF(AE$2:AE$6,$G20) -> 0 | AF20: =COUNTIF(AF$2:AF$6,$G20) -> 0 | ... CA20: =COUNTIF(CA$2:CA$6,$G20) -> 0
... A148: 140 | B148: =ROUND(A148/1000,3) -> 0.14 | C148: =IF(Q148>0,E148+B148," ") | D148: =IF(Q148>0,RANK(C148,$C$9:$C$148,1)," ") | E148: =IF(Q148>0,RANK(W148,$W$9:$W$148)," ") | F148: Zimbabwe | G148: ZIM | H148: =I148+J148 -> 0 | I148: =Y148+AB148+AE148+AH148+AK148+AN148+AQ148+AT148+AW148 -> 0 | J148: =BA148+BD148+BG148+BJ148+BM148+BP148+BS148+BV148+BY148 -> 0 | K148: =L148+M148 -> 0 | L148: =Z148+AC148+AF148+AI148+AL148+AO148+AR148+AU148+AX148 -> 0 | M148: =BB148+BE148+BH148+BK148+BN148+BQ148+BT148+BW148+BZ148 -> 0 | N148: =O148+P148 -> 0 | O148: =AA148+AD148+AG148+AJ148+AM148+AP148+AS148+AV148+AY148 -> 0 | P148: =BC148+BF148+BI148+BL148+BO148+BR148+BU148+BX148+CA148 -> 0 | Q148: =H148+K148+N148 -> 0 | R148: =I148+L148+O148 -> 0 | S148: =J148+M148+P148 -> 0 | T148: =H148*100 -> 0 | U148: =K148*10 -> 0 | V148: =N148 -> 0 | W148: =SUM(T148:V148) -> 0 | Y148: =COUNTIF(Y$2:Y$6,$G148) -> 0 | Z148: =COUNTIF(Z$2:Z$6,$G148) -> 0 | AA148: =COUNTIF(AA$2:AA$6,$G148) -> 0 | AB148: =COUNTIF(AB$2:AB$6,$G148) -> 0 | AC148: =COUNTIF(AC$2:AC$6,$G148) -> 0 | AD148: =COUNTIF(AD$2:AD$6,$G148) -> 0 | AE148: =COUNTIF(AE$2:AE$6,$G148) -> 0 | AF148: =COUNTIF(AF$2:AF$6,$G148) -> 0 | ... CA148: =COUNTIF(CA$2:CA$6,$G148) -> 0
F149: SUMME | H149: =SUM(H9:H148) -> 0 | I149: =SUM(I9:I148) -> 0 | J149: =SUM(J9:J148) -> 0 | K149: =SUM(K9:K148) -> 0 | L149: =SUM(L9:L148) -> 0 | M149: =SUM(M9:M148) -> 0 | N149: =SUM(N9:N148) -> 0 | O149: =SUM(O9:O148) -> 0 | ... S149: =SUM(S9:S148) -> 0 | Y149: =SUM(Y9:Y148) -> 0 | Z149: =SUM(Z9:Z148) -> 0 | AA149: =SUM(AA9:AA148) -> 0 | AB149: =SUM(AB9:AB148) -> 0 | AC149: =SUM(AC9:AC148) -> 0 | AD149: =SUM(AD9:AD148) -> 0 | AE149: =SUM(AE9:AE148) -> 0 | AF149: =SUM(AF9:AF148) -> 0 | ... CA149: =SUM(CA9:CA148) -> 0

Sheet Y
B1: Y E A R: | G1: ='calc.year'!G2 -> 0 | Q1: Back to selection
B2: HOST COUNTRY: | C2: =IF(ISERROR(VLOOKUP(G1,Parameter!F:J,4,FALSE))," ",VLOOKUP(G1,Parameter!F:J,4,FALSE))
B3: LOCATION: | C3: =IF(ISERROR(VLOOKUP(G1,Parameter!F:J,5,FALSE))," ",VLOOKUP(G1,Parameter!F:J,5,FALSE))
B4: N A T I O N - M E D A L T A B L E
B5: =IF(OR(ISERROR(INDEX(Parameter!$F$3:$F$76,MATCH(SELEKTION!$D$10,Parameter!$F$3:$F$76,0))),SELEKTION!$D$10=0),"no correct year selected !","") -> no correct year selected !
D8: GOLD | G8: SILVER | J8: BRONCE | M8: TOTAL
D9: TOTAL | E9: M | F9: F | G9: TOTAL | H9: M | I9: F | J9: TOTAL | K9: M | L9: F | M9: TOTAL | N9: M | O9: F
D10: ='calc.year'!H149 -> 0 | E10: ='calc.year'!I149 -> 0 | F10: ='calc.year'!J149 -> 0 | G10: ='calc.year'!K149 -> 0 | H10: ='calc.year'!L149 -> 0 | I10: ='calc.year'!M149 -> 0 | J10: ='calc.year'!N149 -> 0 | K10: ='calc.year'!O149 -> 0 | ... O10: ='calc.year'!S149 -> 0
A11: =IF(ISERROR(INDEX('calc.year'!$D$9:$D$148,MATCH(ROW()-10,'calc.year'!$D$9:$D$148,0))),150,INDEX('calc.year'!$D$9:$D$148,MATCH(ROW()-10,'calc.year'!$D$9:$D$148,0))) -> 150 | B11: =IF(ISERROR(VLOOKUP($A11,'calc.year'!$D:$S,3,FALSE))," ",VLOOKUP($A11,'calc.year'!$D:$S,3,FALSE)) | C11: =IF(ISERROR(VLOOKUP($A11,'calc.year'!$D:$S,4,FALSE))," ",VLOOKUP($A11,'calc.year'!$D:$S,4,FALSE)) | D11: =IF(ISERROR(VLOOKUP($A11,'calc.year'!$D:$S,5,FALSE))," ",VLOOKUP($A11,'calc.year'!$D:$S,5,FALSE)) | E11: =IF(ISERROR(VLOOKUP($A11,'calc.year'!$D:$S,6,FALSE))," ",VLOOKUP($A11,'calc.year'!$D:$S,6,FALSE)) | F11: =IF(ISERROR(VLOOKUP($A11,'calc.year'!$D:$S,7,FALSE))," ",VLOOKUP($A11,'calc.year'!$D:$S,7,FALSE)) | G11: =IF(ISERROR(VLOOKUP($A11,'calc.year'!$D:$S,8,FALSE))," ",VLOOKUP($A11,'calc.year'!$D:$S,8,FALSE)) | H11: =IF(ISERROR(VLOOKUP($A11,'calc.year'!$D:$S,9,FALSE))," ",VLOOKUP($A11,'calc.year'!$D:$S,9,FALSE)) | I11: =IF(ISERROR(VLOOKUP($A11,'calc.year'!$D:$S,10,FALSE))," ",VLOOKUP($A11,'calc.year'!$D:$S,10,FALSE)) | J11: =IF(ISERROR(VLOOKUP($A11,'calc.year'!$D:$S,11,FALSE))," ",VLOOKUP($A11,'calc.year'!$D:$S,11,FALSE)) | K11: =IF(ISERROR(VLOOKUP($A11,'calc.year'!$D:$S,12,FALSE))," ",VLOOKUP($A11,'calc.year'!$D:$S,12,FALSE)) | L11: =IF(ISERROR(VLOOKUP($A11,'calc.year'!$D:$S,13,FALSE))," ",VLOOKUP($A11,'calc.year'!$D:$S,13,FALSE)) | M11: =IF(ISERROR(VLOOKUP($A11,'calc.year'!$D:$S,14,FALSE))," ",VLOOKUP($A11,'calc.year'!$D:$S,14,FALSE)) | N11: =IF(ISERROR(VLOOKUP($A11,'calc.year'!$D:$S,15,FALSE))," ",VLOOKUP($A11,'calc.year'!$D:$S,15,FALSE)) | O11: =IF(ISERROR(VLOOKUP($A11,'calc.year'!$D:$S,16,FALSE))," ",VLOOKUP($A11,'calc.year'!$D:$S,16,FALSE))
A12: =IF(ISERROR(INDEX('calc.year'!$D$9:$D$148,MATCH(ROW()-10,'calc.year'!$D$9:$D$148,0))),150,INDEX('calc.year'!$D$9:$D$148,MATCH(ROW()-10,'calc.year'!$D$9:$D$148,0))) -> 150 | B12: =IF(ISERROR(VLOOKUP($A12,'calc.year'!$D:$S,3,FALSE))," ",VLOOKUP($A12,'calc.year'!$D:$S,3,FALSE)) | C12: =IF(ISERROR(VLOOKUP($A12,'calc.year'!$D:$S,4,FALSE))," ",VLOOKUP($A12,'calc.year'!$D:$S,4,FALSE)) | D12: =IF(ISERROR(VLOOKUP($A12,'calc.year'!$D:$S,5,FALSE))," ",VLOOKUP($A12,'calc.year'!$D:$S,5,FALSE)) | E12: =IF(ISERROR(VLOOKUP($A12,'calc.year'!$D:$S,6,FALSE))," ",VLOOKUP($A12,'calc.year'!$D:$S,6,FALSE)) | F12: =IF(ISERROR(VLOOKUP($A12,'calc.year'!$D:$S,7,FALSE))," ",VLOOKUP($A12,'calc.year'!$D:$S,7,FALSE)) | G12: =IF(ISERROR(VLOOKUP($A12,'calc.year'!$D:$S,8,FALSE))," ",VLOOKUP($A12,'calc.year'!$D:$S,8,FALSE)) | H12: =IF(ISERROR(VLOOKUP($A12,'calc.year'!$D:$S,9,FALSE))," ",VLOOKUP($A12,'calc.year'!$D:$S,9,FALSE)) | I12: =IF(ISERROR(VLOOKUP($A12,'calc.year'!$D:$S,10,FALSE))," ",VLOOKUP($A12,'calc.year'!$D:$S,10,FALSE)) | J12: =IF(ISERROR(VLOOKUP($A12,'calc.year'!$D:$S,11,FALSE))," ",VLOOKUP($A12,'calc.year'!$D:$S,11,FALSE)) | K12: =IF(ISERROR(VLOOKUP($A12,'calc.year'!$D:$S,12,FALSE))," ",VLOOKUP($A12,'calc.year'!$D:$S,12,FALSE)) | L12: =IF(ISERROR(VLOOKUP($A12,'calc.year'!$D:$S,13,FALSE))," ",VLOOKUP($A12,'calc.year'!$D:$S,13,FALSE)) | M12: =IF(ISERROR(VLOOKUP($A12,'calc.year'!$D:$S,14,FALSE))," ",VLOOKUP($A12,'calc.year'!$D:$S,14,FALSE)) | N12: =IF(ISERROR(VLOOKUP($A12,'calc.year'!$D:$S,15,FALSE))," ",VLOOKUP($A12,'calc.year'!$D:$S,15,FALSE)) | O12: =IF(ISERROR(VLOOKUP($A12,'calc.year'!$D:$S,16,FALSE))," ",VLOOKUP($A12,'calc.year'!$D:$S,16,FALSE))
A13: =IF(ISERROR(INDEX('calc.year'!$D$9:$D$148,MATCH(ROW()-10,'calc.year'!$D$9:$D$148,0))),150,INDEX('calc.year'!$D$9:$D$148,MATCH(ROW()-10,'calc.year'!$D$9:$D$148,0))) -> 150 | B13: =IF(ISERROR(VLOOKUP($A13,'calc.year'!$D:$S,3,FALSE))," ",VLOOKUP($A13,'calc.year'!$D:$S,3,FALSE)) | C13: =IF(ISERROR(VLOOKUP($A13,'calc.year'!$D:$S,4,FALSE))," ",VLOOKUP($A13,'calc.year'!$D:$S,4,FALSE)) | D13: =IF(ISERROR(VLOOKUP($A13,'calc.year'!$D:$S,5,FALSE))," ",VLOOKUP($A13,'calc.year'!$D:$S,5,FALSE)) | E13: =IF(ISERROR(VLOOKUP($A13,'calc.year'!$D:$S,6,FALSE))," ",VLOOKUP($A13,'calc.year'!$D:$S,6,FALSE)) | F13: =IF(ISERROR(VLOOKUP($A13,'calc.year'!$D:$S,7,FALSE))," ",VLOOKUP($A13,'calc.year'!$D:$S,7,FALSE)) | G13: =IF(ISERROR(VLOOKUP($A13,'calc.year'!$D:$S,8,FALSE))," ",VLOOKUP($A13,'calc.year'!$D:$S,8,FALSE)) | H13: =IF(ISERROR(VLOOKUP($A13,'calc.year'!$D:$S,9,FALSE))," ",VLOOKUP($A13,'calc.year'!$D:$S,9,FALSE)) | I13: =IF(ISERROR(VLOOKUP($A13,'calc.year'!$D:$S,10,FALSE))," ",VLOOKUP($A13,'calc.year'!$D:$S,10,FALSE)) | J13: =IF(ISERROR(VLOOKUP($A13,'calc.year'!$D:$S,11,FALSE))," ",VLOOKUP($A13,'calc.year'!$D:$S,11,FALSE)) | K13: =IF(ISERROR(VLOOKUP($A13,'calc.year'!$D:$S,12,FALSE))," ",VLOOKUP($A13,'calc.year'!$D:$S,12,FALSE)) | L13: =IF(ISERROR(VLOOKUP($A13,'calc.year'!$D:$S,13,FALSE))," ",VLOOKUP($A13,'calc.year'!$D:$S,13,FALSE)) | M13: =IF(ISERROR(VLOOKUP($A13,'calc.year'!$D:$S,14,FALSE))," ",VLOOKUP($A13,'calc.year'!$D:$S,14,FALSE)) | N13: =IF(ISERROR(VLOOKUP($A13,'calc.year'!$D:$S,15,FALSE))," ",VLOOKUP($A13,'calc.year'!$D:$S,15,FALSE)) | O13: =IF(ISERROR(VLOOKUP($A13,'calc.year'!$D:$S,16,FALSE))," ",VLOOKUP($A13,'calc.year'!$D:$S,16,FALSE))
A14: =IF(ISERROR(INDEX('calc.year'!$D$9:$D$148,MATCH(ROW()-10,'calc.year'!$D$9:$D$148,0))),150,INDEX('calc.year'!$D$9:$D$148,MATCH(ROW()-10,'calc.year'!$D$9:$D$148,0))) -> 150 | B14: =IF(ISERROR(VLOOKUP($A14,'calc.year'!$D:$S,3,FALSE))," ",VLOOKUP($A14,'calc.year'!$D:$S,3,FALSE)) | C14: =IF(ISERROR(VLOOKUP($A14,'calc.year'!$D:$S,4,FALSE))," ",VLOOKUP($A14,'calc.year'!$D:$S,4,FALSE)) | D14: =IF(ISERROR(VLOOKUP($A14,'calc.year'!$D:$S,5,FALSE))," ",VLOOKUP($A14,'calc.year'!$D:$S,5,FALSE)) | E14: =IF(ISERROR(VLOOKUP($A14,'calc.year'!$D:$S,6,FALSE))," ",VLOOKUP($A14,'calc.year'!$D:$S,6,FALSE)) | F14: =IF(ISERROR(VLOOKUP($A14,'calc.year'!$D:$S,7,FALSE))," ",VLOOKUP($A14,'calc.year'!$D:$S,7,FALSE)) | G14: =IF(ISERROR(VLOOKUP($A14,'calc.year'!$D:$S,8,FALSE))," ",VLOOKUP($A14,'calc.year'!$D:$S,8,FALSE)) | H14: =IF(ISERROR(VLOOKUP($A14,'calc.year'!$D:$S,9,FALSE))," ",VLOOKUP($A14,'calc.year'!$D:$S,9,FALSE)) | I14: =IF(ISERROR(VLOOKUP($A14,'calc.year'!$D:$S,10,FALSE))," ",VLOOKUP($A14,'calc.year'!$D:$S,10,FALSE)) | J14: =IF(ISERROR(VLOOKUP($A14,'calc.year'!$D:$S,11,FALSE))," ",VLOOKUP($A14,'calc.year'!$D:$S,11,FALSE)) | K14: =IF(ISERROR(VLOOKUP($A14,'calc.year'!$D:$S,12,FALSE))," ",VLOOKUP($A14,'calc.year'!$D:$S,12,FALSE)) | L14: =IF(ISERROR(VLOOKUP($A14,'calc.year'!$D:$S,13,FALSE))," ",VLOOKUP($A14,'calc.year'!$D:$S,13,FALSE)) | M14: =IF(ISERROR(VLOOKUP($A14,'calc.year'!$D:$S,14,FALSE))," ",VLOOKUP($A14,'calc.year'!$D:$S,14,FALSE)) | N14: =IF(ISERROR(VLOOKUP($A14,'calc.year'!$D:$S,15,FALSE))," ",VLOOKUP($A14,'calc.year'!$D:$S,15,FALSE)) | O14: =IF(ISERROR(VLOOKUP($A14,'calc.year'!$D:$S,16,FALSE))," ",VLOOKUP($A14,'calc.year'!$D:$S,16,FALSE))
A15: =IF(ISERROR(INDEX('calc.year'!$D$9:$D$148,MATCH(ROW()-10,'calc.year'!$D$9:$D$148,0))),150,INDEX('calc.year'!$D$9:$D$148,MATCH(ROW()-10,'calc.year'!$D$9:$D$148,0))) -> 150 | B15: =IF(ISERROR(VLOOKUP($A15,'calc.year'!$D:$S,3,FALSE))," ",VLOOKUP($A15,'calc.year'!$D:$S,3,FALSE)) | C15: =IF(ISERROR(VLOOKUP($A15,'calc.year'!$D:$S,4,FALSE))," ",VLOOKUP($A15,'calc.year'!$D:$S,4,FALSE)) | D15: =IF(ISERROR(VLOOKUP($A15,'calc.year'!$D:$S,5,FALSE))," ",VLOOKUP($A15,'calc.year'!$D:$S,5,FALSE)) | E15: =IF(ISERROR(VLOOKUP($A15,'calc.year'!$D:$S,6,FALSE))," ",VLOOKUP($A15,'calc.year'!$D:$S,6,FALSE)) | F15: =IF(ISERROR(VLOOKUP($A15,'calc.year'!$D:$S,7,FALSE))," ",VLOOKUP($A15,'calc.year'!$D:$S,7,FALSE)) | G15: =IF(ISERROR(VLOOKUP($A15,'calc.year'!$D:$S,8,FALSE))," ",VLOOKUP($A15,'calc.year'!$D:$S,8,FALSE)) | H15: =IF(ISERROR(VLOOKUP($A15,'calc.year'!$D:$S,9,FALSE))," ",VLOOKUP($A15,'calc.year'!$D:$S,9,FALSE)) | I15: =IF(ISERROR(VLOOKUP($A15,'calc.year'!$D:$S,10,FALSE))," ",VLOOKUP($A15,'calc.year'!$D:$S,10,FALSE)) | J15: =IF(ISERROR(VLOOKUP($A15,'calc.year'!$D:$S,11,FALSE))," ",VLOOKUP($A15,'calc.year'!$D:$S,11,FALSE)) | K15: =IF(ISERROR(VLOOKUP($A15,'calc.year'!$D:$S,12,FALSE))," ",VLOOKUP($A15,'calc.year'!$D:$S,12,FALSE)) | L15: =IF(ISERROR(VLOOKUP($A15,'calc.year'!$D:$S,13,FALSE))," ",VLOOKUP($A15,'calc.year'!$D:$S,13,FALSE)) | M15: =IF(ISERROR(VLOOKUP($A15,'calc.year'!$D:$S,14,FALSE))," ",VLOOKUP($A15,'calc.year'!$D:$S,14,FALSE)) | N15: =IF(ISERROR(VLOOKUP($A15,'calc.year'!$D:$S,15,FALSE))," ",VLOOKUP($A15,'calc.year'!$D:$S,15,FALSE)) | O15: =IF(ISERROR(VLOOKUP($A15,'calc.year'!$D:$S,16,FALSE))," ",VLOOKUP($A15,'calc.year'!$D:$S,16,FALSE))
A16: =IF(ISERROR(INDEX('calc.year'!$D$9:$D$148,MATCH(ROW()-10,'calc.year'!$D$9:$D$148,0))),150,INDEX('calc.year'!$D$9:$D$148,MATCH(ROW()-10,'calc.year'!$D$9:$D$148,0))) -> 150 | B16: =IF(ISERROR(VLOOKUP($A16,'calc.year'!$D:$S,3,FALSE))," ",VLOOKUP($A16,'calc.year'!$D:$S,3,FALSE)) | C16: =IF(ISERROR(VLOOKUP($A16,'calc.year'!$D:$S,4,FALSE))," ",VLOOKUP($A16,'calc.year'!$D:$S,4,FALSE)) | D16: =IF(ISERROR(VLOOKUP($A16,'calc.year'!$D:$S,5,FALSE))," ",VLOOKUP($A16,'calc.year'!$D:$S,5,FALSE)) | E16: =IF(ISERROR(VLOOKUP($A16,'calc.year'!$D:$S,6,FALSE))," ",VLOOKUP($A16,'calc.year'!$D:$S,6,FALSE)) | F16: =IF(ISERROR(VLOOKUP($A16,'calc.year'!$D:$S,7,FALSE))," ",VLOOKUP($A16,'calc.year'!$D:$S,7,FALSE)) | G16: =IF(ISERROR(VLOOKUP($A16,'calc.year'!$D:$S,8,FALSE))," ",VLOOKUP($A16,'calc.year'!$D:$S,8,FALSE)) | H16: =IF(ISERROR(VLOOKUP($A16,'calc.year'!$D:$S,9,FALSE))," ",VLOOKUP($A16,'calc.year'!$D:$S,9,FALSE)) | I16: =IF(ISERROR(VLOOKUP($A16,'calc.year'!$D:$S,10,FALSE))," ",VLOOKUP($A16,'calc.year'!$D:$S,10,FALSE)) | J16: =IF(ISERROR(VLOOKUP($A16,'calc.year'!$D:$S,11,FALSE))," ",VLOOKUP($A16,'calc.year'!$D:$S,11,FALSE)) | K16: =IF(ISERROR(VLOOKUP($A16,'calc.year'!$D:$S,12,FALSE))," ",VLOOKUP($A16,'calc.year'!$D:$S,12,FALSE)) | L16: =IF(ISERROR(VLOOKUP($A16,'calc.year'!$D:$S,13,FALSE))," ",VLOOKUP($A16,'calc.year'!$D:$S,13,FALSE)) | M16: =IF(ISERROR(VLOOKUP($A16,'calc.year'!$D:$S,14,FALSE))," ",VLOOKUP($A16,'calc.year'!$D:$S,14,FALSE)) | N16: =IF(ISERROR(VLOOKUP($A16,'calc.year'!$D:$S,15,FALSE))," ",VLOOKUP($A16,'calc.year'!$D:$S,15,FALSE)) | O16: =IF(ISERROR(VLOOKUP($A16,'calc.year'!$D:$S,16,FALSE))," ",VLOOKUP($A16,'calc.year'!$D:$S,16,FALSE))
A17: =IF(ISERROR(INDEX('calc.year'!$D$9:$D$148,MATCH(ROW()-10,'calc.year'!$D$9:$D$148,0))),150,INDEX('calc.year'!$D$9:$D$148,MATCH(ROW()-10,'calc.year'!$D$9:$D$148,0))) -> 150 | B17: =IF(ISERROR(VLOOKUP($A17,'calc.year'!$D:$S,3,FALSE))," ",VLOOKUP($A17,'calc.year'!$D:$S,3,FALSE)) | C17: =IF(ISERROR(VLOOKUP($A17,'calc.year'!$D:$S,4,FALSE))," ",VLOOKUP($A17,'calc.year'!$D:$S,4,FALSE)) | D17: =IF(ISERROR(VLOOKUP($A17,'calc.year'!$D:$S,5,FALSE))," ",VLOOKUP($A17,'calc.year'!$D:$S,5,FALSE)) | E17: =IF(ISERROR(VLOOKUP($A17,'calc.year'!$D:$S,6,FALSE))," ",VLOOKUP($A17,'calc.year'!$D:$S,6,FALSE)) | F17: =IF(ISERROR(VLOOKUP($A17,'calc.year'!$D:$S,7,FALSE))," ",VLOOKUP($A17,'calc.year'!$D:$S,7,FALSE)) | G17: =IF(ISERROR(VLOOKUP($A17,'calc.year'!$D:$S,8,FALSE))," ",VLOOKUP($A17,'calc.year'!$D:$S,8,FALSE)) | H17: =IF(ISERROR(VLOOKUP($A17,'calc.year'!$D:$S,9,FALSE))," ",VLOOKUP($A17,'calc.year'!$D:$S,9,FALSE)) | I17: =IF(ISERROR(VLOOKUP($A17,'calc.year'!$D:$S,10,FALSE))," ",VLOOKUP($A17,'calc.year'!$D:$S,10,FALSE)) | J17: =IF(ISERROR(VLOOKUP($A17,'calc.year'!$D:$S,11,FALSE))," ",VLOOKUP($A17,'calc.year'!$D:$S,11,FALSE)) | K17: =IF(ISERROR(VLOOKUP($A17,'calc.year'!$D:$S,12,FALSE))," ",VLOOKUP($A17,'calc.year'!$D:$S,12,FALSE)) | L17: =IF(ISERROR(VLOOKUP($A17,'calc.year'!$D:$S,13,FALSE))," ",VLOOKUP($A17,'calc.year'!$D:$S,13,FALSE)) | M17: =IF(ISERROR(VLOOKUP($A17,'calc.year'!$D:$S,14,FALSE))," ",VLOOKUP($A17,'calc.year'!$D:$S,14,FALSE)) | N17: =IF(ISERROR(VLOOKUP($A17,'calc.year'!$D:$S,15,FALSE))," ",VLOOKUP($A17,'calc.year'!$D:$S,15,FALSE)) | O17: =IF(ISERROR(VLOOKUP($A17,'calc.year'!$D:$S,16,FALSE))," ",VLOOKUP($A17,'calc.year'!$D:$S,16,FALSE))
A18: =IF(ISERROR(INDEX('calc.year'!$D$9:$D$148,MATCH(ROW()-10,'calc.year'!$D$9:$D$148,0))),150,INDEX('calc.year'!$D$9:$D$148,MATCH(ROW()-10,'calc.year'!$D$9:$D$148,0))) -> 150 | B18: =IF(ISERROR(VLOOKUP($A18,'calc.year'!$D:$S,3,FALSE))," ",VLOOKUP($A18,'calc.year'!$D:$S,3,FALSE)) | C18: =IF(ISERROR(VLOOKUP($A18,'calc.year'!$D:$S,4,FALSE))," ",VLOOKUP($A18,'calc.year'!$D:$S,4,FALSE)) | D18: =IF(ISERROR(VLOOKUP($A18,'calc.year'!$D:$S,5,FALSE))," ",VLOOKUP($A18,'calc.year'!$D:$S,5,FALSE)) | E18: =IF(ISERROR(VLOOKUP($A18,'calc.year'!$D:$S,6,FALSE))," ",VLOOKUP($A18,'calc.year'!$D:$S,6,FALSE)) | F18: =IF(ISERROR(VLOOKUP($A18,'calc.year'!$D:$S,7,FALSE))," ",VLOOKUP($A18,'calc.year'!$D:$S,7,FALSE)) | G18: =IF(ISERROR(VLOOKUP($A18,'calc.year'!$D:$S,8,FALSE))," ",VLOOKUP($A18,'calc.year'!$D:$S,8,FALSE)) | H18: =IF(ISERROR(VLOOKUP($A18,'calc.year'!$D:$S,9,FALSE))," ",VLOOKUP($A18,'calc.year'!$D:$S,9,FALSE)) | I18: =IF(ISERROR(VLOOKUP($A18,'calc.year'!$D:$S,10,FALSE))," ",VLOOKUP($A18,'calc.year'!$D:$S,10,FALSE)) | J18: =IF(ISERROR(VLOOKUP($A18,'calc.year'!$D:$S,11,FALSE))," ",VLOOKUP($A18,'calc.year'!$D:$S,11,FALSE)) | K18: =IF(ISERROR(VLOOKUP($A18,'calc.year'!$D:$S,12,FALSE))," ",VLOOKUP($A18,'calc.year'!$D:$S,12,FALSE)) | L18: =IF(ISERROR(VLOOKUP($A18,'calc.year'!$D:$S,13,FALSE))," ",VLOOKUP($A18,'calc.year'!$D:$S,13,FALSE)) | M18: =IF(ISERROR(VLOOKUP($A18,'calc.year'!$D:$S,14,FALSE))," ",VLOOKUP($A18,'calc.year'!$D:$S,14,FALSE)) | N18: =IF(ISERROR(VLOOKUP($A18,'calc.year'!$D:$S,15,FALSE))," ",VLOOKUP($A18,'calc.year'!$D:$S,15,FALSE)) | O18: =IF(ISERROR(VLOOKUP($A18,'calc.year'!$D:$S,16,FALSE))," ",VLOOKUP($A18,'calc.year'!$D:$S,16,FALSE))
A19: =IF(ISERROR(INDEX('calc.year'!$D$9:$D$148,MATCH(ROW()-10,'calc.year'!$D$9:$D$148,0))),150,INDEX('calc.year'!$D$9:$D$148,MATCH(ROW()-10,'calc.year'!$D$9:$D$148,0))) -> 150 | B19: =IF(ISERROR(VLOOKUP($A19,'calc.year'!$D:$S,3,FALSE))," ",VLOOKUP($A19,'calc.year'!$D:$S,3,FALSE)) | C19: =IF(ISERROR(VLOOKUP($A19,'calc.year'!$D:$S,4,FALSE))," ",VLOOKUP($A19,'calc.year'!$D:$S,4,FALSE)) | D19: =IF(ISERROR(VLOOKUP($A19,'calc.year'!$D:$S,5,FALSE))," ",VLOOKUP($A19,'calc.year'!$D:$S,5,FALSE)) | E19: =IF(ISERROR(VLOOKUP($A19,'calc.year'!$D:$S,6,FALSE))," ",VLOOKUP($A19,'calc.year'!$D:$S,6,FALSE)) | F19: =IF(ISERROR(VLOOKUP($A19,'calc.year'!$D:$S,7,FALSE))," ",VLOOKUP($A19,'calc.year'!$D:$S,7,FALSE)) | G19: =IF(ISERROR(VLOOKUP($A19,'calc.year'!$D:$S,8,FALSE))," ",VLOOKUP($A19,'calc.year'!$D:$S,8,FALSE)) | H19: =IF(ISERROR(VLOOKUP($A19,'calc.year'!$D:$S,9,FALSE))," ",VLOOKUP($A19,'calc.year'!$D:$S,9,FALSE)) | I19: =IF(ISERROR(VLOOKUP($A19,'calc.year'!$D:$S,10,FALSE))," ",VLOOKUP($A19,'calc.year'!$D:$S,10,FALSE)) | J19: =IF(ISERROR(VLOOKUP($A19,'calc.year'!$D:$S,11,FALSE))," ",VLOOKUP($A19,'calc.year'!$D:$S,11,FALSE)) | K19: =IF(ISERROR(VLOOKUP($A19,'calc.year'!$D:$S,12,FALSE))," ",VLOOKUP($A19,'calc.year'!$D:$S,12,FALSE)) | L19: =IF(ISERROR(VLOOKUP($A19,'calc.year'!$D:$S,13,FALSE))," ",VLOOKUP($A19,'calc.year'!$D:$S,13,FALSE)) | M19: =IF(ISERROR(VLOOKUP($A19,'calc.year'!$D:$S,14,FALSE))," ",VLOOKUP($A19,'calc.year'!$D:$S,14,FALSE)) | N19: =IF(ISERROR(VLOOKUP($A19,'calc.year'!$D:$S,15,FALSE))," ",VLOOKUP($A19,'calc.year'!$D:$S,15,FALSE)) | O19: =IF(ISERROR(VLOOKUP($A19,'calc.year'!$D:$S,16,FALSE))," ",VLOOKUP($A19,'calc.year'!$D:$S,16,FALSE))
A20: =IF(ISERROR(INDEX('calc.year'!$D$9:$D$148,MATCH(ROW()-10,'calc.year'!$D$9:$D$148,0))),150,INDEX('calc.year'!$D$9:$D$148,MATCH(ROW()-10,'calc.year'!$D$9:$D$148,0))) -> 150 | B20: =IF(ISERROR(VLOOKUP($A20,'calc.year'!$D:$S,3,FALSE))," ",VLOOKUP($A20,'calc.year'!$D:$S,3,FALSE)) | C20: =IF(ISERROR(VLOOKUP($A20,'calc.year'!$D:$S,4,FALSE))," ",VLOOKUP($A20,'calc.year'!$D:$S,4,FALSE)) | D20: =IF(ISERROR(VLOOKUP($A20,'calc.year'!$D:$S,5,FALSE))," ",VLOOKUP($A20,'calc.year'!$D:$S,5,FALSE)) | E20: =IF(ISERROR(VLOOKUP($A20,'calc.year'!$D:$S,6,FALSE))," ",VLOOKUP($A20,'calc.year'!$D:$S,6,FALSE)) | F20: =IF(ISERROR(VLOOKUP($A20,'calc.year'!$D:$S,7,FALSE))," ",VLOOKUP($A20,'calc.year'!$D:$S,7,FALSE)) | G20: =IF(ISERROR(VLOOKUP($A20,'calc.year'!$D:$S,8,FALSE))," ",VLOOKUP($A20,'calc.year'!$D:$S,8,FALSE)) | H20: =IF(ISERROR(VLOOKUP($A20,'calc.year'!$D:$S,9,FALSE))," ",VLOOKUP($A20,'calc.year'!$D:$S,9,FALSE)) | I20: =IF(ISERROR(VLOOKUP($A20,'calc.year'!$D:$S,10,FALSE))," ",VLOOKUP($A20,'calc.year'!$D:$S,10,FALSE)) | J20: =IF(ISERROR(VLOOKUP($A20,'calc.year'!$D:$S,11,FALSE))," ",VLOOKUP($A20,'calc.year'!$D:$S,11,FALSE)) | K20: =IF(ISERROR(VLOOKUP($A20,'calc.year'!$D:$S,12,FALSE))," ",VLOOKUP($A20,'calc.year'!$D:$S,12,FALSE)) | L20: =IF(ISERROR(VLOOKUP($A20,'calc.year'!$D:$S,13,FALSE))," ",VLOOKUP($A20,'calc.year'!$D:$S,13,FALSE)) | M20: =IF(ISERROR(VLOOKUP($A20,'calc.year'!$D:$S,14,FALSE))," ",VLOOKUP($A20,'calc.year'!$D:$S,14,FALSE)) | N20: =IF(ISERROR(VLOOKUP($A20,'calc.year'!$D:$S,15,FALSE))," ",VLOOKUP($A20,'calc.year'!$D:$S,15,FALSE)) | O20: =IF(ISERROR(VLOOKUP($A20,'calc.year'!$D:$S,16,FALSE))," ",VLOOKUP($A20,'calc.year'!$D:$S,16,FALSE))
A21: =IF(ISERROR(INDEX('calc.year'!$D$9:$D$148,MATCH(ROW()-10,'calc.year'!$D$9:$D$148,0))),150,INDEX('calc.year'!$D$9:$D$148,MATCH(ROW()-10,'calc.year'!$D$9:$D$148,0))) -> 150 | B21: =IF(ISERROR(VLOOKUP($A21,'calc.year'!$D:$S,3,FALSE))," ",VLOOKUP($A21,'calc.year'!$D:$S,3,FALSE)) | C21: =IF(ISERROR(VLOOKUP($A21,'calc.year'!$D:$S,4,FALSE))," ",VLOOKUP($A21,'calc.year'!$D:$S,4,FALSE)) | D21: =IF(ISERROR(VLOOKUP($A21,'calc.year'!$D:$S,5,FALSE))," ",VLOOKUP($A21,'calc.year'!$D:$S,5,FALSE)) | E21: =IF(ISERROR(VLOOKUP($A21,'calc.year'!$D:$S,6,FALSE))," ",VLOOKUP($A21,'calc.year'!$D:$S,6,FALSE)) | F21: =IF(ISERROR(VLOOKUP($A21,'calc.year'!$D:$S,7,FALSE))," ",VLOOKUP($A21,'calc.year'!$D:$S,7,FALSE)) | G21: =IF(ISERROR(VLOOKUP($A21,'calc.year'!$D:$S,8,FALSE))," ",VLOOKUP($A21,'calc.year'!$D:$S,8,FALSE)) | H21: =IF(ISERROR(VLOOKUP($A21,'calc.year'!$D:$S,9,FALSE))," ",VLOOKUP($A21,'calc.year'!$D:$S,9,FALSE)) | I21: =IF(ISERROR(VLOOKUP($A21,'calc.year'!$D:$S,10,FALSE))," ",VLOOKUP($A21,'calc.year'!$D:$S,10,FALSE)) | J21: =IF(ISERROR(VLOOKUP($A21,'calc.year'!$D:$S,11,FALSE))," ",VLOOKUP($A21,'calc.year'!$D:$S,11,FALSE)) | K21: =IF(ISERROR(VLOOKUP($A21,'calc.year'!$D:$S,12,FALSE))," ",VLOOKUP($A21,'calc.year'!$D:$S,12,FALSE)) | L21: =IF(ISERROR(VLOOKUP($A21,'calc.year'!$D:$S,13,FALSE))," ",VLOOKUP($A21,'calc.year'!$D:$S,13,FALSE)) | M21: =IF(ISERROR(VLOOKUP($A21,'calc.year'!$D:$S,14,FALSE))," ",VLOOKUP($A21,'calc.year'!$D:$S,14,FALSE)) | N21: =IF(ISERROR(VLOOKUP($A21,'calc.year'!$D:$S,15,FALSE))," ",VLOOKUP($A21,'calc.year'!$D:$S,15,FALSE)) | O21: =IF(ISERROR(VLOOKUP($A21,'calc.year'!$D:$S,16,FALSE))," ",VLOOKUP($A21,'calc.year'!$D:$S,16,FALSE))
A22: =IF(ISERROR(INDEX('calc.year'!$D$9:$D$148,MATCH(ROW()-10,'calc.year'!$D$9:$D$148,0))),150,INDEX('calc.year'!$D$9:$D$148,MATCH(ROW()-10,'calc.year'!$D$9:$D$148,0))) -> 150 | B22: =IF(ISERROR(VLOOKUP($A22,'calc.year'!$D:$S,3,FALSE))," ",VLOOKUP($A22,'calc.year'!$D:$S,3,FALSE)) | C22: =IF(ISERROR(VLOOKUP($A22,'calc.year'!$D:$S,4,FALSE))," ",VLOOKUP($A22,'calc.year'!$D:$S,4,FALSE)) | D22: =IF(ISERROR(VLOOKUP($A22,'calc.year'!$D:$S,5,FALSE))," ",VLOOKUP($A22,'calc.year'!$D:$S,5,FALSE)) | E22: =IF(ISERROR(VLOOKUP($A22,'calc.year'!$D:$S,6,FALSE))," ",VLOOKUP($A22,'calc.year'!$D:$S,6,FALSE)) | F22: =IF(ISERROR(VLOOKUP($A22,'calc.year'!$D:$S,7,FALSE))," ",VLOOKUP($A22,'calc.year'!$D:$S,7,FALSE)) | G22: =IF(ISERROR(VLOOKUP($A22,'calc.year'!$D:$S,8,FALSE))," ",VLOOKUP($A22,'calc.year'!$D:$S,8,FALSE)) | H22: =IF(ISERROR(VLOOKUP($A22,'calc.year'!$D:$S,9,FALSE))," ",VLOOKUP($A22,'calc.year'!$D:$S,9,FALSE)) | I22: =IF(ISERROR(VLOOKUP($A22,'calc.year'!$D:$S,10,FALSE))," ",VLOOKUP($A22,'calc.year'!$D:$S,10,FALSE)) | J22: =IF(ISERROR(VLOOKUP($A22,'calc.year'!$D:$S,11,FALSE))," ",VLOOKUP($A22,'calc.year'!$D:$S,11,FALSE)) | K22: =IF(ISERROR(VLOOKUP($A22,'calc.year'!$D:$S,12,FALSE))," ",VLOOKUP($A22,'calc.year'!$D:$S,12,FALSE)) | L22: =IF(ISERROR(VLOOKUP($A22,'calc.year'!$D:$S,13,FALSE))," ",VLOOKUP($A22,'calc.year'!$D:$S,13,FALSE)) | M22: =IF(ISERROR(VLOOKUP($A22,'calc.year'!$D:$S,14,FALSE))," ",VLOOKUP($A22,'calc.year'!$D:$S,14,FALSE)) | N22: =IF(ISERROR(VLOOKUP($A22,'calc.year'!$D:$S,15,FALSE))," ",VLOOKUP($A22,'calc.year'!$D:$S,15,FALSE)) | O22: =IF(ISERROR(VLOOKUP($A22,'calc.year'!$D:$S,16,FALSE))," ",VLOOKUP($A22,'calc.year'!$D:$S,16,FALSE))
... A34: =IF(ISERROR(INDEX('calc.year'!$D$9:$D$148,MATCH(ROW()-10,'calc.year'!$D$9:$D$148,0))),150,INDEX('calc.year'!$D$9:$D$148,MATCH(ROW()-10,'calc.year'!$D$9:$D$148,0))) -> 150 | B34: =IF(ISERROR(VLOOKUP($A34,'calc.year'!$D:$S,3,FALSE))," ",VLOOKUP($A34,'calc.year'!$D:$S,3,FALSE)) | C34: =IF(ISERROR(VLOOKUP($A34,'calc.year'!$D:$S,4,FALSE))," ",VLOOKUP($A34,'calc.year'!$D:$S,4,FALSE)) | D34: =IF(ISERROR(VLOOKUP($A34,'calc.year'!$D:$S,5,FALSE))," ",VLOOKUP($A34,'calc.year'!$D:$S,5,FALSE)) | E34: =IF(ISERROR(VLOOKUP($A34,'calc.year'!$D:$S,6,FALSE))," ",VLOOKUP($A34,'calc.year'!$D:$S,6,FALSE)) | F34: =IF(ISERROR(VLOOKUP($A34,'calc.year'!$D:$S,7,FALSE))," ",VLOOKUP($A34,'calc.year'!$D:$S,7,FALSE)) | G34: =IF(ISERROR(VLOOKUP($A34,'calc.year'!$D:$S,8,FALSE))," ",VLOOKUP($A34,'calc.year'!$D:$S,8,FALSE)) | H34: =IF(ISERROR(VLOOKUP($A34,'calc.year'!$D:$S,9,FALSE))," ",VLOOKUP($A34,'calc.year'!$D:$S,9,FALSE)) | I34: =IF(ISERROR(VLOOKUP($A34,'calc.year'!$D:$S,10,FALSE))," ",VLOOKUP($A34,'calc.year'!$D:$S,10,FALSE)) | J34: =IF(ISERROR(VLOOKUP($A34,'calc.year'!$D:$S,11,FALSE))," ",VLOOKUP($A34,'calc.year'!$D:$S,11,FALSE)) | K34: =IF(ISERROR(VLOOKUP($A34,'calc.year'!$D:$S,12,FALSE))," ",VLOOKUP($A34,'calc.year'!$D:$S,12,FALSE)) | L34: =IF(ISERROR(VLOOKUP($A34,'calc.year'!$D:$S,13,FALSE))," ",VLOOKUP($A34,'calc.year'!$D:$S,13,FALSE)) | M34: =IF(ISERROR(VLOOKUP($A34,'calc.year'!$D:$S,14,FALSE))," ",VLOOKUP($A34,'calc.year'!$D:$S,14,FALSE)) | N34: =IF(ISERROR(VLOOKUP($A34,'calc.year'!$D:$S,15,FALSE))," ",VLOOKUP($A34,'calc.year'!$D:$S,15,FALSE)) | O34: =IF(ISERROR(VLOOKUP($A34,'calc.year'!$D:$S,16,FALSE))," ",VLOOKUP($A34,'calc.year'!$D:$S,16,FALSE))

Sheet calc.nat.
C1: TOTAL | H1: TG | I1: MG | J1: FG | K1: TS | L1: MS | M1: FS | N1: TB | O1: MB | P1: FB | Q1: TT | R1: MT | S1: FT | U1: MIAG | V1: MIAS | W1: MIAB | X1: MISG | Y1: MISS | Z1: MISB | AA1: MIOG | AB1: MIOS | AC1: MIOB | AD1: MTAG | AE1: MTAS | AF1: MTAB | AG1: MFSG | AH1: MFSS | AI1: MFSB | AJ1: MTOG | AK1: MTOS | AL1: MTOB | AM1: MJAG | AN1: MJAS | AO1: MJAB | AP1: MJSG | AQ1: MJSS | AR1: MJSB | AS1: MJOG | AT1: MJOS | AU1: MJOB | AW1: FIAG | AX1: FIAS | AY1: FIAB | AZ1: FISG | BA1: FISS | BB1: FISB | BC1: FIOG | BD1: FIOS | BE1: FIOB | BF1: FTAG | BG1: FTAS | BH1: FTAB | BI1: FFSG | BJ1: FFSS | BK1: FFSB | BL1: FTOG | BM1: FTOS | BN1: FTOB | BO1: FJAG | BP1: FJAS | BQ1: FJAB | BR1: FJSG | BS1: FJSS | BT1: FJSB | BU1: FJOG | BV1: FJOS | BW1: FJOB
C2: =SUM(U2:BW2) -> 0 | H2: =I2+J2 -> 0 | I2: =U2+X2+AA2+AD2+AG2+AJ2+AM2+AP2+AS2 -> 0 | J2: =AW2+AZ2+BC2+BF2+BI2+BL2+BO2+BR2+BU2 -> 0 | K2: =L2+M2 -> 0 | L2: =V2+Y2+AB2+AE2+AH2+AK2+AN2+AQ2+AT2 -> 0 | M2: =AX2+BA2+BD2+BG2+BJ2+BM2+BP2+BS2+BV2 -> 0 | N2: =O2+P2 -> 0 | O2: =W2+Z2+AC2+AF2+AI2+AL2+AO2+AR2+AU2 -> 0 | P2: =AY2+BB2+BE2+BH2+BK2+BN2+BQ2+BT2+BW2 -> 0 | Q2: =H2+K2+N2 -> 0 | R2: =I2+L2+O2 -> 0 | S2: =J2+M2+P2 -> 0 | U2: =SUM(U8:U102) -> 0 | V2: =SUM(V8:V102) -> 0 | W2: =SUM(W8:W102) -> 0 | X2: =SUM(X8:X102) -> 0 | Y2: =SUM(Y8:Y102) -> 0 | Z2: =SUM(Z8:Z102) -> 0 | AA2: =SUM(AA8:AA102) -> 0 | AB2: =SUM(AB8:AB102) -> 0 | ... AU2: =SUM(AU8:AU102) -> 0 | AW2: =SUM(AW8:AW102) -> 0 | AX2: =SUM(AX8:AX102) -> 0 | AY2: =SUM(AY8:AY102) -> 0 | AZ2: =SUM(AZ8:AZ102) -> 0 | BA2: =SUM(BA8:BA102) -> 0 | BB2: =SUM(BB8:BB102) -> 0 | BC2: =SUM(BC8:BC102) -> 0 | BD2: =SUM(BD8:BD102) -> 0 | ... BW2: =SUM(BW8:BW102) -> 0
U3: MALE | AW3: FEMALE
C4: =IF(ISERROR(INDEX(Parameter!$O$3:$O$90,MATCH(SELEKTION!$D$16,Parameter!$O$3:$O$90,0))),"XXX",UPPER(SELEKTION!D16)) -> XXX | U4: Individual Accuracy | X4: Individual Style | AA4: Individual Overall | AD4: Team Accuracy | AG4: Formation Skydive | AJ4: Team Nation Overall | AM4: Junior Accuracy | AP4: Junior Style | AS4: Junior Overall | AW4: Individual Accuracy | AZ4: Individual Style | BC4: Individual Overall | BF4: Team Accuracy | BI4: Formation Skydive | BL4: Team Nation Overall | BO4: Junior Accuracy | BR4: Junior Style | BU4: Junior Overall
U5: MIA | X5: MIS | AA5: MIO | AD5: MTA | AG5: MFS | AJ5: MTO | AM5: MJA | AP5: MJS | AS5: MJO | AW5: FIA | AZ5: FIS | BC5: FIO | BF5: FTA | BI5: FFS | BL5: FTO | BO5: FJA | BR5: FJS | BU5: FJO
U6: G | V6: S | W6: B | X6: G | Y6: S | Z6: B | AA6: G | AB6: S | AC6: B | AD6: G | AE6: S | AF6: B | AG6: G | AH6: S | AI6: B | AJ6: G | AK6: S | AL6: B | AM6: G | AN6: S | AO6: B | AP6: G | AQ6: S | AR6: B | AS6: G | AT6: S | AU6: B | AW6: G | AX6: S | AY6: B | AZ6: G | BA6: S | BB6: B | BC6: G | BD6: S | BE6: B | BF6: G | BG6: S | BH6: B | BI6: G | BJ6: S | BK6: B | BL6: G | BM6: S | BN6: B | BO6: G | BP6: S | BQ6: B | BR6: G | BS6: S | BT6: B | BU6: G | BV6: S | BW6: B
U7: MIAG | V7: MIAS | W7: MIAB | X7: MISG | Y7: MISS | Z7: MISB | AA7: MIOG | AB7: MIOS | AC7: MIOB | AD7: MTAG | AE7: MTAS | AF7: MTAB | AG7: MFSG | AH7: MFSS | AI7: MFSB | AJ7: MTOG | AK7: MTOS | AL7: MTOB | AM7: MJAG | AN7: MJAS | AO7: MJAB | AP7: MJSG | AQ7: MJSS | AR7: MJSB | AS7: MJOG | AT7: MJOS | AU7: MJOB | AW7: FIAG | AX7: FIAS | AY7: FIAB | AZ7: FISG | BA7: FISS | BB7: FISB | BC7: FIOG | BD7: FIOS | BE7: FIOB | BF7: FTAG | BG7: FTAS | BH7: FTAB | BI7: FFSG | BJ7: FFSS | BK7: FFSB | BL7: FTOG | BM7: FTOS | BN7: FTOB | BO7: FJAG | BP7: FJAS | BQ7: FJAB | BR7: FJSG | BS7: FJSS | BT7: FJSB | BU7: FJOG | BV7: FJOS | BW7: FJOB
A8: =C8&"."&B8 -> 1964.1 | B8: =COUNTIF($C$2:C8,C8) -> 1 | C8: ='enter-data'!C8 -> 1964 | D8: =IF(AND(E8>0,Q8>0),1,0) -> 0 | E8: 1964 | F8: =IF(E8>0,VLOOKUP($E8,Parameter!$F:$J,3,FALSE)," ") -> FRA | G8: =IF(E8>0,VLOOKUP($E8,Parameter!$F:$J,4,FALSE)," ") -> France | H8: =IF(C4<>" ",I8+J8," ") -> 0 | I8: =U8+X8+AA8+AD8+AG8+AJ8+AM8+AP8+AS8 -> 0 | J8: =AW8+AZ8+BC8+BF8+BI8+BL8+BO8+BR8+BU8 -> 0 | K8: =L8+M8 -> 0 | L8: =V8+Y8+AB8+AE8+AH8+AK8+AN8+AQ8+AT8 -> 0 | M8: =AX8+BA8+BD8+BG8+BJ8+BM8+BP8+BS8+BV8 -> 0 | N8: =O8+P8 -> 0 | O8: =W8+Z8+AC8+AF8+AI8+AL8+AO8+AR8+AU8 -> 0 | P8: =AY8+BB8+BE8+BH8+BK8+BN8+BQ8+BT8+BW8 -> 0 | Q8: =H8+K8+N8 -> 0 | R8: =I8+L8+O8 -> 0 | S8: =J8+M8+P8 -> 0 | U8: =IF('enter-data'!G8='calc.nat.'!$C$4,1,0) -> 0 | V8: =IF('enter-data'!H8='calc.nat.'!$C$4,1,0) -> 0 | W8: =IF('enter-data'!I8='calc.nat.'!$C$4,1,0) -> 0 | X8: =IF('enter-data'!J8='calc.nat.'!$C$4,1,0) -> 0 | Y8: =IF('enter-data'!K8='calc.nat.'!$C$4,1,0) -> 0 | Z8: =IF('enter-data'!L8='calc.nat.'!$C$4,1,0) -> 0 | AA8: =IF('enter-data'!M8='calc.nat.'!$C$4,1,0) -> 0 | AB8: =IF('enter-data'!N8='calc.nat.'!$C$4,1,0) -> 0 | ... AU8: =IF('enter-data'!AG8='calc.nat.'!$C$4,1,0) -> 0 | AW8: =IF('enter-data'!AI8='calc.nat.'!$C$4,1,0) -> 0 | AX8: =IF('enter-data'!AJ8='calc.nat.'!$C$4,1,0) -> 0 | AY8: =IF('enter-data'!AK8='calc.nat.'!$C$4,1,0) -> 0 | AZ8: =IF('enter-data'!AL8='calc.nat.'!$C$4,1,0) -> 0 | BA8: =IF('enter-data'!AM8='calc.nat.'!$C$4,1,0) -> 0 | BB8: =IF('enter-data'!AN8='calc.nat.'!$C$4,1,0) -> 0 | BC8: =IF('enter-data'!AO8='calc.nat.'!$C$4,1,0) -> 0 | BD8: =IF('enter-data'!AP8='calc.nat.'!$C$4,1,0) -> 0 | ... BW8: =IF('enter-data'!BI8='calc.nat.'!$C$4,1,0) -> 0
A9: =C9&"."&B9 -> 1965.1 | B9: =COUNTIF($C$2:C9,C9) -> 1 | C9: ='enter-data'!C9 -> 1965 | D9: =IF(AND(E9>0,Q9>0),D8+1,D8) -> 0 | E9: 1965 | F9: =IF(E9>0,VLOOKUP($E9,Parameter!$F:$J,3,FALSE)," ") -> BRA | G9: =IF(E9>0,VLOOKUP($E9,Parameter!$F:$J,4,FALSE)," ") -> Brazil | H9: =I9+J9 -> 0 | I9: =U9+X9+AA9+AD9+AG9+AJ9+AM9+AP9+AS9 -> 0 | J9: =AW9+AZ9+BC9+BF9+BI9+BL9+BO9+BR9+BU9 -> 0 | K9: =L9+M9 -> 0 | L9: =V9+Y9+AB9+AE9+AH9+AK9+AN9+AQ9+AT9 -> 0 | M9: =AX9+BA9+BD9+BG9+BJ9+BM9+BP9+BS9+BV9 -> 0 | N9: =O9+P9 -> 0 | O9: =W9+Z9+AC9+AF9+AI9+AL9+AO9+AR9+AU9 -> 0 | P9: =AY9+BB9+BE9+BH9+BK9+BN9+BQ9+BT9+BW9 -> 0 | Q9: =H9+K9+N9 -> 0 | R9: =I9+L9+O9 -> 0 | S9: =J9+M9+P9 -> 0 | U9: =IF('enter-data'!G9='calc.nat.'!$C$4,1,0) -> 0 | V9: =IF('enter-data'!H9='calc.nat.'!$C$4,1,0) -> 0 | W9: =IF('enter-data'!I9='calc.nat.'!$C$4,1,0) -> 0 | X9: =IF('enter-data'!J9='calc.nat.'!$C$4,1,0) -> 0 | Y9: =IF('enter-data'!K9='calc.nat.'!$C$4,1,0) -> 0 | Z9: =IF('enter-data'!L9='calc.nat.'!$C$4,1,0) -> 0 | AA9: =IF('enter-data'!M9='calc.nat.'!$C$4,1,0) -> 0 | AB9: =IF('enter-data'!N9='calc.nat.'!$C$4,1,0) -> 0 | ... AU9: =IF('enter-data'!AG9='calc.nat.'!$C$4,1,0) -> 0 | AW9: =IF('enter-data'!AI9='calc.nat.'!$C$4,1,0) -> 0 | AX9: =IF('enter-data'!AJ9='calc.nat.'!$C$4,1,0) -> 0 | AY9: =IF('enter-data'!AK9='calc.nat.'!$C$4,1,0) -> 0 | AZ9: =IF('enter-data'!AL9='calc.nat.'!$C$4,1,0) -> 0 | BA9: =IF('enter-data'!AM9='calc.nat.'!$C$4,1,0) -> 0 | BB9: =IF('enter-data'!AN9='calc.nat.'!$C$4,1,0) -> 0 | BC9: =IF('enter-data'!AO9='calc.nat.'!$C$4,1,0) -> 0 | BD9: =IF('enter-data'!AP9='calc.nat.'!$C$4,1,0) -> 0 | ... BW9: =IF('enter-data'!BI9='calc.nat.'!$C$4,1,0) -> 0
A10: =C10&"."&B10 -> 1968.1 | B10: =COUNTIF($C$2:C10,C10) -> 1 | C10: ='enter-data'!C10 -> 1968 | D10: =IF(AND(E10>0,Q10>0),D9+1,D9) -> 0 | E10: 1968 | F10: =IF(E10>0,VLOOKUP($E10,Parameter!$F:$J,3,FALSE)," ") -> ESP | G10: =IF(E10>0,VLOOKUP($E10,Parameter!$F:$J,4,FALSE)," ") -> Spain | H10: =I10+J10 -> 0 | I10: =U10+X10+AA10+AD10+AG10+AJ10+AM10+AP10+AS10 -> 0 | J10: =AW10+AZ10+BC10+BF10+BI10+BL10+BO10+BR10+BU10 -> 0 | K10: =L10+M10 -> 0 | L10: =V10+Y10+AB10+AE10+AH10+AK10+AN10+AQ10+AT10 -> 0 | M10: =AX10+BA10+BD10+BG10+BJ10+BM10+BP10+BS10+BV10 -> 0 | N10: =O10+P10 -> 0 | O10: =W10+Z10+AC10+AF10+AI10+AL10+AO10+AR10+AU10 -> 0 | P10: =AY10+BB10+BE10+BH10+BK10+BN10+BQ10+BT10+BW10 -> 0 | Q10: =H10+K10+N10 -> 0 | R10: =I10+L10+O10 -> 0 | S10: =J10+M10+P10 -> 0 | U10: =IF('enter-data'!G10='calc.nat.'!$C$4,1,0) -> 0 | V10: =IF('enter-data'!H10='calc.nat.'!$C$4,1,0) -> 0 | W10: =IF('enter-data'!I10='calc.nat.'!$C$4,1,0) -> 0 | X10: =IF('enter-data'!J10='calc.nat.'!$C$4,1,0) -> 0 | Y10: =IF('enter-data'!K10='calc.nat.'!$C$4,1,0) -> 0 | Z10: =IF('enter-data'!L10='calc.nat.'!$C$4,1,0) -> 0 | AA10: =IF('enter-data'!M10='calc.nat.'!$C$4,1,0) -> 0 | AB10: =IF('enter-data'!N10='calc.nat.'!$C$4,1,0) -> 0 | ... AU10: =IF('enter-data'!AG10='calc.nat.'!$C$4,1,0) -> 0 | AW10: =IF('enter-data'!AI10='calc.nat.'!$C$4,1,0) -> 0 | AX10: =IF('enter-data'!AJ10='calc.nat.'!$C$4,1,0) -> 0 | AY10: =IF('enter-data'!AK10='calc.nat.'!$C$4,1,0) -> 0 | AZ10: =IF('enter-data'!AL10='calc.nat.'!$C$4,1,0) -> 0 | BA10: =IF('enter-data'!AM10='calc.nat.'!$C$4,1,0) -> 0 | BB10: =IF('enter-data'!AN10='calc.nat.'!$C$4,1,0) -> 0 | BC10: =IF('enter-data'!AO10='calc.nat.'!$C$4,1,0) -> 0 | BD10: =IF('enter-data'!AP10='calc.nat.'!$C$4,1,0) -> 0 | ... BW10: =IF('enter-data'!BI10='calc.nat.'!$C$4,1,0) -> 0
A11: =C11&"."&B11 -> 1970.1 | B11: =COUNTIF($C$2:C11,C11) -> 1 | C11: ='enter-data'!C11 -> 1970 | D11: =IF(AND(E11>0,Q11>0),D10+1,D10) -> 0 | E11: 1970 | F11: =IF(E11>0,VLOOKUP($E11,Parameter!$F:$J,3,FALSE)," ") -> GER | G11: =IF(E11>0,VLOOKUP($E11,Parameter!$F:$J,4,FALSE)," ") -> Germany | H11: =I11+J11 -> 0 | I11: =U11+X11+AA11+AD11+AG11+AJ11+AM11+AP11+AS11 -> 0 | J11: =AW11+AZ11+BC11+BF11+BI11+BL11+BO11+BR11+BU11 -> 0 | K11: =L11+M11 -> 0 | L11: =V11+Y11+AB11+AE11+AH11+AK11+AN11+AQ11+AT11 -> 0 | M11: =AX11+BA11+BD11+BG11+BJ11+BM11+BP11+BS11+BV11 -> 0 | N11: =O11+P11 -> 0 | O11: =W11+Z11+AC11+AF11+AI11+AL11+AO11+AR11+AU11 -> 0 | P11: =AY11+BB11+BE11+BH11+BK11+BN11+BQ11+BT11+BW11 -> 0 | Q11: =H11+K11+N11 -> 0 | R11: =I11+L11+O11 -> 0 | S11: =J11+M11+P11 -> 0 | U11: =IF('enter-data'!G11='calc.nat.'!$C$4,1,0) -> 0 | V11: =IF('enter-data'!H11='calc.nat.'!$C$4,1,0) -> 0 | W11: =IF('enter-data'!I11='calc.nat.'!$C$4,1,0) -> 0 | X11: =IF('enter-data'!J11='calc.nat.'!$C$4,1,0) -> 0 | Y11: =IF('enter-data'!K11='calc.nat.'!$C$4,1,0) -> 0 | Z11: =IF('enter-data'!L11='calc.nat.'!$C$4,1,0) -> 0 | AA11: =IF('enter-data'!M11='calc.nat.'!$C$4,1,0) -> 0 | AB11: =IF('enter-data'!N11='calc.nat.'!$C$4,1,0) -> 0 | ... AU11: =IF('enter-data'!AG11='calc.nat.'!$C$4,1,0) -> 0 | AW11: =IF('enter-data'!AI11='calc.nat.'!$C$4,1,0) -> 0 | AX11: =IF('enter-data'!AJ11='calc.nat.'!$C$4,1,0) -> 0 | AY11: =IF('enter-data'!AK11='calc.nat.'!$C$4,1,0) -> 0 | AZ11: =IF('enter-data'!AL11='calc.nat.'!$C$4,1,0) -> 0 | BA11: =IF('enter-data'!AM11='calc.nat.'!$C$4,1,0) -> 0 | BB11: =IF('enter-data'!AN11='calc.nat.'!$C$4,1,0) -> 0 | BC11: =IF('enter-data'!AO11='calc.nat.'!$C$4,1,0) -> 0 | BD11: =IF('enter-data'!AP11='calc.nat.'!$C$4,1,0) -> 0 | ... BW11: =IF('enter-data'!BI11='calc.nat.'!$C$4,1,0) -> 0
A12: =C12&"."&B12 -> 1971.1 | B12: =COUNTIF($C$2:C12,C12) -> 1 | C12: ='enter-data'!C12 -> 1971 | D12: =IF(AND(E12>0,Q12>0),D11+1,D11) -> 0 | E12: 1971 | F12: =IF(E12>0,VLOOKUP($E12,Parameter!$F:$J,3,FALSE)," ") -> POR | G12: =IF(E12>0,VLOOKUP($E12,Parameter!$F:$J,4,FALSE)," ") -> Portugal | H12: =I12+J12 -> 0 | I12: =U12+X12+AA12+AD12+AG12+AJ12+AM12+AP12+AS12 -> 0 | J12: =AW12+AZ12+BC12+BF12+BI12+BL12+BO12+BR12+BU12 -> 0 | K12: =L12+M12 -> 0 | L12: =V12+Y12+AB12+AE12+AH12+AK12+AN12+AQ12+AT12 -> 0 | M12: =AX12+BA12+BD12+BG12+BJ12+BM12+BP12+BS12+BV12 -> 0 | N12: =O12+P12 -> 0 | O12: =W12+Z12+AC12+AF12+AI12+AL12+AO12+AR12+AU12 -> 0 | P12: =AY12+BB12+BE12+BH12+BK12+BN12+BQ12+BT12+BW12 -> 0 | Q12: =H12+K12+N12 -> 0 | R12: =I12+L12+O12 -> 0 | S12: =J12+M12+P12 -> 0 | U12: =IF('enter-data'!G12='calc.nat.'!$C$4,1,0) -> 0 | V12: =IF('enter-data'!H12='calc.nat.'!$C$4,1,0) -> 0 | W12: =IF('enter-data'!I12='calc.nat.'!$C$4,1,0) -> 0 | X12: =IF('enter-data'!J12='calc.nat.'!$C$4,1,0) -> 0 | Y12: =IF('enter-data'!K12='calc.nat.'!$C$4,1,0) -> 0 | Z12: =IF('enter-data'!L12='calc.nat.'!$C$4,1,0) -> 0 | AA12: =IF('enter-data'!M12='calc.nat.'!$C$4,1,0) -> 0 | AB12: =IF('enter-data'!N12='calc.nat.'!$C$4,1,0) -> 0 | ... AU12: =IF('enter-data'!AG12='calc.nat.'!$C$4,1,0) -> 0 | AW12: =IF('enter-data'!AI12='calc.nat.'!$C$4,1,0) -> 0 | AX12: =IF('enter-data'!AJ12='calc.nat.'!$C$4,1,0) -> 0 | AY12: =IF('enter-data'!AK12='calc.nat.'!$C$4,1,0) -> 0 | AZ12: =IF('enter-data'!AL12='calc.nat.'!$C$4,1,0) -> 0 | BA12: =IF('enter-data'!AM12='calc.nat.'!$C$4,1,0) -> 0 | BB12: =IF('enter-data'!AN12='calc.nat.'!$C$4,1,0) -> 0 | BC12: =IF('enter-data'!AO12='calc.nat.'!$C$4,1,0) -> 0 | BD12: =IF('enter-data'!AP12='calc.nat.'!$C$4,1,0) -> 0 | ... BW12: =IF('enter-data'!BI12='calc.nat.'!$C$4,1,0) -> 0
A13: =C13&"."&B13 -> 1973.1 | B13: =COUNTIF($C$2:C13,C13) -> 1 | C13: ='enter-data'!C13 -> 1973 | D13: =IF(AND(E13>0,Q13>0),D12+1,D12) -> 0 | E13: 1973 | F13: =IF(E13>0,VLOOKUP($E13,Parameter!$F:$J,3,FALSE)," ") -> BEL | G13: =IF(E13>0,VLOOKUP($E13,Parameter!$F:$J,4,FALSE)," ") -> Belgium | H13: =I13+J13 -> 0 | I13: =U13+X13+AA13+AD13+AG13+AJ13+AM13+AP13+AS13 -> 0 | J13: =AW13+AZ13+BC13+BF13+BI13+BL13+BO13+BR13+BU13 -> 0 | K13: =L13+M13 -> 0 | L13: =V13+Y13+AB13+AE13+AH13+AK13+AN13+AQ13+AT13 -> 0 | M13: =AX13+BA13+BD13+BG13+BJ13+BM13+BP13+BS13+BV13 -> 0 | N13: =O13+P13 -> 0 | O13: =W13+Z13+AC13+AF13+AI13+AL13+AO13+AR13+AU13 -> 0 | P13: =AY13+BB13+BE13+BH13+BK13+BN13+BQ13+BT13+BW13 -> 0 | Q13: =H13+K13+N13 -> 0 | R13: =I13+L13+O13 -> 0 | S13: =J13+M13+P13 -> 0 | U13: =IF('enter-data'!G13='calc.nat.'!$C$4,1,0) -> 0 | V13: =IF('enter-data'!H13='calc.nat.'!$C$4,1,0) -> 0 | W13: =IF('enter-data'!I13='calc.nat.'!$C$4,1,0) -> 0 | X13: =IF('enter-data'!J13='calc.nat.'!$C$4,1,0) -> 0 | Y13: =IF('enter-data'!K13='calc.nat.'!$C$4,1,0) -> 0 | Z13: =IF('enter-data'!L13='calc.nat.'!$C$4,1,0) -> 0 | AA13: =IF('enter-data'!M13='calc.nat.'!$C$4,1,0) -> 0 | AB13: =IF('enter-data'!N13='calc.nat.'!$C$4,1,0) -> 0 | ... AU13: =IF('enter-data'!AG13='calc.nat.'!$C$4,1,0) -> 0 | AW13: =IF('enter-data'!AI13='calc.nat.'!$C$4,1,0) -> 0 | AX13: =IF('enter-data'!AJ13='calc.nat.'!$C$4,1,0) -> 0 | AY13: =IF('enter-data'!AK13='calc.nat.'!$C$4,1,0) -> 0 | AZ13: =IF('enter-data'!AL13='calc.nat.'!$C$4,1,0) -> 0 | BA13: =IF('enter-data'!AM13='calc.nat.'!$C$4,1,0) -> 0 | BB13: =IF('enter-data'!AN13='calc.nat.'!$C$4,1,0) -> 0 | BC13: =IF('enter-data'!AO13='calc.nat.'!$C$4,1,0) -> 0 | BD13: =IF('enter-data'!AP13='calc.nat.'!$C$4,1,0) -> 0 | ... BW13: =IF('enter-data'!BI13='calc.nat.'!$C$4,1,0) -> 0
A14: =C14&"."&B14 -> 1974.1 | B14: =COUNTIF($C$2:C14,C14) -> 1 | C14: ='enter-data'!C14 -> 1974 | D14: =IF(AND(E14>0,Q14>0),D13+1,D13) -> 0 | E14: 1974 | F14: =IF(E14>0,VLOOKUP($E14,Parameter!$F:$J,3,FALSE)," ") -> USA | G14: =IF(E14>0,VLOOKUP($E14,Parameter!$F:$J,4,FALSE)," ") -> United States of America | H14: =I14+J14 -> 0 | I14: =U14+X14+AA14+AD14+AG14+AJ14+AM14+AP14+AS14 -> 0 | J14: =AW14+AZ14+BC14+BF14+BI14+BL14+BO14+BR14+BU14 -> 0 | K14: =L14+M14 -> 0 | L14: =V14+Y14+AB14+AE14+AH14+AK14+AN14+AQ14+AT14 -> 0 | M14: =AX14+BA14+BD14+BG14+BJ14+BM14+BP14+BS14+BV14 -> 0 | N14: =O14+P14 -> 0 | O14: =W14+Z14+AC14+AF14+AI14+AL14+AO14+AR14+AU14 -> 0 | P14: =AY14+BB14+BE14+BH14+BK14+BN14+BQ14+BT14+BW14 -> 0 | Q14: =H14+K14+N14 -> 0 | R14: =I14+L14+O14 -> 0 | S14: =J14+M14+P14 -> 0 | U14: =IF('enter-data'!G14='calc.nat.'!$C$4,1,0) -> 0 | V14: =IF('enter-data'!H14='calc.nat.'!$C$4,1,0) -> 0 | W14: =IF('enter-data'!I14='calc.nat.'!$C$4,1,0) -> 0 | X14: =IF('enter-data'!J14='calc.nat.'!$C$4,1,0) -> 0 | Y14: =IF('enter-data'!K14='calc.nat.'!$C$4,1,0) -> 0 | Z14: =IF('enter-data'!L14='calc.nat.'!$C$4,1,0) -> 0 | AA14: =IF('enter-data'!M14='calc.nat.'!$C$4,1,0) -> 0 | AB14: =IF('enter-data'!N14='calc.nat.'!$C$4,1,0) -> 0 | ... AU14: =IF('enter-data'!AG14='calc.nat.'!$C$4,1,0) -> 0 | AW14: =IF('enter-data'!AI14='calc.nat.'!$C$4,1,0) -> 0 | AX14: =IF('enter-data'!AJ14='calc.nat.'!$C$4,1,0) -> 0 | AY14: =IF('enter-data'!AK14='calc.nat.'!$C$4,1,0) -> 0 | AZ14: =IF('enter-data'!AL14='calc.nat.'!$C$4,1,0) -> 0 | BA14: =IF('enter-data'!AM14='calc.nat.'!$C$4,1,0) -> 0 | BB14: =IF('enter-data'!AN14='calc.nat.'!$C$4,1,0) -> 0 | BC14: =IF('enter-data'!AO14='calc.nat.'!$C$4,1,0) -> 0 | BD14: =IF('enter-data'!AP14='calc.nat.'!$C$4,1,0) -> 0 | ... BW14: =IF('enter-data'!BI14='calc.nat.'!$C$4,1,0) -> 0
A15: =C15&"."&B15 -> 1975.1 | B15: =COUNTIF($C$2:C15,C15) -> 1 | C15: ='enter-data'!C15 -> 1975 | D15: =IF(AND(E15>0,Q15>0),D14+1,D14) -> 0 | E15: 1975 | F15: =IF(E15>0,VLOOKUP($E15,Parameter!$F:$J,3,FALSE)," ") -> FRA | G15: =IF(E15>0,VLOOKUP($E15,Parameter!$F:$J,4,FALSE)," ") -> France | H15: =I15+J15 -> 0 | I15: =U15+X15+AA15+AD15+AG15+AJ15+AM15+AP15+AS15 -> 0 | J15: =AW15+AZ15+BC15+BF15+BI15+BL15+BO15+BR15+BU15 -> 0 | K15: =L15+M15 -> 0 | L15: =V15+Y15+AB15+AE15+AH15+AK15+AN15+AQ15+AT15 -> 0 | M15: =AX15+BA15+BD15+BG15+BJ15+BM15+BP15+BS15+BV15 -> 0 | N15: =O15+P15 -> 0 | O15: =W15+Z15+AC15+AF15+AI15+AL15+AO15+AR15+AU15 -> 0 | P15: =AY15+BB15+BE15+BH15+BK15+BN15+BQ15+BT15+BW15 -> 0 | Q15: =H15+K15+N15 -> 0 | R15: =I15+L15+O15 -> 0 | S15: =J15+M15+P15 -> 0 | U15: =IF('enter-data'!G15='calc.nat.'!$C$4,1,0) -> 0 | V15: =IF('enter-data'!H15='calc.nat.'!$C$4,1,0) -> 0 | W15: =IF('enter-data'!I15='calc.nat.'!$C$4,1,0) -> 0 | X15: =IF('enter-data'!J15='calc.nat.'!$C$4,1,0) -> 0 | Y15: =IF('enter-data'!K15='calc.nat.'!$C$4,1,0) -> 0 | Z15: =IF('enter-data'!L15='calc.nat.'!$C$4,1,0) -> 0 | AA15: =IF('enter-data'!M15='calc.nat.'!$C$4,1,0) -> 0 | AB15: =IF('enter-data'!N15='calc.nat.'!$C$4,1,0) -> 0 | ... AU15: =IF('enter-data'!AG15='calc.nat.'!$C$4,1,0) -> 0 | AW15: =IF('enter-data'!AI15='calc.nat.'!$C$4,1,0) -> 0 | AX15: =IF('enter-data'!AJ15='calc.nat.'!$C$4,1,0) -> 0 | AY15: =IF('enter-data'!AK15='calc.nat.'!$C$4,1,0) -> 0 | AZ15: =IF('enter-data'!AL15='calc.nat.'!$C$4,1,0) -> 0 | BA15: =IF('enter-data'!AM15='calc.nat.'!$C$4,1,0) -> 0 | BB15: =IF('enter-data'!AN15='calc.nat.'!$C$4,1,0) -> 0 | BC15: =IF('enter-data'!AO15='calc.nat.'!$C$4,1,0) -> 0 | BD15: =IF('enter-data'!AP15='calc.nat.'!$C$4,1,0) -> 0 | ... BW15: =IF('enter-data'!BI15='calc.nat.'!$C$4,1,0) -> 0
A16: =C16&"."&B16 -> 1976.1 | B16: =COUNTIF($C$2:C16,C16) -> 1 | C16: ='enter-data'!C16 -> 1976 | D16: =IF(AND(E16>0,Q16>0),D15+1,D15) -> 0 | F16: =IF(E16>0,VLOOKUP($E16,Parameter!$F:$J,3,FALSE)," ") | G16: =IF(E16>0,VLOOKUP($E16,Parameter!$F:$J,4,FALSE)," ") | H16: =I16+J16 -> 0 | I16: =U16+X16+AA16+AD16+AG16+AJ16+AM16+AP16+AS16 -> 0 | J16: =AW16+AZ16+BC16+BF16+BI16+BL16+BO16+BR16+BU16 -> 0 | K16: =L16+M16 -> 0 | L16: =V16+Y16+AB16+AE16+AH16+AK16+AN16+AQ16+AT16 -> 0 | M16: =AX16+BA16+BD16+BG16+BJ16+BM16+BP16+BS16+BV16 -> 0 | N16: =O16+P16 -> 0 | O16: =W16+Z16+AC16+AF16+AI16+AL16+AO16+AR16+AU16 -> 0 | P16: =AY16+BB16+BE16+BH16+BK16+BN16+BQ16+BT16+BW16 -> 0 | Q16: =H16+K16+N16 -> 0 | R16: =I16+L16+O16 -> 0 | S16: =J16+M16+P16 -> 0 | U16: =IF('enter-data'!G16='calc.nat.'!$C$4,1,0) -> 0 | V16: =IF('enter-data'!H16='calc.nat.'!$C$4,1,0) -> 0 | W16: =IF('enter-data'!I16='calc.nat.'!$C$4,1,0) -> 0 | X16: =IF('enter-data'!J16='calc.nat.'!$C$4,1,0) -> 0 | Y16: =IF('enter-data'!K16='calc.nat.'!$C$4,1,0) -> 0 | Z16: =IF('enter-data'!L16='calc.nat.'!$C$4,1,0) -> 0 | AA16: =IF('enter-data'!M16='calc.nat.'!$C$4,1,0) -> 0 | AB16: =IF('enter-data'!N16='calc.nat.'!$C$4,1,0) -> 0 | ... AU16: =IF('enter-data'!AG16='calc.nat.'!$C$4,1,0) -> 0 | AW16: =IF('enter-data'!AI16='calc.nat.'!$C$4,1,0) -> 0 | AX16: =IF('enter-data'!AJ16='calc.nat.'!$C$4,1,0) -> 0 | AY16: =IF('enter-data'!AK16='calc.nat.'!$C$4,1,0) -> 0 | AZ16: =IF('enter-data'!AL16='calc.nat.'!$C$4,1,0) -> 0 | BA16: =IF('enter-data'!AM16='calc.nat.'!$C$4,1,0) -> 0 | BB16: =IF('enter-data'!AN16='calc.nat.'!$C$4,1,0) -> 0 | BC16: =IF('enter-data'!AO16='calc.nat.'!$C$4,1,0) -> 0 | BD16: =IF('enter-data'!AP16='calc.nat.'!$C$4,1,0) -> 0 | ... BW16: =IF('enter-data'!BI16='calc.nat.'!$C$4,1,0) -> 0
A17: =C17&"."&B17 -> 1976.2 | B17: =COUNTIF($C$2:C17,C17) -> 2 | C17: ='enter-data'!C17 -> 1976 | D17: =IF(AND(E17>0,Q17>0),D16+1,D16) -> 0 | F17: =IF(E17>0,VLOOKUP($E17,Parameter!$F:$J,3,FALSE)," ") | G17: =IF(E17>0,VLOOKUP($E17,Parameter!$F:$J,4,FALSE)," ") | H17: =I17+J17 -> 0 | I17: =U17+X17+AA17+AD17+AG17+AJ17+AM17+AP17+AS17 -> 0 | J17: =AW17+AZ17+BC17+BF17+BI17+BL17+BO17+BR17+BU17 -> 0 | K17: =L17+M17 -> 0 | L17: =V17+Y17+AB17+AE17+AH17+AK17+AN17+AQ17+AT17 -> 0 | M17: =AX17+BA17+BD17+BG17+BJ17+BM17+BP17+BS17+BV17 -> 0 | N17: =O17+P17 -> 0 | O17: =W17+Z17+AC17+AF17+AI17+AL17+AO17+AR17+AU17 -> 0 | P17: =AY17+BB17+BE17+BH17+BK17+BN17+BQ17+BT17+BW17 -> 0 | Q17: =H17+K17+N17 -> 0 | R17: =I17+L17+O17 -> 0 | S17: =J17+M17+P17 -> 0 | U17: =IF('enter-data'!G17='calc.nat.'!$C$4,1,0) -> 0 | V17: =IF('enter-data'!H17='calc.nat.'!$C$4,1,0) -> 0 | W17: =IF('enter-data'!I17='calc.nat.'!$C$4,1,0) -> 0 | X17: =IF('enter-data'!J17='calc.nat.'!$C$4,1,0) -> 0 | Y17: =IF('enter-data'!K17='calc.nat.'!$C$4,1,0) -> 0 | Z17: =IF('enter-data'!L17='calc.nat.'!$C$4,1,0) -> 0 | AA17: =IF('enter-data'!M17='calc.nat.'!$C$4,1,0) -> 0 | AB17: =IF('enter-data'!N17='calc.nat.'!$C$4,1,0) -> 0 | ... AU17: =IF('enter-data'!AG17='calc.nat.'!$C$4,1,0) -> 0 | AW17: =IF('enter-data'!AI17='calc.nat.'!$C$4,1,0) -> 0 | AX17: =IF('enter-data'!AJ17='calc.nat.'!$C$4,1,0) -> 0 | AY17: =IF('enter-data'!AK17='calc.nat.'!$C$4,1,0) -> 0 | AZ17: =IF('enter-data'!AL17='calc.nat.'!$C$4,1,0) -> 0 | BA17: =IF('enter-data'!AM17='calc.nat.'!$C$4,1,0) -> 0 | BB17: =IF('enter-data'!AN17='calc.nat.'!$C$4,1,0) -> 0 | BC17: =IF('enter-data'!AO17='calc.nat.'!$C$4,1,0) -> 0 | BD17: =IF('enter-data'!AP17='calc.nat.'!$C$4,1,0) -> 0 | ... BW17: =IF('enter-data'!BI17='calc.nat.'!$C$4,1,0) -> 0
D18: =IF(AND(E18>0,Q18>0),D17+1,D17) -> 0 | E18: 1976 | F18: =IF(E18>0,VLOOKUP($E18,Parameter!$F:$J,3,FALSE)," ") -> ESP | G18: =IF(E18>0,VLOOKUP($E18,Parameter!$F:$J,4,FALSE)," ") -> Spain | H18: =SUM(H16:H17) -> 0 | I18: =SUM(I16:I17) -> 0 | J18: =SUM(J16:J17) -> 0 | K18: =SUM(K16:K17) -> 0 | L18: =SUM(L16:L17) -> 0 | M18: =SUM(M16:M17) -> 0 | N18: =SUM(N16:N17) -> 0 | O18: =SUM(O16:O17) -> 0 | ... S18: =SUM(S16:S17) -> 0
A19: =C19&"."&B19 -> 1977.1 | B19: =COUNTIF($C$2:C19,C19) -> 1 | C19: ='enter-data'!C18 -> 1977 | D19: =IF(AND(E19>0,Q19>0),D18+1,D18) -> 0 | E19: 1977 | F19: =IF(E19>0,VLOOKUP($E19,Parameter!$F:$J,3,FALSE)," ") -> AUT | G19: =IF(E19>0,VLOOKUP($E19,Parameter!$F:$J,4,FALSE)," ") -> Austria | H19: =I19+J19 -> 0 | I19: =U19+X19+AA19+AD19+AG19+AJ19+AM19+AP19+AS19 -> 0 | J19: =AW19+AZ19+BC19+BF19+BI19+BL19+BO19+BR19+BU19 -> 0 | K19: =L19+M19 -> 0 | L19: =V19+Y19+AB19+AE19+AH19+AK19+AN19+AQ19+AT19 -> 0 | M19: =AX19+BA19+BD19+BG19+BJ19+BM19+BP19+BS19+BV19 -> 0 | N19: =O19+P19 -> 0 | O19: =W19+Z19+AC19+AF19+AI19+AL19+AO19+AR19+AU19 -> 0 | P19: =AY19+BB19+BE19+BH19+BK19+BN19+BQ19+BT19+BW19 -> 0 | Q19: =H19+K19+N19 -> 0 | R19: =I19+L19+O19 -> 0 | S19: =J19+M19+P19 -> 0 | U19: =IF('enter-data'!G18='calc.nat.'!$C$4,1,0) -> 0 | V19: =IF('enter-data'!H18='calc.nat.'!$C$4,1,0) -> 0 | W19: =IF('enter-data'!I18='calc.nat.'!$C$4,1,0) -> 0 | X19: =IF('enter-data'!J18='calc.nat.'!$C$4,1,0) -> 0 | Y19: =IF('enter-data'!K18='calc.nat.'!$C$4,1,0) -> 0 | Z19: =IF('enter-data'!L18='calc.nat.'!$C$4,1,0) -> 0 | AA19: =IF('enter-data'!M18='calc.nat.'!$C$4,1,0) -> 0 | AB19: =IF('enter-data'!N18='calc.nat.'!$C$4,1,0) -> 0 | ... AU19: =IF('enter-data'!AG18='calc.nat.'!$C$4,1,0) -> 0 | AW19: =IF('enter-data'!AI18='calc.nat.'!$C$4,1,0) -> 0 | AX19: =IF('enter-data'!AJ18='calc.nat.'!$C$4,1,0) -> 0 | AY19: =IF('enter-data'!AK18='calc.nat.'!$C$4,1,0) -> 0 | AZ19: =IF('enter-data'!AL18='calc.nat.'!$C$4,1,0) -> 0 | BA19: =IF('enter-data'!AM18='calc.nat.'!$C$4,1,0) -> 0 | BB19: =IF('enter-data'!AN18='calc.nat.'!$C$4,1,0) -> 0 | BC19: =IF('enter-data'!AO18='calc.nat.'!$C$4,1,0) -> 0 | BD19: =IF('enter-data'!AP18='calc.nat.'!$C$4,1,0) -> 0 | ... BW19: =IF('enter-data'!BI18='calc.nat.'!$C$4,1,0) -> 0
A20: =C20&"."&B20 -> 1979.1 | B20: =COUNTIF($C$2:C20,C20) -> 1 | C20: ='enter-data'!C19 -> 1979 | D20: =IF(AND(E20>0,Q20>0),D19+1,D19) -> 0 | E20: 1979 | F20: =IF(E20>0,VLOOKUP($E20,Parameter!$F:$J,3,FALSE)," ") -> SWE | G20: =IF(E20>0,VLOOKUP($E20,Parameter!$F:$J,4,FALSE)," ") -> Sweden | H20: =I20+J20 -> 0 | I20: =U20+X20+AA20+AD20+AG20+AJ20+AM20+AP20+AS20 -> 0 | J20: =AW20+AZ20+BC20+BF20+BI20+BL20+BO20+BR20+BU20 -> 0 | K20: =L20+M20 -> 0 | L20: =V20+Y20+AB20+AE20+AH20+AK20+AN20+AQ20+AT20 -> 0 | M20: =AX20+BA20+BD20+BG20+BJ20+BM20+BP20+BS20+BV20 -> 0 | N20: =O20+P20 -> 0 | O20: =W20+Z20+AC20+AF20+AI20+AL20+AO20+AR20+AU20 -> 0 | P20: =AY20+BB20+BE20+BH20+BK20+BN20+BQ20+BT20+BW20 -> 0 | Q20: =H20+K20+N20 -> 0 | R20: =I20+L20+O20 -> 0 | S20: =J20+M20+P20 -> 0 | U20: =IF('enter-data'!G19='calc.nat.'!$C$4,1,0) -> 0 | V20: =IF('enter-data'!H19='calc.nat.'!$C$4,1,0) -> 0 | W20: =IF('enter-data'!I19='calc.nat.'!$C$4,1,0) -> 0 | X20: =IF('enter-data'!J19='calc.nat.'!$C$4,1,0) -> 0 | Y20: =IF('enter-data'!K19='calc.nat.'!$C$4,1,0) -> 0 | Z20: =IF('enter-data'!L19='calc.nat.'!$C$4,1,0) -> 0 | AA20: =IF('enter-data'!M19='calc.nat.'!$C$4,1,0) -> 0 | AB20: =IF('enter-data'!N19='calc.nat.'!$C$4,1,0) -> 0 | ... AU20: =IF('enter-data'!AG19='calc.nat.'!$C$4,1,0) -> 0 | AW20: =IF('enter-data'!AI19='calc.nat.'!$C$4,1,0) -> 0 | AX20: =IF('enter-data'!AJ19='calc.nat.'!$C$4,1,0) -> 0 | AY20: =IF('enter-data'!AK19='calc.nat.'!$C$4,1,0) -> 0 | AZ20: =IF('enter-data'!AL19='calc.nat.'!$C$4,1,0) -> 0 | BA20: =IF('enter-data'!AM19='calc.nat.'!$C$4,1,0) -> 0 | BB20: =IF('enter-data'!AN19='calc.nat.'!$C$4,1,0) -> 0 | BC20: =IF('enter-data'!AO19='calc.nat.'!$C$4,1,0) -> 0 | BD20: =IF('enter-data'!AP19='calc.nat.'!$C$4,1,0) -> 0 | ... BW20: =IF('enter-data'!BI19='calc.nat.'!$C$4,1,0) -> 0
A21: =C21&"."&B21 -> 1980.1 | B21: =COUNTIF($C$2:C21,C21) -> 1 | C21: ='enter-data'!C20 -> 1980 | D21: =IF(AND(E21>0,Q21>0),D20+1,D20) -> 0 | F21: =IF(E21>0,VLOOKUP($E21,Parameter!$F:$J,3,FALSE)," ") | G21: =IF(E21>0,VLOOKUP($E21,Parameter!$F:$J,4,FALSE)," ") | H21: =I21+J21 -> 0 | I21: =U21+X21+AA21+AD21+AG21+AJ21+AM21+AP21+AS21 -> 0 | J21: =AW21+AZ21+BC21+BF21+BI21+BL21+BO21+BR21+BU21 -> 0 | K21: =L21+M21 -> 0 | L21: =V21+Y21+AB21+AE21+AH21+AK21+AN21+AQ21+AT21 -> 0 | M21: =AX21+BA21+BD21+BG21+BJ21+BM21+BP21+BS21+BV21 -> 0 | N21: =O21+P21 -> 0 | O21: =W21+Z21+AC21+AF21+AI21+AL21+AO21+AR21+AU21 -> 0 | P21: =AY21+BB21+BE21+BH21+BK21+BN21+BQ21+BT21+BW21 -> 0 | Q21: =H21+K21+N21 -> 0 | R21: =I21+L21+O21 -> 0 | S21: =J21+M21+P21 -> 0 | U21: =IF('enter-data'!G20='calc.nat.'!$C$4,1,0) -> 0 | V21: =IF('enter-data'!H20='calc.nat.'!$C$4,1,0) -> 0 | W21: =IF('enter-data'!I20='calc.nat.'!$C$4,1,0) -> 0 | X21: =IF('enter-data'!J20='calc.nat.'!$C$4,1,0) -> 0 | Y21: =IF('enter-data'!K20='calc.nat.'!$C$4,1,0) -> 0 | Z21: =IF('enter-data'!L20='calc.nat.'!$C$4,1,0) -> 0 | AA21: =IF('enter-data'!M20='calc.nat.'!$C$4,1,0) -> 0 | AB21: =IF('enter-data'!N20='calc.nat.'!$C$4,1,0) -> 0 | ... AU21: =IF('enter-data'!AG20='calc.nat.'!$C$4,1,0) -> 0 | AW21: =IF('enter-data'!AI20='calc.nat.'!$C$4,1,0) -> 0 | AX21: =IF('enter-data'!AJ20='calc.nat.'!$C$4,1,0) -> 0 | AY21: =IF('enter-data'!AK20='calc.nat.'!$C$4,1,0) -> 0 | AZ21: =IF('enter-data'!AL20='calc.nat.'!$C$4,1,0) -> 0 | BA21: =IF('enter-data'!AM20='calc.nat.'!$C$4,1,0) -> 0 | BB21: =IF('enter-data'!AN20='calc.nat.'!$C$4,1,0) -> 0 | BC21: =IF('enter-data'!AO20='calc.nat.'!$C$4,1,0) -> 0 | BD21: =IF('enter-data'!AP20='calc.nat.'!$C$4,1,0) -> 0 | ... BW21: =IF('enter-data'!BI20='calc.nat.'!$C$4,1,0) -> 0
A22: =C22&"."&B22 -> 1980.2 | B22: =COUNTIF($C$2:C22,C22) -> 2 | C22: ='enter-data'!C21 -> 1980 | D22: =IF(AND(E22>0,Q22>0),D21+1,D21) -> 0 | F22: =IF(E22>0,VLOOKUP($E22,Parameter!$F:$J,3,FALSE)," ") | G22: =IF(E22>0,VLOOKUP($E22,Parameter!$F:$J,4,FALSE)," ") | H22: =I22+J22 -> 0 | I22: =U22+X22+AA22+AD22+AG22+AJ22+AM22+AP22+AS22 -> 0 | J22: =AW22+AZ22+BC22+BF22+BI22+BL22+BO22+BR22+BU22 -> 0 | K22: =L22+M22 -> 0 | L22: =V22+Y22+AB22+AE22+AH22+AK22+AN22+AQ22+AT22 -> 0 | M22: =AX22+BA22+BD22+BG22+BJ22+BM22+BP22+BS22+BV22 -> 0 | N22: =O22+P22 -> 0 | O22: =W22+Z22+AC22+AF22+AI22+AL22+AO22+AR22+AU22 -> 0 | P22: =AY22+BB22+BE22+BH22+BK22+BN22+BQ22+BT22+BW22 -> 0 | Q22: =H22+K22+N22 -> 0 | R22: =I22+L22+O22 -> 0 | S22: =J22+M22+P22 -> 0 | U22: =IF('enter-data'!G21='calc.nat.'!$C$4,1,0) -> 0 | V22: =IF('enter-data'!H21='calc.nat.'!$C$4,1,0) -> 0 | W22: =IF('enter-data'!I21='calc.nat.'!$C$4,1,0) -> 0 | X22: =IF('enter-data'!J21='calc.nat.'!$C$4,1,0) -> 0 | Y22: =IF('enter-data'!K21='calc.nat.'!$C$4,1,0) -> 0 | Z22: =IF('enter-data'!L21='calc.nat.'!$C$4,1,0) -> 0 | AA22: =IF('enter-data'!M21='calc.nat.'!$C$4,1,0) -> 0 | AB22: =IF('enter-data'!N21='calc.nat.'!$C$4,1,0) -> 0 | ... AU22: =IF('enter-data'!AG21='calc.nat.'!$C$4,1,0) -> 0 | AW22: =IF('enter-data'!AI21='calc.nat.'!$C$4,1,0) -> 0 | AX22: =IF('enter-data'!AJ21='calc.nat.'!$C$4,1,0) -> 0 | AY22: =IF('enter-data'!AK21='calc.nat.'!$C$4,1,0) -> 0 | AZ22: =IF('enter-data'!AL21='calc.nat.'!$C$4,1,0) -> 0 | BA22: =IF('enter-data'!AM21='calc.nat.'!$C$4,1,0) -> 0 | BB22: =IF('enter-data'!AN21='calc.nat.'!$C$4,1,0) -> 0 | BC22: =IF('enter-data'!AO21='calc.nat.'!$C$4,1,0) -> 0 | BD22: =IF('enter-data'!AP21='calc.nat.'!$C$4,1,0) -> 0 | ... BW22: =IF('enter-data'!BI21='calc.nat.'!$C$4,1,0) -> 0
A23: =C23&"."&B23 -> 1980.3 | B23: =COUNTIF($C$2:C23,C23) -> 3 | C23: ='enter-data'!C22 -> 1980 | D23: =IF(AND(E23>0,Q23>0),D22+1,D22) -> 0 | F23: =IF(E23>0,VLOOKUP($E23,Parameter!$F:$J,3,FALSE)," ") | G23: =IF(E23>0,VLOOKUP($E23,Parameter!$F:$J,4,FALSE)," ") | H23: =I23+J23 -> 0 | I23: =U23+X23+AA23+AD23+AG23+AJ23+AM23+AP23+AS23 -> 0 | J23: =AW23+AZ23+BC23+BF23+BI23+BL23+BO23+BR23+BU23 -> 0 | K23: =L23+M23 -> 0 | L23: =V23+Y23+AB23+AE23+AH23+AK23+AN23+AQ23+AT23 -> 0 | M23: =AX23+BA23+BD23+BG23+BJ23+BM23+BP23+BS23+BV23 -> 0 | N23: =O23+P23 -> 0 | O23: =W23+Z23+AC23+AF23+AI23+AL23+AO23+AR23+AU23 -> 0 | P23: =AY23+BB23+BE23+BH23+BK23+BN23+BQ23+BT23+BW23 -> 0 | Q23: =H23+K23+N23 -> 0 | R23: =I23+L23+O23 -> 0 | S23: =J23+M23+P23 -> 0 | U23: =IF('enter-data'!G22='calc.nat.'!$C$4,1,0) -> 0 | V23: =IF('enter-data'!H22='calc.nat.'!$C$4,1,0) -> 0 | W23: =IF('enter-data'!I22='calc.nat.'!$C$4,1,0) -> 0 | X23: =IF('enter-data'!J22='calc.nat.'!$C$4,1,0) -> 0 | Y23: =IF('enter-data'!K22='calc.nat.'!$C$4,1,0) -> 0 | Z23: =IF('enter-data'!L22='calc.nat.'!$C$4,1,0) -> 0 | AA23: =IF('enter-data'!M22='calc.nat.'!$C$4,1,0) -> 0 | AB23: =IF('enter-data'!N22='calc.nat.'!$C$4,1,0) -> 0 | ... AU23: =IF('enter-data'!AG22='calc.nat.'!$C$4,1,0) -> 0 | AW23: =IF('enter-data'!AI22='calc.nat.'!$C$4,1,0) -> 0 | AX23: =IF('enter-data'!AJ22='calc.nat.'!$C$4,1,0) -> 0 | AY23: =IF('enter-data'!AK22='calc.nat.'!$C$4,1,0) -> 0 | AZ23: =IF('enter-data'!AL22='calc.nat.'!$C$4,1,0) -> 0 | BA23: =IF('enter-data'!AM22='calc.nat.'!$C$4,1,0) -> 0 | BB23: =IF('enter-data'!AN22='calc.nat.'!$C$4,1,0) -> 0 | BC23: =IF('enter-data'!AO22='calc.nat.'!$C$4,1,0) -> 0 | BD23: =IF('enter-data'!AP22='calc.nat.'!$C$4,1,0) -> 0 | ... BW23: =IF('enter-data'!BI22='calc.nat.'!$C$4,1,0) -> 0
D24: =IF(AND(E24>0,Q24>0),D23+1,D23) -> 0 | E24: 1980 | F24: =IF(E24>0,VLOOKUP($E24,Parameter!$F:$J,3,FALSE)," ") -> CHI | G24: =IF(E24>0,VLOOKUP($E24,Parameter!$F:$J,4,FALSE)," ") -> Chile | H24: =SUM(H21:H23) -> 0 | I24: =SUM(I21:I23) -> 0 | J24: =SUM(J21:J23) -> 0 | K24: =SUM(K21:K23) -> 0 | L24: =SUM(L21:L23) -> 0 | M24: =SUM(M21:M23) -> 0 | N24: =SUM(N21:N23) -> 0 | O24: =SUM(O21:O23) -> 0 | ... S24: =SUM(S21:S23) -> 0
A25: =C25&"."&B25 -> 1981.1 | B25: =COUNTIF($C$2:C25,C25) -> 1 | C25: ='enter-data'!C23 -> 1981 | D25: =IF(AND(E25>0,Q25>0),D24+1,D24) -> 0 | F25: =IF(E25>0,VLOOKUP($E25,Parameter!$F:$J,3,FALSE)," ") | G25: =IF(E25>0,VLOOKUP($E25,Parameter!$F:$J,4,FALSE)," ") | H25: =I25+J25 -> 0 | I25: =U25+X25+AA25+AD25+AG25+AJ25+AM25+AP25+AS25 -> 0 | J25: =AW25+AZ25+BC25+BF25+BI25+BL25+BO25+BR25+BU25 -> 0 | K25: =L25+M25 -> 0 | L25: =V25+Y25+AB25+AE25+AH25+AK25+AN25+AQ25+AT25 -> 0 | M25: =AX25+BA25+BD25+BG25+BJ25+BM25+BP25+BS25+BV25 -> 0 | N25: =O25+P25 -> 0 | O25: =W25+Z25+AC25+AF25+AI25+AL25+AO25+AR25+AU25 -> 0 | P25: =AY25+BB25+BE25+BH25+BK25+BN25+BQ25+BT25+BW25 -> 0 | Q25: =H25+K25+N25 -> 0 | R25: =I25+L25+O25 -> 0 | S25: =J25+M25+P25 -> 0 | U25: =IF('enter-data'!G23='calc.nat.'!$C$4,1,0) -> 0 | V25: =IF('enter-data'!H23='calc.nat.'!$C$4,1,0) -> 0 | W25: =IF('enter-data'!I23='calc.nat.'!$C$4,1,0) -> 0 | X25: =IF('enter-data'!J23='calc.nat.'!$C$4,1,0) -> 0 | Y25: =IF('enter-data'!K23='calc.nat.'!$C$4,1,0) -> 0 | Z25: =IF('enter-data'!L23='calc.nat.'!$C$4,1,0) -> 0 | AA25: =IF('enter-data'!M23='calc.nat.'!$C$4,1,0) -> 0 | AB25: =IF('enter-data'!N23='calc.nat.'!$C$4,1,0) -> 0 | ... AU25: =IF('enter-data'!AG23='calc.nat.'!$C$4,1,0) -> 0 | AW25: =IF('enter-data'!AI23='calc.nat.'!$C$4,1,0) -> 0 | AX25: =IF('enter-data'!AJ23='calc.nat.'!$C$4,1,0) -> 0 | AY25: =IF('enter-data'!AK23='calc.nat.'!$C$4,1,0) -> 0 | AZ25: =IF('enter-data'!AL23='calc.nat.'!$C$4,1,0) -> 0 | BA25: =IF('enter-data'!AM23='calc.nat.'!$C$4,1,0) -> 0 | BB25: =IF('enter-data'!AN23='calc.nat.'!$C$4,1,0) -> 0 | BC25: =IF('enter-data'!AO23='calc.nat.'!$C$4,1,0) -> 0 | BD25: =IF('enter-data'!AP23='calc.nat.'!$C$4,1,0) -> 0 | ... BW25: =IF('enter-data'!BI23='calc.nat.'!$C$4,1,0) -> 0
A26: =C26&"."&B26 -> 1981.2 | B26: =COUNTIF($C$2:C26,C26) -> 2 | C26: ='enter-data'!C24 -> 1981 | D26: =IF(AND(E26>0,Q26>0),D25+1,D25) -> 0 | F26: =IF(E26>0,VLOOKUP($E26,Parameter!$F:$J,3,FALSE)," ") | G26: =IF(E26>0,VLOOKUP($E26,Parameter!$F:$J,4,FALSE)," ") | H26: =I26+J26 -> 0 | I26: =U26+X26+AA26+AD26+AG26+AJ26+AM26+AP26+AS26 -> 0 | J26: =AW26+AZ26+BC26+BF26+BI26+BL26+BO26+BR26+BU26 -> 0 | K26: =L26+M26 -> 0 | L26: =V26+Y26+AB26+AE26+AH26+AK26+AN26+AQ26+AT26 -> 0 | M26: =AX26+BA26+BD26+BG26+BJ26+BM26+BP26+BS26+BV26 -> 0 | N26: =O26+P26 -> 0 | O26: =W26+Z26+AC26+AF26+AI26+AL26+AO26+AR26+AU26 -> 0 | P26: =AY26+BB26+BE26+BH26+BK26+BN26+BQ26+BT26+BW26 -> 0 | Q26: =H26+K26+N26 -> 0 | R26: =I26+L26+O26 -> 0 | S26: =J26+M26+P26 -> 0 | U26: =IF('enter-data'!G24='calc.nat.'!$C$4,1,0) -> 0 | V26: =IF('enter-data'!H24='calc.nat.'!$C$4,1,0) -> 0 | W26: =IF('enter-data'!I24='calc.nat.'!$C$4,1,0) -> 0 | X26: =IF('enter-data'!J24='calc.nat.'!$C$4,1,0) -> 0 | Y26: =IF('enter-data'!K24='calc.nat.'!$C$4,1,0) -> 0 | Z26: =IF('enter-data'!L24='calc.nat.'!$C$4,1,0) -> 0 | AA26: =IF('enter-data'!M24='calc.nat.'!$C$4,1,0) -> 0 | AB26: =IF('enter-data'!N24='calc.nat.'!$C$4,1,0) -> 0 | ... AU26: =IF('enter-data'!AG24='calc.nat.'!$C$4,1,0) -> 0 | AW26: =IF('enter-data'!AI24='calc.nat.'!$C$4,1,0) -> 0 | AX26: =IF('enter-data'!AJ24='calc.nat.'!$C$4,1,0) -> 0 | AY26: =IF('enter-data'!AK24='calc.nat.'!$C$4,1,0) -> 0 | AZ26: =IF('enter-data'!AL24='calc.nat.'!$C$4,1,0) -> 0 | BA26: =IF('enter-data'!AM24='calc.nat.'!$C$4,1,0) -> 0 | BB26: =IF('enter-data'!AN24='calc.nat.'!$C$4,1,0) -> 0 | BC26: =IF('enter-data'!AO24='calc.nat.'!$C$4,1,0) -> 0 | BD26: =IF('enter-data'!AP24='calc.nat.'!$C$4,1,0) -> 0 | ... BW26: =IF('enter-data'!BI24='calc.nat.'!$C$4,1,0) -> 0
A27: =C27&"."&B27 -> 1981.3 | B27: =COUNTIF($C$2:C27,C27) -> 3 | C27: ='enter-data'!C25 -> 1981 | D27: =IF(AND(E27>0,Q27>0),D26+1,D26) -> 0 | F27: =IF(E27>0,VLOOKUP($E27,Parameter!$F:$J,3,FALSE)," ") | G27: =IF(E27>0,VLOOKUP($E27,Parameter!$F:$J,4,FALSE)," ") | H27: =I27+J27 -> 0 | I27: =U27+X27+AA27+AD27+AG27+AJ27+AM27+AP27+AS27 -> 0 | J27: =AW27+AZ27+BC27+BF27+BI27+BL27+BO27+BR27+BU27 -> 0 | K27: =L27+M27 -> 0 | L27: =V27+Y27+AB27+AE27+AH27+AK27+AN27+AQ27+AT27 -> 0 | M27: =AX27+BA27+BD27+BG27+BJ27+BM27+BP27+BS27+BV27 -> 0 | N27: =O27+P27 -> 0 | O27: =W27+Z27+AC27+AF27+AI27+AL27+AO27+AR27+AU27 -> 0 | P27: =AY27+BB27+BE27+BH27+BK27+BN27+BQ27+BT27+BW27 -> 0 | Q27: =H27+K27+N27 -> 0 | R27: =I27+L27+O27 -> 0 | S27: =J27+M27+P27 -> 0 | U27: =IF('enter-data'!G25='calc.nat.'!$C$4,1,0) -> 0 | V27: =IF('enter-data'!H25='calc.nat.'!$C$4,1,0) -> 0 | W27: =IF('enter-data'!I25='calc.nat.'!$C$4,1,0) -> 0 | X27: =IF('enter-data'!J25='calc.nat.'!$C$4,1,0) -> 0 | Y27: =IF('enter-data'!K25='calc.nat.'!$C$4,1,0) -> 0 | Z27: =IF('enter-data'!L25='calc.nat.'!$C$4,1,0) -> 0 | AA27: =IF('enter-data'!M25='calc.nat.'!$C$4,1,0) -> 0 | AB27: =IF('enter-data'!N25='calc.nat.'!$C$4,1,0) -> 0 | ... AU27: =IF('enter-data'!AG25='calc.nat.'!$C$4,1,0) -> 0 | AW27: =IF('enter-data'!AI25='calc.nat.'!$C$4,1,0) -> 0 | AX27: =IF('enter-data'!AJ25='calc.nat.'!$C$4,1,0) -> 0 | AY27: =IF('enter-data'!AK25='calc.nat.'!$C$4,1,0) -> 0 | AZ27: =IF('enter-data'!AL25='calc.nat.'!$C$4,1,0) -> 0 | BA27: =IF('enter-data'!AM25='calc.nat.'!$C$4,1,0) -> 0 | BB27: =IF('enter-data'!AN25='calc.nat.'!$C$4,1,0) -> 0 | BC27: =IF('enter-data'!AO25='calc.nat.'!$C$4,1,0) -> 0 | BD27: =IF('enter-data'!AP25='calc.nat.'!$C$4,1,0) -> 0 | ... BW27: =IF('enter-data'!BI25='calc.nat.'!$C$4,1,0) -> 0
A28: =C28&"."&B28 -> 1981.4 | B28: =COUNTIF($C$2:C28,C28) -> 4 | C28: ='enter-data'!C26 -> 1981 | D28: =IF(AND(E28>0,Q28>0),D27+1,D27) -> 0 | F28: =IF(E28>0,VLOOKUP($E28,Parameter!$F:$J,3,FALSE)," ") | G28: =IF(E28>0,VLOOKUP($E28,Parameter!$F:$J,4,FALSE)," ") | H28: =I28+J28 -> 0 | I28: =U28+X28+AA28+AD28+AG28+AJ28+AM28+AP28+AS28 -> 0 | J28: =AW28+AZ28+BC28+BF28+BI28+BL28+BO28+BR28+BU28 -> 0 | K28: =L28+M28 -> 0 | L28: =V28+Y28+AB28+AE28+AH28+AK28+AN28+AQ28+AT28 -> 0 | M28: =AX28+BA28+BD28+BG28+BJ28+BM28+BP28+BS28+BV28 -> 0 | N28: =O28+P28 -> 0 | O28: =W28+Z28+AC28+AF28+AI28+AL28+AO28+AR28+AU28 -> 0 | P28: =AY28+BB28+BE28+BH28+BK28+BN28+BQ28+BT28+BW28 -> 0 | Q28: =H28+K28+N28 -> 0 | R28: =I28+L28+O28 -> 0 | S28: =J28+M28+P28 -> 0 | U28: =IF('enter-data'!G26='calc.nat.'!$C$4,1,0) -> 0 | V28: =IF('enter-data'!H26='calc.nat.'!$C$4,1,0) -> 0 | W28: =IF('enter-data'!I26='calc.nat.'!$C$4,1,0) -> 0 | X28: =IF('enter-data'!J26='calc.nat.'!$C$4,1,0) -> 0 | Y28: =IF('enter-data'!K26='calc.nat.'!$C$4,1,0) -> 0 | Z28: =IF('enter-data'!L26='calc.nat.'!$C$4,1,0) -> 0 | AA28: =IF('enter-data'!M26='calc.nat.'!$C$4,1,0) -> 0 | AB28: =IF('enter-data'!N26='calc.nat.'!$C$4,1,0) -> 0 | ... AU28: =IF('enter-data'!AG26='calc.nat.'!$C$4,1,0) -> 0 | AW28: =IF('enter-data'!AI26='calc.nat.'!$C$4,1,0) -> 0 | AX28: =IF('enter-data'!AJ26='calc.nat.'!$C$4,1,0) -> 0 | AY28: =IF('enter-data'!AK26='calc.nat.'!$C$4,1,0) -> 0 | AZ28: =IF('enter-data'!AL26='calc.nat.'!$C$4,1,0) -> 0 | BA28: =IF('enter-data'!AM26='calc.nat.'!$C$4,1,0) -> 0 | BB28: =IF('enter-data'!AN26='calc.nat.'!$C$4,1,0) -> 0 | BC28: =IF('enter-data'!AO26='calc.nat.'!$C$4,1,0) -> 0 | BD28: =IF('enter-data'!AP26='calc.nat.'!$C$4,1,0) -> 0 | ... BW28: =IF('enter-data'!BI26='calc.nat.'!$C$4,1,0) -> 0
A29: =C29&"."&B29 -> 1981.5 | B29: =COUNTIF($C$2:C29,C29) -> 5 | C29: ='enter-data'!C27 -> 1981 | D29: =IF(AND(E29>0,Q29>0),D28+1,D28) -> 0 | F29: =IF(E29>0,VLOOKUP($E29,Parameter!$F:$J,3,FALSE)," ") | G29: =IF(E29>0,VLOOKUP($E29,Parameter!$F:$J,4,FALSE)," ") | H29: =I29+J29 -> 0 | I29: =U29+X29+AA29+AD29+AG29+AJ29+AM29+AP29+AS29 -> 0 | J29: =AW29+AZ29+BC29+BF29+BI29+BL29+BO29+BR29+BU29 -> 0 | K29: =L29+M29 -> 0 | L29: =V29+Y29+AB29+AE29+AH29+AK29+AN29+AQ29+AT29 -> 0 | M29: =AX29+BA29+BD29+BG29+BJ29+BM29+BP29+BS29+BV29 -> 0 | N29: =O29+P29 -> 0 | O29: =W29+Z29+AC29+AF29+AI29+AL29+AO29+AR29+AU29 -> 0 | P29: =AY29+BB29+BE29+BH29+BK29+BN29+BQ29+BT29+BW29 -> 0 | Q29: =H29+K29+N29 -> 0 | R29: =I29+L29+O29 -> 0 | S29: =J29+M29+P29 -> 0 | U29: =IF('enter-data'!G27='calc.nat.'!$C$4,1,0) -> 0 | V29: =IF('enter-data'!H27='calc.nat.'!$C$4,1,0) -> 0 | W29: =IF('enter-data'!I27='calc.nat.'!$C$4,1,0) -> 0 | X29: =IF('enter-data'!J27='calc.nat.'!$C$4,1,0) -> 0 | Y29: =IF('enter-data'!K27='calc.nat.'!$C$4,1,0) -> 0 | Z29: =IF('enter-data'!L27='calc.nat.'!$C$4,1,0) -> 0 | AA29: =IF('enter-data'!M27='calc.nat.'!$C$4,1,0) -> 0 | AB29: =IF('enter-data'!N27='calc.nat.'!$C$4,1,0) -> 0 | ... AU29: =IF('enter-data'!AG27='calc.nat.'!$C$4,1,0) -> 0 | AW29: =IF('enter-data'!AI27='calc.nat.'!$C$4,1,0) -> 0 | AX29: =IF('enter-data'!AJ27='calc.nat.'!$C$4,1,0) -> 0 | AY29: =IF('enter-data'!AK27='calc.nat.'!$C$4,1,0) -> 0 | AZ29: =IF('enter-data'!AL27='calc.nat.'!$C$4,1,0) -> 0 | BA29: =IF('enter-data'!AM27='calc.nat.'!$C$4,1,0) -> 0 | BB29: =IF('enter-data'!AN27='calc.nat.'!$C$4,1,0) -> 0 | BC29: =IF('enter-data'!AO27='calc.nat.'!$C$4,1,0) -> 0 | BD29: =IF('enter-data'!AP27='calc.nat.'!$C$4,1,0) -> 0 | ... BW29: =IF('enter-data'!BI27='calc.nat.'!$C$4,1,0) -> 0
D30: =IF(AND(E30>0,Q30>0),D29+1,D29) -> 0 | E30: 1981 | F30: =IF(E30>0,VLOOKUP($E30,Parameter!$F:$J,3,FALSE)," ") -> UAE | G30: =IF(E30>0,VLOOKUP($E30,Parameter!$F:$J,4,FALSE)," ") -> United Arab Emirates | H30: =SUM(H25:H29) -> 0 | I30: =SUM(I25:I29) -> 0 | J30: =SUM(J25:J29) -> 0 | K30: =SUM(K25:K29) -> 0 | L30: =SUM(L25:L29) -> 0 | M30: =SUM(M25:M29) -> 0 | N30: =SUM(N25:N29) -> 0 | O30: =SUM(O25:O29) -> 0 | ... S30: =SUM(S25:S29) -> 0
A31: =C31&"."&B31 -> 1982.1 | B31: =COUNTIF($C$2:C31,C31) -> 1 | C31: ='enter-data'!C28 -> 1982 | D31: =IF(AND(E31>0,Q31>0),D30+1,D30) -> 0 | E31: 1982 | F31: =IF(E31>0,VLOOKUP($E31,Parameter!$F:$J,3,FALSE)," ") -> FRA | G31: =IF(E31>0,VLOOKUP($E31,Parameter!$F:$J,4,FALSE)," ") -> France | H31: =I31+J31 -> 0 | I31: =U31+X31+AA31+AD31+AG31+AJ31+AM31+AP31+AS31 -> 0 | J31: =AW31+AZ31+BC31+BF31+BI31+BL31+BO31+BR31+BU31 -> 0 | K31: =L31+M31 -> 0 | L31: =V31+Y31+AB31+AE31+AH31+AK31+AN31+AQ31+AT31 -> 0 | M31: =AX31+BA31+BD31+BG31+BJ31+BM31+BP31+BS31+BV31 -> 0 | N31: =O31+P31 -> 0 | O31: =W31+Z31+AC31+AF31+AI31+AL31+AO31+AR31+AU31 -> 0 | P31: =AY31+BB31+BE31+BH31+BK31+BN31+BQ31+BT31+BW31 -> 0 | Q31: =H31+K31+N31 -> 0 | R31: =I31+L31+O31 -> 0 | S31: =J31+M31+P31 -> 0 | U31: =IF('enter-data'!G28='calc.nat.'!$C$4,1,0) -> 0 | V31: =IF('enter-data'!H28='calc.nat.'!$C$4,1,0) -> 0 | W31: =IF('enter-data'!I28='calc.nat.'!$C$4,1,0) -> 0 | X31: =IF('enter-data'!J28='calc.nat.'!$C$4,1,0) -> 0 | Y31: =IF('enter-data'!K28='calc.nat.'!$C$4,1,0) -> 0 | Z31: =IF('enter-data'!L28='calc.nat.'!$C$4,1,0) -> 0 | AA31: =IF('enter-data'!M28='calc.nat.'!$C$4,1,0) -> 0 | AB31: =IF('enter-data'!N28='calc.nat.'!$C$4,1,0) -> 0 | ... AU31: =IF('enter-data'!AG28='calc.nat.'!$C$4,1,0) -> 0 | AW31: =IF('enter-data'!AI28='calc.nat.'!$C$4,1,0) -> 0 | AX31: =IF('enter-data'!AJ28='calc.nat.'!$C$4,1,0) -> 0 | AY31: =IF('enter-data'!AK28='calc.nat.'!$C$4,1,0) -> 0 | AZ31: =IF('enter-data'!AL28='calc.nat.'!$C$4,1,0) -> 0 | BA31: =IF('enter-data'!AM28='calc.nat.'!$C$4,1,0) -> 0 | BB31: =IF('enter-data'!AN28='calc.nat.'!$C$4,1,0) -> 0 | BC31: =IF('enter-data'!AO28='calc.nat.'!$C$4,1,0) -> 0 | BD31: =IF('enter-data'!AP28='calc.nat.'!$C$4,1,0) -> 0 | ... BW31: =IF('enter-data'!BI28='calc.nat.'!$C$4,1,0) -> 0
A32: =C32&"."&B32 -> 1983.1 | B32: =COUNTIF($C$2:C32,C32) -> 1 | C32: ='enter-data'!C29 -> 1983 | D32: =IF(AND(E32>0,Q32>0),D31+1,D31) -> 0 | E32: 1983 | F32: =IF(E32>0,VLOOKUP($E32,Parameter!$F:$J,3,FALSE)," ") -> SUI | G32: =IF(E32>0,VLOOKUP($E32,Parameter!$F:$J,4,FALSE)," ") -> Switzerland | H32: =I32+J32 -> 0 | I32: =U32+X32+AA32+AD32+AG32+AJ32+AM32+AP32+AS32 -> 0 | J32: =AW32+AZ32+BC32+BF32+BI32+BL32+BO32+BR32+BU32 -> 0 | K32: =L32+M32 -> 0 | L32: =V32+Y32+AB32+AE32+AH32+AK32+AN32+AQ32+AT32 -> 0 | M32: =AX32+BA32+BD32+BG32+BJ32+BM32+BP32+BS32+BV32 -> 0 | N32: =O32+P32 -> 0 | O32: =W32+Z32+AC32+AF32+AI32+AL32+AO32+AR32+AU32 -> 0 | P32: =AY32+BB32+BE32+BH32+BK32+BN32+BQ32+BT32+BW32 -> 0 | Q32: =H32+K32+N32 -> 0 | R32: =I32+L32+O32 -> 0 | S32: =J32+M32+P32 -> 0 | U32: =IF('enter-data'!G29='calc.nat.'!$C$4,1,0) -> 0 | V32: =IF('enter-data'!H29='calc.nat.'!$C$4,1,0) -> 0 | W32: =IF('enter-data'!I29='calc.nat.'!$C$4,1,0) -> 0 | X32: =IF('enter-data'!J29='calc.nat.'!$C$4,1,0) -> 0 | Y32: =IF('enter-data'!K29='calc.nat.'!$C$4,1,0) -> 0 | Z32: =IF('enter-data'!L29='calc.nat.'!$C$4,1,0) -> 0 | AA32: =IF('enter-data'!M29='calc.nat.'!$C$4,1,0) -> 0 | AB32: =IF('enter-data'!N29='calc.nat.'!$C$4,1,0) -> 0 | ... AU32: =IF('enter-data'!AG29='calc.nat.'!$C$4,1,0) -> 0 | AW32: =IF('enter-data'!AI29='calc.nat.'!$C$4,1,0) -> 0 | AX32: =IF('enter-data'!AJ29='calc.nat.'!$C$4,1,0) -> 0 | AY32: =IF('enter-data'!AK29='calc.nat.'!$C$4,1,0) -> 0 | AZ32: =IF('enter-data'!AL29='calc.nat.'!$C$4,1,0) -> 0 | BA32: =IF('enter-data'!AM29='calc.nat.'!$C$4,1,0) -> 0 | BB32: =IF('enter-data'!AN29='calc.nat.'!$C$4,1,0) -> 0 | BC32: =IF('enter-data'!AO29='calc.nat.'!$C$4,1,0) -> 0 | BD32: =IF('enter-data'!AP29='calc.nat.'!$C$4,1,0) -> 0 | ... BW32: =IF('enter-data'!BI29='calc.nat.'!$C$4,1,0) -> 0
A33: =C33&"."&B33 -> 1984.1 | B33: =COUNTIF($C$2:C33,C33) -> 1 | C33: ='enter-data'!C30 -> 1984 | D33: =IF(AND(E33>0,Q33>0),D32+1,D32) -> 0 | E33: 1984 | F33: =IF(E33>0,VLOOKUP($E33,Parameter!$F:$J,3,FALSE)," ") -> GER | G33: =IF(E33>0,VLOOKUP($E33,Parameter!$F:$J,4,FALSE)," ") -> Germany | H33: =I33+J33 -> 0 | I33: =U33+X33+AA33+AD33+AG33+AJ33+AM33+AP33+AS33 -> 0 | J33: =AW33+AZ33+BC33+BF33+BI33+BL33+BO33+BR33+BU33 -> 0 | K33: =L33+M33 -> 0 | L33: =V33+Y33+AB33+AE33+AH33+AK33+AN33+AQ33+AT33 -> 0 | M33: =AX33+BA33+BD33+BG33+BJ33+BM33+BP33+BS33+BV33 -> 0 | N33: =O33+P33 -> 0 | O33: =W33+Z33+AC33+AF33+AI33+AL33+AO33+AR33+AU33 -> 0 | P33: =AY33+BB33+BE33+BH33+BK33+BN33+BQ33+BT33+BW33 -> 0 | Q33: =H33+K33+N33 -> 0 | R33: =I33+L33+O33 -> 0 | S33: =J33+M33+P33 -> 0 | U33: =IF('enter-data'!G30='calc.nat.'!$C$4,1,0) -> 0 | V33: =IF('enter-data'!H30='calc.nat.'!$C$4,1,0) -> 0 | W33: =IF('enter-data'!I30='calc.nat.'!$C$4,1,0) -> 0 | X33: =IF('enter-data'!J30='calc.nat.'!$C$4,1,0) -> 0 | Y33: =IF('enter-data'!K30='calc.nat.'!$C$4,1,0) -> 0 | Z33: =IF('enter-data'!L30='calc.nat.'!$C$4,1,0) -> 0 | AA33: =IF('enter-data'!M30='calc.nat.'!$C$4,1,0) -> 0 | AB33: =IF('enter-data'!N30='calc.nat.'!$C$4,1,0) -> 0 | ... AU33: =IF('enter-data'!AG30='calc.nat.'!$C$4,1,0) -> 0 | AW33: =IF('enter-data'!AI30='calc.nat.'!$C$4,1,0) -> 0 | AX33: =IF('enter-data'!AJ30='calc.nat.'!$C$4,1,0) -> 0 | AY33: =IF('enter-data'!AK30='calc.nat.'!$C$4,1,0) -> 0 | AZ33: =IF('enter-data'!AL30='calc.nat.'!$C$4,1,0) -> 0 | BA33: =IF('enter-data'!AM30='calc.nat.'!$C$4,1,0) -> 0 | BB33: =IF('enter-data'!AN30='calc.nat.'!$C$4,1,0) -> 0 | BC33: =IF('enter-data'!AO30='calc.nat.'!$C$4,1,0) -> 0 | BD33: =IF('enter-data'!AP30='calc.nat.'!$C$4,1,0) -> 0 | ... BW33: =IF('enter-data'!BI30='calc.nat.'!$C$4,1,0) -> 0
A34: =C34&"."&B34 -> 1985.1 | B34: =COUNTIF($C$2:C34,C34) -> 1 | C34: ='enter-data'!C31 -> 1985 | D34: =IF(AND(E34>0,Q34>0),D33+1,D33) -> 0 | E34: 1985 | F34: =IF(E34>0,VLOOKUP($E34,Parameter!$F:$J,3,FALSE)," ") -> UAE | G34: =IF(E34>0,VLOOKUP($E34,Parameter!$F:$J,4,FALSE)," ") -> United Arab Emirates | H34: =I34+J34 -> 0 | I34: =U34+X34+AA34+AD34+AG34+AJ34+AM34+AP34+AS34 -> 0 | J34: =AW34+AZ34+BC34+BF34+BI34+BL34+BO34+BR34+BU34 -> 0 | K34: =L34+M34 -> 0 | L34: =V34+Y34+AB34+AE34+AH34+AK34+AN34+AQ34+AT34 -> 0 | M34: =AX34+BA34+BD34+BG34+BJ34+BM34+BP34+BS34+BV34 -> 0 | N34: =O34+P34 -> 0 | O34: =W34+Z34+AC34+AF34+AI34+AL34+AO34+AR34+AU34 -> 0 | P34: =AY34+BB34+BE34+BH34+BK34+BN34+BQ34+BT34+BW34 -> 0 | Q34: =H34+K34+N34 -> 0 | R34: =I34+L34+O34 -> 0 | S34: =J34+M34+P34 -> 0 | U34: =IF('enter-data'!G31='calc.nat.'!$C$4,1,0) -> 0 | V34: =IF('enter-data'!H31='calc.nat.'!$C$4,1,0) -> 0 | W34: =IF('enter-data'!I31='calc.nat.'!$C$4,1,0) -> 0 | X34: =IF('enter-data'!J31='calc.nat.'!$C$4,1,0) -> 0 | Y34: =IF('enter-data'!K31='calc.nat.'!$C$4,1,0) -> 0 | Z34: =IF('enter-data'!L31='calc.nat.'!$C$4,1,0) -> 0 | AA34: =IF('enter-data'!M31='calc.nat.'!$C$4,1,0) -> 0 | AB34: =IF('enter-data'!N31='calc.nat.'!$C$4,1,0) -> 0 | ... AU34: =IF('enter-data'!AG31='calc.nat.'!$C$4,1,0) -> 0 | AW34: =IF('enter-data'!AI31='calc.nat.'!$C$4,1,0) -> 0 | AX34: =IF('enter-data'!AJ31='calc.nat.'!$C$4,1,0) -> 0 | AY34: =IF('enter-data'!AK31='calc.nat.'!$C$4,1,0) -> 0 | AZ34: =IF('enter-data'!AL31='calc.nat.'!$C$4,1,0) -> 0 | BA34: =IF('enter-data'!AM31='calc.nat.'!$C$4,1,0) -> 0 | BB34: =IF('enter-data'!AN31='calc.nat.'!$C$4,1,0) -> 0 | BC34: =IF('enter-data'!AO31='calc.nat.'!$C$4,1,0) -> 0 | BD34: =IF('enter-data'!AP31='calc.nat.'!$C$4,1,0) -> 0 | ... BW34: =IF('enter-data'!BI31='calc.nat.'!$C$4,1,0) -> 0
