Workbook

Sheet Descript.
A1: BESCHREIBUNG - AKTUALISIEREN
A2: R-"SELEKTION" | B2: Letzte Jahreszahl hinzufügen
B3: Kontrolle ob neues Land dazugekommen ist
A5: R -"enter-data" | B5: Eingabe der Ergebnisse vom letzten Wettkampf
A6: ausgeblendet | B6: Achtung bei EX-Aequo Wetungen (Mehrere gleiche Jahre anlegen)
B7: Formeln Spalte A+B Kopieren
A9: R -"Parameter" | B9: Keine Aktion erforderlich
A10: ausgeblendet
A12: R-"calc.rank" | B12: Daten neu sortieren A-P Reihenfolge:
A13: ausgeblendet | B13: Reihenfolge: E-H-K nach größe absteigend
B14: Kopieren der Daten A-C nach Reg.Blatt "R" in Spalten B-D (wegen Flaggen)
A16: R-"calc.year" | B16: Wird automatisch berechnet
A17: R-"calc.nat"
A18: R-"calc.disziplin"
A19: ausgeblendet
A21: R-"O" | B21: Kontrolle top 5 Nationen (Flaggen)
A23: R-"R" | B23: Einfügen der Daten aus R-"calc.rank" A-C nach B-D
B24: Ex-aequo Ränge manuell korrigieren.
A26: R-"Y" | B26: Wird automatisch berechnet
A27: R-"N"
A28: R-"D"

Sheet SELEKTION
C1: Selection of the different medal tables | K1: YEAR | L1: Host Nation | M1: Location | P1: All nations that have already participated in a CISM WMPC since 1964. | X1: Short code | Y1: Discipline
C2: Overview of all WMPC since 1964: | K2: 1964 | L2: FRA | M2: Pau | P2: IOC | Q2: Country | S2: IOC | T2: Country | X2: MIA | Y2: Male Individual Accuracy
C3: click here | K3: 1965 | L3: BRA | M3: Rio de Janero | P3: ALG | R3: Algeria | S3: LAT | U3: Latvia | X3: MIS | Y3: Male Individual Style
K4: 1968 | L4: ESP | M4: Reus - Tarragona | P4: ANG | R4: Angola | S4: LBA | U4: Libya | X4: MIO | Y4: Male Individual Overall
C5: Overview ranking of all nations | K5: 1970 | L5: GER | M5: Bruchsal | P5: ARG | R5: Argentina | S5: LTU | U5: Lithuania | X5: MTA | Y5: Male Team Accuracy
C6: click here | K6: 1971 | L6: POR | M6: Sintra | P6: AUS | R6: Australia | S6: MSA | U6: Malaysia | X6: MFS | Y6: Male Formation Skydive
K7: 1973 | L7: BEL | M7: Schaffen | P7: AUT | R7: Austria | S7: MLI | U7: Mali | X7: MTO | Y7: Male Team Overall
K8: 1974 | L8: USA | M8: Fort Bragg | P8: BRN | R8: Bahrain | S8: MAR | U8: Morocco | X8: MJA | Y8: Male Junior Accuracy
C9: Detail view of a year: | K9: 1975 | L9: FRA | M9: Pau | P9: BLR | R9: Belarus | S9: NED | U9: Netherlands | X9: MJS | Y9: Male Junior Style
C10: enter year in the grey field | F10: click here | K10: 1976 | L10: ESP | M10: San Javier | P10: BEL | R10: Belgium | S10: NOR | U10: Norway | X10: MJO | Y10: Male Junior Overall
E11: and | K11: 1977 | L11: AUT | M11: Wiener Neustadt | P11: BRA | R11: Brasil | S11: OMA | U11: Oman | X11: FIA | Y11: Female Individual Accuracy
C12: Host country: | D12: =IF(ISERROR(VLOOKUP(D10,Parameter!F3:I74,4,FALSE)),"no correct Year selected !",VLOOKUP(D10,Parameter!F3:I74,4,FALSE)) -> no correct Year selected ! | K12: 1979 | L12: SWE | M12: Karlsborg | P12: BUL | R12: Bulgaria | S12: PAK | U12: Pakistan | X12: FIS | Y12: Female Individual Style
K13: 1980 | L13: CHI | M13: Santiago | P13: BUR | R13: Burkina Faso | S13: PLE | U13: Palestine | X13: FIO | Y13: Female Individual Overall
K14: 1981 | L14: UAE | M14: Dubai | P14: BDI | R14: Burundi | S14: PAN | U14: Panama | X14: FTA | Y14: Female Team Accuracy
C15: Detail view of a nation | K15: 1982 | L15: FRA | M15: Pau | P15: CAN | R15: Canada | S15: PAR | U15: Paraguay | X15: FFS | Y15: Female Formation Skydive
C16: enter IOC Code in the grey field | F16: click here | K16: 1983 | L16: SUI | M16: Frauenfeld | P16: CHI | R16: Chile | S16: PER | U16: Peru | X16: FTO | Y16: Female Team Overall
E17: and | K17: 1984 | L17: GER | M17: Altenstadt | P17: CHN | R17: China | S17: PHI | U17: Philippines | X17: FJA | Y17: Female Junior Accuracy
C18: Nation: | D18: =IF(ISERROR(VLOOKUP(D16,Parameter!O3:P89,2,FALSE)),"no correct Nation selected !",VLOOKUP(D16,Parameter!O3:P89,2,FALSE)) -> no correct Nation selected ! | K18: 1985 | L18: UAE | M18: Abu Dhabi | P18: COL | R18: Colombia | S18: POL | U18: Poland | X18: FJS | Y18: Female Junior Style
K19: 1986 | L19: MAR | M19: Rabat | P19: COD | R19: Congo D.R. | S19: POR | U19: Portugal | X19: FJO | Y19: Female Junior Overall
K20: 1988 | L20: BRA | M20: Campinas | P20: CRO | R20: Croatia | S20: QAT | U20: Qatar
C21: Detail view of a discipline | K21: 1990 | L21: GER | M21: Altenstadt | P21: CYP | R21: Cyprus | S21: ROU | U21: Romania
C22: enter Discipline short code in the grey field | E22: and | F22: click here | K22: 1991 | L22: ITA | M22: Pisa | P22: CZE | R22: Czech Rep | S22: RUS | U22: Russia
K23: 1992 | L23: ESP | M23: Granada | P23: PRK | R23: D.P.R. of Korea | S23: KSA | U23: Saudi Arabia
C24: Disziplin: | D24: =IF(ISERROR(VLOOKUP(D22,Parameter!L3:M21,2,FALSE)),"no correct Disziplin selected !",VLOOKUP(D22,Parameter!L3:M21,2,FALSE)) -> no correct Disziplin selected ! | K24: 1993 | L24: TUR | M24: Kayseri | P24: DEN | R24: Denmark | S24: SEN | U24: Senegal
K25: 1994 | L25: AUT | M25: Perg | P25: ECU | R25: Ecuador | S25: SRB | U25: Serbia
K26: 1995 | L26: ITA | M26: Rom | P26: EGY | R26: Egypt | S26: SVK | U26: Slovakia
K27: 1996 | L27: SLO | M27: Cerklje | P27: EST | R27: Estonia | S27: SLO | U27: Slovenia
K28: 1999 | L28: CRO | M28: Zagreb | P28: FIN | R28: Finnland | S28: RSA | U28: South Africa
K29: 2000 | L29: SVK | M29: Lucenec | P29: FRA | R29: France | S29: ESP | U29: Spain
K30: 2001 | L30: UAE | M30: Abu Dhabi | P30: GAB | R30: Gabon | S30: SRI | U30: Sri Lanka
K31: 2002 | L31: ALG | M31: Tafraoui / Oran | P31: GER | R31: Germany | S31: SWE | U31: Sweden
K32: 2004 | L32: AUT | M32: Krems | P32: GBR | R32: Great Britain | S32: SUI | U32: Switzerland
K33: 2006 | L33: RUS | M33: Ryazan | P33: GRE | R33: Greece | S33: SYR | U33: Syria
K34: 2007 | L34: IND | M34: Hyderabad | P34: HUN | R34: Hungary | S34: THA | U34: Thailand
K35: 2009 | L35: SVK | M35: Lucenec | P35: IND | R35: India | S35: TOG | U35: Togo
K36: 2010 | L36: SUI | M36: Bouchs | P36: INA | R36: Indonesia | S36: TUN | U36: Tunisia
... K46: 2022 | L46: AUT | M46: Güssing | P46: KUW | R46: Kuwait | S46: ZIM | U46: Zimbabwe

Sheet enter-data
G1: MIAG | H1: MIAS | I1: MIAB | J1: MISG | K1: MISS | L1: MISB | M1: MIOG | N1: MIOS | O1: MIOB | P1: MTAG | Q1: MTAS | R1: MTAB | S1: MFSG | T1: MFSS | U1: MFSB | V1: MTOG | W1: MTOS | X1: MTOB | Y1: MJAG | Z1: MJAS | AA1: MJAB | AB1: MJSG | AC1: MJSS | AD1: MJSB | AE1: MJOG | AF1: MJOS | AG1: MJOB | AI1: FIAG | AJ1: FIAS | AK1: FIAB | AL1: FISG | AM1: FISS | AN1: FISB | AO1: FIOG | AP1: FIOS | AQ1: FIOB | AR1: FTAG | AS1: FTAS | AT1: FTAB | AU1: FFSG | AV1: FFSS | AW1: FFSB | AX1: FTOG | AY1: FTOS | AZ1: FTOB | BA1: FJAG | BB1: FJAS | BC1: FJAB | BD1: FJSG | BE1: FJSS | BF1: FJSB | BG1: FJOG | BH1: FJOS | BI1: FJOB | BK1: MG | BL1: MS | BM1: MB | BN1: MT | BP1: FG | BQ1: FS | BR1: FB | BS1: FT | BU1: TG | BV1: TS | BW1: TB | BX1: TT
C2: TOTAL | F2: =SUM(G2:BI2) -> 1442 | G2: =COUNTIF(G$8:G$94,"> ") -> 56 | H2: =COUNTIF(H$8:H$94,"> ") -> 41 | I2: =COUNTIF(I$8:I$94,"> ") -> 51 | J2: =COUNTIF(J$8:J$94,"> ") -> 43 | K2: =COUNTIF(K$8:K$94,"> ") -> 43 | L2: =COUNTIF(L$8:L$94,"> ") -> 43 | M2: =COUNTIF(M$8:M$94,"> ") -> 43 | N2: =COUNTIF(N$8:N$94,"> ") -> 43 | ... AG2: =COUNTIF(AG$8:AG$94,"> ") -> 8 | AI2: =COUNTIF(AI$8:AI$94,"> ") -> 31 | AJ2: =COUNTIF(AJ$8:AJ$94,"> ") -> 31 | AK2: =COUNTIF(AK$8:AK$94,"> ") -> 31 | AL2: =COUNTIF(AL$8:AL$94,"> ") -> 29 | AM2: =COUNTIF(AM$8:AM$94,"> ") -> 29 | AN2: =COUNTIF(AN$8:AN$94,"> ") -> 29 | AO2: =COUNTIF(AO$8:AO$94,"> ") -> 29 | AP2: =COUNTIF(AP$8:AP$94,"> ") -> 29 | ... BI2: =COUNTIF(BI$8:BI$94,"> ") -> 7 | BK2: =G2+J2+M2+P2+S2+V2+Y2+AB2+AE2 -> 292 | BL2: =H2+K2+N2+Q2+T2+W2+Z2+AC2+AF2 -> 276 | BM2: =I2+L2+O2+R2+U2+X2+AA2+AD2+AG2 -> 286 | BN2: =SUM(BK2:BM2) -> 854 | BP2: =AI2+AL2+AO2+AR2+AU2+AX2+BA2+BD2+BG2 -> 196 | BQ2: =AJ2+AM2+AP2+AS2+AV2+AY2+BB2+BE2+BH2 -> 197 | BR2: =AK2+AN2+AQ2+AT2+AW2+AZ2+BC2+BF2+BI2 -> 195 | BS2: =SUM(BP2:BR2) -> 588 | BU2: =BK2+BP2 -> 488 | BV2: =BL2+BQ2 -> 473 | BW2: =BM2+BR2 -> 481 | BX2: =BN2+BS2 -> 1442
G3: MALE | AI3: FEMALE
G4: Individual Accuracy | J4: Individual Style | M4: Individual Overall | P4: Team Accuracy | S4: Formation Skydive | V4: Team Nation Overall | Y4: Junior Accuracy | AB4: Junior Style | AE4: Junior Overall | AI4: Individual Accuracy | AL4: Individual Style | AO4: Individual Overall | AR4: Team Accuracy | AU4: Formation Skydive | AX4: Team Nation Overall | BA4: Junior Accuracy | BD4: Junior Style | BG4: Junior Overall
G5: MIA | J5: MIS | M5: MIO | P5: MTA | S5: MFS | V5: MTO | Y5: MJA | AB5: MJS | AE5: MJO | AI5: FIA | AL5: FIS | AO5: FIO | AR5: FTA | AU5: FFS | AX5: FTO | BA5: FJA | BD5: FJS | BG5: FJO
G6: G | H6: S | I6: B | J6: G | K6: S | L6: B | M6: G | N6: S | O6: B | P6: G | Q6: S | R6: B | S6: G | T6: S | U6: B | V6: G | W6: S | X6: B | Y6: G | Z6: S | AA6: B | AB6: G | AC6: S | AD6: B | AE6: G | AF6: S | AG6: B | AI6: G | AJ6: S | AK6: B | AL6: G | AM6: S | AN6: B | AO6: G | AP6: S | AQ6: B | AR6: G | AS6: S | AT6: B | AU6: G | AV6: S | AW6: B | AX6: G | AY6: S | AZ6: B | BA6: G | BB6: S | BC6: B | BD6: G | BE6: S | BF6: B | BG6: G | BH6: S | BI6: B
G7: MIAG | H7: MIAS | I7: MIAB | J7: MISG | K7: MISS | L7: MISB | M7: MIOG | N7: MIOS | O7: MIOB | P7: MTAG | Q7: MTAS | R7: MTAB | S7: MFSG | T7: MFSS | U7: MFSB | V7: MTOG | W7: MTOS | X7: MTOB | Y7: MJAG | Z7: MJAS | AA7: MJAB | AB7: MJSG | AC7: MJSS | AD7: MJSB | AE7: MJOG | AF7: MJOS | AG7: MJOB | AI7: FIAG | AJ7: FIAS | AK7: FIAB | AL7: FISG | AM7: FISS | AN7: FISB | AO7: FIOG | AP7: FIOS | AQ7: FIOB | AR7: FTAG | AS7: FTAS | AT7: FTAB | AU7: FFSG | AV7: FFSS | AW7: FFSB | AX7: FTOG | AY7: FTOS | AZ7: FTOB | BA7: FJAG | BB7: FJAS | BC7: FJAB | BD7: FJSG | BE7: FJSS | BF7: FJSB | BG7: FJOG | BH7: FJOS | BI7: FJOB
A8: =C8&"."&B8 -> 1964.1 | B8: =COUNTIF($C$2:C8,C8) -> 1 | C8: 1964 | D8: 1. | E8: FRA | F8: Pau | G8: FRA | H8: FRA | I8: FRA | J8: FRA | K8: FRA | L8: FRA | M8: FRA | N8: FRA | O8: FRA | P8: FRA | Q8: AUT | R8: ITA | V8: FRA | W8: USA | X8: AUT
A9: =C9&"."&B9 -> 1965.1 | B9: =COUNTIF($C$2:C9,C9) -> 1 | C9: 1965 | D9: 2. | E9: BRA | F9: Rio de Janero | G9: BEL | H9: ITA | I9: USA | J9: FRA | K9: FRA | L9: FRA | M9: FRA | N9: USA | O9: FRA | P9: USA | Q9: FRA | R9: BRA | V9: USA | W9: FRA | X9: BRA
A10: =C10&"."&B10 -> 1968.1 | B10: =COUNTIF($C$2:C10,C10) -> 1 | C10: 1968 | D10: 3. | E10: ESP | F10: Reus - Tarragona | G10: FRA | H10: USA | I10: FRA | J10: USA | K10: FRA | L10: USA | M10: FRA | N10: USA | O10: FRA | P10: USA | Q10: FRA | R10: AUT | V10: FRA | W10: USA | X10: AUT
A11: =C11&"."&B11 -> 1970.1 | B11: =COUNTIF($C$2:C11,C11) -> 1 | C11: 1970 | D11: 4. | E11: GER | F11: Bruchsal | G11: FRA | H11: FRA | I11: AUT | J11: USA | K11: FRA | L11: USA | M11: FRA | N11: USA | O11: FRA | P11: AUT | Q11: FRA | R11: ESP | V11: FRA | W11: AUT | X11: USA
A12: =C12&"."&B12 -> 1971.1 | B12: =COUNTIF($C$2:C12,C12) -> 1 | C12: 1971 | D12: 5. | E12: POR | F12: Sintra | G12: BRA | H12: FRA | I12: SUI | J12: FRA | K12: FRA | L12: FRA | M12: SUI | N12: GER | O12: FRA | P12: USA | Q12: AUT | R12: FRA | V12: FRA | W12: USA | X12: AUT
A13: =C13&"."&B13 -> 1973.1 | B13: =COUNTIF($C$2:C13,C13) -> 1 | C13: 1973 | D13: 6. | E13: BEL | F13: Schaffen | G13: USA | H13: ITA | I13: FRA | J13: FRA | K13: USA | L13: FRA | M13: USA | N13: FRA | O13: USA | P13: USA | Q13: BEL | R13: FRA | V13: USA | W13: FRA | X13: ITA
A14: =C14&"."&B14 -> 1974.1 | B14: =COUNTIF($C$2:C14,C14) -> 1 | C14: 1974 | D14: 7. | E14: USA | F14: Fort Bragg | G14: USA | H14: USA | I14: USA | J14: FRA | K14: FRA | L14: USA | M14: FRA | N14: FRA | O14: USA | P14: ITA | Q14: USA | R14: GER | V14: USA | W14: FRA | X14: ITA
A15: =C15&"."&B15 -> 1975.1 | B15: =COUNTIF($C$2:C15,C15) -> 1 | C15: 1975 | D15: 8. | E15: FRA | F15: Pau | G15: FRA | H15: FRA | I15: FRA | J15: FRA | K15: FRA | L15: FRA | M15: FRA | N15: FRA | O15: FRA | P15: GER | Q15: FRA | R15: ITA | V15: FRA | W15: ITA | X15: GER
A16: =C16&"."&B16 -> 1976.1 | B16: =COUNTIF($C$2:C16,C16) -> 1 | C16: 1976 | D16: 9. | E16: ESP | F16: San Javier | G16: USA | H16: AUT | I16: FRA | J16: FRA | K16: FRA | L16: USA | M16: FRA | N16: USA | O16: USA | P16: USA | Q16: FRA | R16: SUI | V16: USA | W16: FRA | X16: SUI
A17: =C17&"."&B17 -> 1976.2 | B17: =COUNTIF($C$2:C17,C17) -> 2 | C17: 1976 | G17: USA
A18: =C18&"."&B18 -> 1977.1 | B18: =COUNTIF($C$2:C18,C18) -> 1 | C18: 1977 | D18: 10. | E18: AUT | F18: Wiener Neustadt | G18: USA | H18: GER | I18: FRA | J18: FRA | K18: USA | L18: FRA | M18: USA | N18: FRA | O18: USA | P18: USA | Q18: AUT | R18: SUI | V18: USA | W18: FRA | X18: SUI
A19: =C19&"."&B19 -> 1979.1 | B19: =COUNTIF($C$2:C19,C19) -> 1 | C19: 1979 | D19: 11. | E19: SWE | F19: Karlsborg | G19: USA | H19: FRA | I19: USA | J19: FRA | K19: FRA | L19: USA | M19: FRA | N19: FRA | O19: USA | P19: USA | Q19: FRA | R19: SUI | V19: USA | W19: FRA | X19: SUI
A20: =C20&"."&B20 -> 1980.1 | B20: =COUNTIF($C$2:C20,C20) -> 1 | C20: 1980 | D20: 12. | E20: CHI | F20: Santiago | G20: USA | J20: USA | K20: USA | L20: USA | M20: USA | N20: USA | O20: USA | P20: USA | Q20: ESP | R20: MAR | S20: USA | T20: UAE | U20: ESP | V20: USA | W20: ESP | X20: BRA
A21: =C21&"."&B21 -> 1980.2 | B21: =COUNTIF($C$2:C21,C21) -> 2 | C21: 1980 | G21: USA
A22: =C22&"."&B22 -> 1980.3 | B22: =COUNTIF($C$2:C22,C22) -> 3 | C22: 1980 | G22: ESP
A23: =C23&"."&B23 -> 1981.1 | B23: =COUNTIF($C$2:C23,C23) -> 1 | C23: 1981 | D23: 13. | E23: UAE | F23: Dubai | G23: GER | H23: FRA | I23: SUI | J23: FRA | K23: USA | L23: FRA | M23: FRA | N23: FRA | O23: GER | P23: SUI | Q23: GER | R23: FRA | S23: FRA | T23: USA | U23: GER | V23: FRA | W23: USA | X23: GER
A24: =C24&"."&B24 -> 1981.2 | B24: =COUNTIF($C$2:C24,C24) -> 2 | C24: 1981 | G24: BEL
A25: =C25&"."&B25 -> 1981.3 | B25: =COUNTIF($C$2:C25,C25) -> 3 | C25: 1981 | G25: USA
A26: =C26&"."&B26 -> 1981.4 | B26: =COUNTIF($C$2:C26,C26) -> 4 | C26: 1981 | G26: AUT
A27: =C27&"."&B27 -> 1981.5 | B27: =COUNTIF($C$2:C27,C27) -> 5 | C27: 1981 | G27: USA
A28: =C28&"."&B28 -> 1982.1 | B28: =COUNTIF($C$2:C28,C28) -> 1 | C28: 1982 | D28: 14. | E28: FRA | F28: Pau | G28: FRA | H28: BEL | I28: USA | J28: FRA | K28: FRA | L28: USA | M28: FRA | N28: FRA | O28: USA | P28: GER | Q28: USA | R28: BEL | S28: FRA | T28: USA | U28: GER | V28: USA | W28: FRA | X28: GER
A29: =C29&"."&B29 -> 1983.1 | B29: =COUNTIF($C$2:C29,C29) -> 1 | C29: 1983 | D29: 15. | E29: SUI | F29: Frauenfeld | G29: UAE | H29: USA | I29: FRA | J29: USA | K29: USA | L29: FRA | M29: USA | N29: FRA | O29: FRA | P29: DEN | Q29: GER | R29: BEL | S29: FRA | T29: SUI | U29: UAE | V29: USA | W29: FRA | X29: GER | AI29: USA | AJ29: USA | AK29: USA | AL29: USA | AM29: USA | AN29: SUI | AO29: USA | AP29: USA | AQ29: USA
A30: =C30&"."&B30 -> 1984.1 | B30: =COUNTIF($C$2:C30,C30) -> 1 | C30: 1984 | D30: 16. | E30: GER | F30: Altenstadt | G30: AUT | H30: FRA | I30: USA | J30: FRA | K30: USA | L30: FRA | M30: FRA | N30: USA | O30: FRA | P30: FRA | Q30: AUT | R30: GER | S30: AUT | T30: FRA | U30: SUI | V30: FRA | W30: USA | X30: SUI | AI30: USA | AJ30: USA | AK30: USA | AL30: USA | AM30: USA | AN30: SUI | AO30: USA | AP30: USA | AQ30: USA
A31: =C31&"."&B31 -> 1985.1 | B31: =COUNTIF($C$2:C31,C31) -> 1 | C31: 1985 | D31: 17. | E31: UAE | F31: Abu Dhabi | G31: UAE | H31: GER | I31: AUT | J31: FRA | K31: FRA | L31: FRA | M31: FRA | N31: FRA | O31: FRA | P31: AUT | Q31: FRA | R31: GER | S31: AUT | T31: USA | U31: FRA | V31: FRA | W31: USA | X31: GER | AI31: FRA | AJ31: SUI | AK31: USA | AL31: USA | AM31: FRA | AN31: SUI | AO31: FRA | AP31: SUI | AQ31: USA | AR31: USA | AS31: FRA | AT31: SUI | AX31: USA | AY31: FRA | AZ31: SUI
A32: =C32&"."&B32 -> 1986.1 | B32: =COUNTIF($C$2:C32,C32) -> 1 | C32: 1986 | D32: 18. | E32: MAR | F32: Rabat | G32: AUT | H32: MAR | I32: ESP | J32: FRA | K32: FRA | L32: FRA | M32: FRA | N32: FRA | O32: SUI | P32: GER | Q32: SUI | R32: ESP | S32: AUT | T32: SUI | U32: MAR | V32: FRA | W32: SUI | X32: GER | AI32: FRA | AJ32: USA | AK32: USA | AL32: USA | AM32: USA | AN32: SUI | AO32: USA | AP32: USA | AQ32: SUI | AR32: USA | AS32: FRA | AT32: THA | AU32: USA | AV32: FRA | AW32: MAR | AX32: USA | AY32: FRA | AZ32: SUI
A33: =C33&"."&B33 -> 1988.1 | B33: =COUNTIF($C$2:C33,C33) -> 1 | C33: 1988 | D33: 19. | E33: BRA | F33: Campinas | G33: USA | H33: USA | I33: UAE | J33: FRA | K33: FRA | L33: FRA | M33: FRA | N33: USA | O33: FRA | P33: USA | Q33: BEL | R33: FRA | S33: FRA | T33: GER | U33: BEL | V33: FRA | W33: USA | X33: SUI | AI33: SUI | AJ33: USA | AK33: SWE | AL33: SUI | AM33: USA | AN33: FRA | AO33: SUI | AP33: USA | AQ33: FRA | AR33: SUI | AS33: FRA | AT33: USA | AU33: FRA | AV33: USA | AW33: SUI | AX33: FRA | AY33: SUI | AZ33: USA
A34: =C34&"."&B34 -> 1990.1 | B34: =COUNTIF($C$2:C34,C34) -> 1 | C34: 1990 | D34: 20. | E34: GER | F34: Altenstadt | G34: UAE | H34: GER | I34: AUT | J34: FRA | K34: FRA | L34: FRA | M34: FRA | N34: FRA | O34: FRA | P34: ITA | Q34: GER | R34: UAE | S34: BEL | T34: ESP | U34: MAR | V34: FRA | W34: GER | X34: USA | AI34: FRA | AJ34: USA | AK34: FRA | AL34: USA | AM34: FRA | AN34: SUI | AO34: FRA | AP34: USA | AQ34: SUI | AR34: FRA | AS34: USA | AT34: THA | AU34: FRA | AV34: USA | AW34: SUI | AX34: FRA | AY34: USA | AZ34: SUI
A35: =C35&"."&B35 -> 1991.1 | B35: =COUNTIF($C$2:C35,C35) -> 1 | C35: 1991 | D35: 21. | E35: ITA | F35: Pisa | G35: BEL | H35: GER | I35: THA | J35: RUS | K35: RUS | L35: FRA | M35: RUS | N35: RUS | O35: FRA | P35: FRA | Q35: ITA | R35: THA | S35: BEL | T35: ESP | U35: MAR | V35: FRA | W35: RUS | X35: USA | AI35: USA | AJ35: THA | AK35: THA | AL35: FRA | AM35: USA | AN35: FRA | AO35: USA | AP35: FRA | AQ35: FRA | AR35: THA | AS35: FRA | AT35: USA | AU35: FRA | AV35: USA
A36: =C36&"."&B36 -> 1992.1 | B36: =COUNTIF($C$2:C36,C36) -> 1 | C36: 1992 | D36: 22. | E36: ESP | F36: Granada | G36: GER | J36: FRA | K36: GER | L36: FRA | M36: GER | N36: FRA | O36: FRA | P36: BUL | Q36: GER | S36: ESP | T36: BEL | U36: MAR | V36: FRA | W36: GER | X36: CZE | AI36: FRA | AJ36: FRA | AK36: USA | AL36: FRA | AM36: SLO | AN36: USA | AO36: FRA | AP36: USA | AQ36: FRA | AR36: FRA | AS36: USA | AT36: THA | AU36: USA | AV36: FRA | AW36: MAR
A37: =C37&"."&B37 -> 1992.2 | B37: =COUNTIF($C$2:C37,C37) -> 2 | C37: 1992 | G37: GER | Q37: SLO
A38: =C38&"."&B38 -> 1992.3 | B38: =COUNTIF($C$2:C38,C38) -> 3 | C38: 1992 | G38: FRA
A39: =C39&"."&B39 -> 1993.1 | B39: =COUNTIF($C$2:C39,C39) -> 1 | C39: 1993 | D39: 23. | E39: TUR | F39: Kayseri | G39: SLO | H39: CZE | I39: FRA | J39: FRA | K39: GER | L39: FRA | M39: FRA | N39: FRA | O39: GER | P39: CZE | Q39: SLO | R39: USA | S39: MAR | T39: FRA | U39: BEL | V39: RUS | W39: CZE | X39: ITA | AI39: THA | AJ39: USA | AK39: RUS | AL39: RUS | AM39: FRA | AN39: RUS | AO39: USA | AP39: RUS | AQ39: UZB | AR39: RUS | AS39: THA | AT39: UZB | AU39: MAR | AV39: RUS | AW39: UZB | AX39: RUS | AY39: UZB | AZ39: BLR
A40: =C40&"."&B40 -> 1993.2 | B40: =COUNTIF($C$2:C40,C40) -> 2 | C40: 1993 | X40: FRA | AZ40: MAR
...

Sheet Parameter
A1: CISM COUNTRIES | F1: HOST COUNTRIES | L1: SHORTCUTS DISCIPLIN | O1: PARTICIPATED COUNTRIES SINCE 1964
A2: NR | B2: IOC | C2: English | D2: IOC | F2: Year | G2: Nr. | H2: IOC | I2: COUNTRY | J2: Location | L2: Short code | M2: Discipline | O2: IOC | P2: English
A3: 1 | B3: AFG | C3: Afghanistan | D3: AFG | F3: 1964 | G3: 1. | H3: FRA | I3: France | J3: Pau | L3: MIA | M3: Male Individual Accuracy | O3: ALG | P3: Algeria
A4: 2 | B4: RSA | C4: South Africa | D4: RSA | F4: 1965 | G4: 2. | H4: BRA | I4: Brazil | J4: Rio de Janero | L4: MIS | M4: Male Individual Style | O4: ANG | P4: Angola
A5: 3 | B5: ALB | C5: Albania | D5: ALB | F5: 1968 | G5: 3. | H5: ESP | I5: Spain | J5: Reus - Tarragona | L5: MIO | M5: Male Individual Overall | O5: ARG | P5: Argentina
A6: 4 | B6: ALG | C6: Algeria | D6: ALG | F6: 1970 | G6: 4. | H6: GER | I6: Germany | J6: Bruchsal | L6: MTA | M6: Male Team Accuracy | O6: AUS | P6: Australia
A7: 5 | B7: GER | C7: Germany | D7: GER | F7: 1971 | G7: 5. | H7: POR | I7: Portugal | J7: Sintra | L7: MFS | M7: Male Formation Skydive | O7: AUT | P7: Austria
A8: 6 | B8: ANG | C8: Angola | D8: ANG | F8: 1973 | G8: 6. | H8: BEL | I8: Belgium | J8: Schaffen | L8: MTO | M8: Male Team Overall | O8: BRN | P8: Bahrain
A9: 7 | B9: KSA | C9: Saudi Arabia | D9: KSA | F9: 1974 | G9: 7. | H9: USA | I9: United States of America | J9: Fort Bragg | L9: MJA | M9: Male Junior Accuracy | O9: BLR | P9: Belarus
A10: 8 | B10: ARG | C10: Argentina | D10: ARG | F10: 1975 | G10: 8. | H10: FRA | I10: France | J10: Pau | L10: MJS | M10: Male Junior Style | O10: BEL | P10: Belgium
A11: 9 | B11: ARM | C11: Armenia | D11: ARM | F11: 1976 | G11: 9. | H11: ESP | I11: Spain | J11: San Javier | L11: MJO | M11: Male Junior Overall | O11: BRA | P11: Brasil
A12: 10 | B12: AUT | C12: Austria | D12: AUT | F12: 1977 | G12: 10. | H12: AUT | I12: Austria | J12: Wiener Neustadt | L12: FIA | M12: Female Individual Accuracy | O12: BUL | P12: Bulgaria
A13: 11 | B13: AZE | C13: Azerbaijan | D13: AZE | F13: 1979 | G13: 11. | H13: SWE | I13: Sweden | J13: Karlsborg | L13: FIS | M13: Female Individual Style | O13: BUR | P13: Burkina Faso
A14: 12 | B14: BRN | C14: Bahrain | D14: BRN | F14: 1980 | G14: 12. | H14: CHI | I14: Chile | J14: Santiago | L14: FIO | M14: Female Individual Overall | O14: BDI | P14: Burundi
... A20: 18 | B20: BOL | C20: Bolivia | D20: BOL | F20: 1986 | G20: 18. | H20: MAR | I20: Morocco | J20: Rabat | L20: FJO | M20: Female Junior Overall | O20: CRO | P20: Croatia
A21: 19 | B21: BIH | C21: Bosnia and Herzegovina | D21: BIH | F21: 1988 | G21: 19. | H21: BRA | I21: Brazil | J21: Campinas | O21: CYP | P21: Cyprus
A22: 20 | B22: BOT | C22: Botswana | D22: BOT | F22: 1990 | G22: 20. | H22: GER | I22: Germany | J22: Altenstadt | L22: MIAG | M22: Male Individual Accuracy Gold | O22: CZE | P22: Czech Rep
A23: 21 | B23: BRA | C23: Brazil | D23: BRA | F23: 1991 | G23: 21. | H23: ITA | I23: Italy | J23: Pisa | L23: MIAS | M23: Male Individual Accuracy Silver | O23: PRK | P23: D.P.R. of Korea
A24: 22 | B24: BUL | C24: Bulgaria | D24: BUL | F24: 1992 | G24: 22. | H24: ESP | I24: Spain | J24: Granada | L24: MIAB | M24: Male Individual Accuracy Bronze | O24: DEN | P24: Denmark
A25: 23 | B25: BUR | C25: Burkina Faso | D25: BUR | F25: 1993 | G25: 23. | H25: TUR | I25: Turkey | J25: Kayseri | L25: MISG | M25: Male Individual Style Gold | O25: ECU | P25: Ecuador
A26: 24 | B26: BDI | C26: Burundi | D26: BDI | F26: 1994 | G26: 24. | H26: AUT | I26: Austria | J26: Perg | L26: MISS | M26: Male Individual Style Silver | O26: EGY | P26: Egypt
A27: 25 | B27: CMR | C27: Cameroon | D27: CMR | F27: 1995 | G27: 25. | H27: ITA | I27: Italy | J27: Rom | L27: MISB | M27: Male Individual Style Bronze | O27: EST | P27: Estonia
A28: 26 | B28: CAN | C28: Canada | D28: CAN | F28: 1996 | G28: 26. | H28: SLO | I28: Slovenia | J28: Cerklje | L28: MIOG | M28: Male Individual Overall Gold | O28: FIN | P28: Finnland
A29: 27 | B29: CPV | C29: Cape Verde | D29: CPV | F29: 1999 | G29: 27. | H29: CRO | I29: Croatia | J29: Zagreb | L29: MIOS | M29: Male Individual Overall Silver | O29: FRA | P29: France
A30: 28 | B30: CAF | C30: Central African Republic | D30: CAF | F30: 2000 | G30: 28. | H30: SVK | I30: Slovakia | J30: Lucenec | L30: MIOB | M30: Male Individual Overall Bronze | O30: GAB | P30: Gabon
A31: 29 | B31: CHI | C31: Chile | D31: CHI | F31: 2001 | G31: 29. | H31: UAE | I31: United Arab Emirates | J31: Abu Dhabi | L31: MTAG | M31: Male Team Accuracy Gold | O31: GER | P31: Germany
A32: 30 | B32: CHN | C32: China | D32: CHN | F32: 2002 | G32: 30. | H32: ALG | I32: Algeria | J32: Tafraoui / Oran | L32: MTAS | M32: Male Team Accuracy Silver | O32: GBR | P32: Great Britain
A33: 31 | B33: CYP | C33: Cyprus | D33: CYP | F33: 2004 | G33: 31. | H33: AUT | I33: Austria | J33: Krems | L33: MTAB | M33: Male Team Accuracy Bronze | O33: GRE | P33: Greece
... A46: 44 | B46: ECU | C46: Ecuador | D46: ECU | F46: 2021 | G46: 44. | H46: QAT | I46: Qatar | J46: Doha | L46: MJOG | M46: Male Junior Overall Gold | O46: KUW | P46: Kuwait
A47: 45 | B47: ERI | C47: Eritrea | D47: ERI | F47: 2022 | G47: ='enter-data'!D71 -> 45. | H47: ='enter-data'!E71 -> AUT | I47: Austria | J47: ='enter-data'!F71 -> Güssing | L47: MJOS | M47: Male Junior Overall Silver | O47: LAT | P47: Latvia
A48: 46 | B48: ESP | C48: Spain | D48: ESP | F48: =IF(G48<>" "," ",'enter-data'!C72) | G48: ='enter-data'!D72 -> 0 | H48: ='enter-data'!E72 -> 0 | I48: =IF(ISERROR(VLOOKUP(H48,B48:C187,2,FALSE)),"",ISERROR(VLOOKUP(H48,B48:C187,2,FALSE))) | J48: ='enter-data'!F72 -> 0 | L48: MJOB | M48: Male Junior Overall Bronze | O48: LBA | P48: Libya
A49: 47 | B49: EST | C49: Estonia | D49: EST | F49: =IF(G49<>" "," ",'enter-data'!C73) | G49: ='enter-data'!D73 -> 0 | H49: ='enter-data'!E73 -> 0 | I49: =IF(ISERROR(VLOOKUP(H49,B49:C188,2,FALSE)),"",ISERROR(VLOOKUP(H49,B49:C188,2,FALSE))) | J49: ='enter-data'!F73 -> 0 | L49: 0 | M49: 0 | O49: LTU | P49: Lithuania
A50: 48 | B50: SWZ | C50: Eswatini | D50: SWZ | F50: =IF(G50<>" "," ",'enter-data'!C74) | G50: ='enter-data'!D74 -> 0 | H50: ='enter-data'!E74 -> 0 | I50: =IF(ISERROR(VLOOKUP(H50,B50:C189,2,FALSE)),"",ISERROR(VLOOKUP(H50,B50:C189,2,FALSE))) | J50: ='enter-data'!F74 -> 0 | L50: FIAG | M50: Female Individual Accuracy Gold | O50: MSA | P50: Malaysia
A51: 49 | B51: USA | C51: United States of America | D51: USA | F51: =IF(G51<>" "," ",'enter-data'!C75) | G51: ='enter-data'!D75 -> 0 | H51: ='enter-data'!E75 -> 0 | I51: =IF(ISERROR(VLOOKUP(H51,B51:C190,2,FALSE)),"",ISERROR(VLOOKUP(H51,B51:C190,2,FALSE))) | J51: ='enter-data'!F75 -> 0 | L51: FIAS | M51: Female Individual Accuracy Silver | O51: MLI | P51: Mali
A52: 50 | B52: FIN | C52: Finland | D52: FIN | F52: =IF(G52<>" "," ",'enter-data'!C76) | G52: ='enter-data'!D76 -> 0 | H52: ='enter-data'!E76 -> 0 | I52: =IF(ISERROR(VLOOKUP(H52,B52:C191,2,FALSE)),"",ISERROR(VLOOKUP(H52,B52:C191,2,FALSE))) | J52: ='enter-data'!F76 -> 0 | L52: FIAB | M52: Female Individual Accuracy Bronze | O52: MAR | P52: Morocco
A53: 51 | B53: FRA | C53: France | D53: FRA | F53: =IF(G53<>" "," ",'enter-data'!C77) | G53: ='enter-data'!D77 -> 0 | H53: ='enter-data'!E77 -> 0 | I53: =IF(ISERROR(VLOOKUP(H53,B53:C192,2,FALSE)),"",ISERROR(VLOOKUP(H53,B53:C192,2,FALSE))) | J53: ='enter-data'!F77 -> 0 | L53: FISG | M53: Female Individual Style Gold | O53: NED | P53: Netherlands
A54: 52 | B54: GAB | C54: Gabon | D54: GAB | F54: =IF(G54<>" "," ",'enter-data'!C78) | G54: ='enter-data'!D78 -> 0 | H54: ='enter-data'!E78 -> 0 | I54: =IF(ISERROR(VLOOKUP(H54,B54:C193,2,FALSE)),"",ISERROR(VLOOKUP(H54,B54:C193,2,FALSE))) | J54: ='enter-data'!F78 -> 0 | L54: FISS | M54: Female Individual Style Silver | O54: NOR | P54: Norway
A55: 53 | B55: GAM | C55: Gambia | D55: GAM | F55: =IF(G55<>" "," ",'enter-data'!C79) | G55: ='enter-data'!D79 -> 0 | H55: ='enter-data'!E79 -> 0 | I55: =IF(ISERROR(VLOOKUP(H55,B55:C194,2,FALSE)),"",ISERROR(VLOOKUP(H55,B55:C194,2,FALSE))) | J55: ='enter-data'!F79 -> 0 | L55: FISB | M55: Female Individual Style Bronze | O55: OMA | P55: Oman
A56: 54 | B56: GEO | C56: Georgia | D56: GEO | F56: =IF(G56<>" "," ",'enter-data'!C80) | G56: ='enter-data'!D80 -> 0 | H56: ='enter-data'!E80 -> 0 | I56: =IF(ISERROR(VLOOKUP(H56,B56:C195,2,FALSE)),"",ISERROR(VLOOKUP(H56,B56:C195,2,FALSE))) | J56: ='enter-data'!F80 -> 0 | L56: FIOG | M56: Female Individual Overall Gold | O56: PAK | P56: Pakistan
A57: 55 | B57: GHA | C57: Ghana | D57: GHA | F57: =IF(G57<>" "," ",'enter-data'!C81) | G57: ='enter-data'!D81 -> 0 | H57: ='enter-data'!E81 -> 0 | I57: =IF(ISERROR(VLOOKUP(H57,B57:C196,2,FALSE)),"",ISERROR(VLOOKUP(H57,B57:C196,2,FALSE))) | J57: ='enter-data'!F81 -> 0 | L57: FIOS | M57: Female Individual Overall Silver | O57: PLE | P57: Palestine
...

Sheet O
C1: C I S M M E D A L T A B L E | Q1: Back to selection
C2: PARACHUTING
C3: ALL WMPC | F3: FROM | H3: =SMALL('enter-data'!C8:C94,1) -> 1964 | J3: TO | K3: =LARGE('enter-data'!C8:C94,1) -> 2022
G7: GOLD | I7: SILVER | K7: BRONZE | M7: TOTAL
B9: ALL DISCIPLINES | G9: =SUM(G10:H18) -> 488 | I9: =SUM(I10:J18) -> 473 | K9: =SUM(K10:L18) -> 481 | M9: =SUM(M10:N18) -> 1442
A10: TOTAL | B10: INDIVIDUAL ACCURACY | G10: =G21+G32 -> 87 | I10: =I21+I32 -> 72 | K10: =K21+K32 -> 82 | M10: =SUM(G10:L10) -> 241
B11: INDIVIDUAL STYLE | G11: =G22+G33 -> 72 | I11: =I22+I33 -> 72 | K11: =K22+K33 -> 72 | M11: =SUM(G11:L11) -> 216
B12: INDIVIDUAL OVERALL | G12: =G23+G34 -> 72 | I12: =I23+I34 -> 72 | K12: =K23+K34 -> 72 | M12: =SUM(G12:L12) -> 216
B13: TEAM ACCURACY | G13: =G24+G35 -> 75 | I13: =I24+I35 -> 74 | K13: =K24+K35 -> 73 | M13: =SUM(G13:L13) -> 222
B14: FORMATION SKYDIVE | G14: =G25+G36 -> 62 | I14: =I25+I36 -> 62 | K14: =K25+K36 -> 61 | M14: =SUM(G14:L14) -> 185
B15: TEAM OVERALL | G15: =G26+G37 -> 72 | I15: =I26+I37 -> 72 | K15: =K26+K37 -> 74 | M15: =SUM(G15:L15) -> 218
B16: JUNIOR ACCURACY | G16: =G27+G38 -> 18 | I16: =I27+I38 -> 18 | K16: =K27+K38 -> 18 | M16: =SUM(G16:L16) -> 54
B17: JUNIOR STYLE | G17: =G28+G39 -> 15 | I17: =I28+I39 -> 16 | K17: =K28+K39 -> 14 | M17: =SUM(G17:L17) -> 45
B18: JUNIOR OVERALL | G18: =G29+G40 -> 15 | I18: =I29+I40 -> 15 | K18: =K29+K40 -> 15 | M18: =SUM(G18:L18) -> 45
B20: TOTAL MALE | G20: =SUM(G21:H29) -> 292 | I20: =SUM(I21:J29) -> 276 | K20: =SUM(K21:L29) -> 286 | M20: =SUM(M21:N29) -> 854
A21: MALE / MIX | B21: INDIVIDUAL ACCURACY | G21: ='enter-data'!G$2 -> 56 | I21: ='enter-data'!H$2 -> 41 | K21: ='enter-data'!I$2 -> 51 | M21: =SUM(G21:L21) -> 148
B22: INDIVIDUAL STYLE | G22: ='enter-data'!J$2 -> 43 | I22: ='enter-data'!K$2 -> 43 | K22: ='enter-data'!L$2 -> 43 | M22: =SUM(G22:L22) -> 129
B23: INDIVIDUAL OVERALL | G23: ='enter-data'!M$2 -> 43 | I23: ='enter-data'!N$2 -> 43 | K23: ='enter-data'!O$2 -> 43 | M23: =SUM(G23:L23) -> 129
B24: TEAM ACCURACY | G24: ='enter-data'!P$2 -> 46 | I24: ='enter-data'!Q$2 -> 45 | K24: ='enter-data'!R$2 -> 44 | M24: =SUM(G24:L24) -> 135
B25: FORMATION SKYDIVE | G25: ='enter-data'!S$2 -> 34 | I25: ='enter-data'!T$2 -> 34 | K25: ='enter-data'!U$2 -> 34 | M25: =SUM(G25:L25) -> 102
B26: TEAM OVERALL | G26: ='enter-data'!V$2 -> 45 | I26: ='enter-data'!W$2 -> 45 | K26: ='enter-data'!X$2 -> 46 | M26: =SUM(G26:L26) -> 136
B27: JUNIOR ACCURACY | G27: ='enter-data'!Y$2 -> 9 | I27: ='enter-data'!Z$2 -> 9 | K27: ='enter-data'!AA$2 -> 9 | M27: =SUM(G27:L27) -> 27
B28: JUNIOR STYLE | G28: ='enter-data'!AB$2 -> 8 | I28: ='enter-data'!AC$2 -> 8 | K28: ='enter-data'!AD$2 -> 8 | M28: =SUM(G28:L28) -> 24
B29: JUNIOR OVERALL | G29: ='enter-data'!AE$2 -> 8 | I29: ='enter-data'!AF$2 -> 8 | K29: ='enter-data'!AG$2 -> 8 | M29: =SUM(G29:L29) -> 24
B31: TOTAL FEMALE | G31: =SUM(G32:H40) -> 196 | I31: =SUM(I32:J40) -> 197 | K31: =SUM(K32:L40) -> 195 | M31: =SUM(M32:N40) -> 588
A32: FEMALE | B32: INDIVIDUAL ACCURACY | G32: ='enter-data'!AI$2 -> 31 | I32: ='enter-data'!AJ$2 -> 31 | K32: ='enter-data'!AK$2 -> 31 | M32: =SUM(G32:L32) -> 93
B33: INDIVIDUAL STYLE | G33: ='enter-data'!AL$2 -> 29 | I33: ='enter-data'!AM$2 -> 29 | K33: ='enter-data'!AN$2 -> 29 | M33: =SUM(G33:L33) -> 87
B34: INDIVIDUAL OVERALL | G34: ='enter-data'!AO$2 -> 29 | I34: ='enter-data'!AP$2 -> 29 | K34: ='enter-data'!AQ$2 -> 29 | M34: =SUM(G34:L34) -> 87
B35: TEAM ACCURACY | G35: ='enter-data'!AR$2 -> 29 | I35: ='enter-data'!AS$2 -> 29 | K35: ='enter-data'!AT$2 -> 29 | M35: =SUM(G35:L35) -> 87
B36: FORMATION SKYDIVE | G36: ='enter-data'!AU$2 -> 28 | I36: ='enter-data'!AV$2 -> 28 | K36: ='enter-data'!AW$2 -> 27 | M36: =SUM(G36:L36) -> 83
B37: TEAM OVERALL | G37: ='enter-data'!AX$2 -> 27 | I37: ='enter-data'!AY$2 -> 27 | K37: ='enter-data'!AZ$2 -> 28 | M37: =SUM(G37:L37) -> 82
B38: JUNIOR ACCURACY | G38: ='enter-data'!BA$2 -> 9 | I38: ='enter-data'!BB$2 -> 9 | K38: ='enter-data'!BC$2 -> 9 | M38: =SUM(G38:L38) -> 27
B39: JUNIOR STYLE | G39: ='enter-data'!BD$2 -> 7 | I39: ='enter-data'!BE$2 -> 8 | K39: ='enter-data'!BF$2 -> 6 | M39: =SUM(G39:L39) -> 21
B40: JUNIOR OVERALL | G40: ='enter-data'!BG$2 -> 7 | I40: ='enter-data'!BH$2 -> 7 | K40: ='enter-data'!BI$2 -> 7 | M40: =SUM(G40:L40) -> 21
A42: T O P 5 N A T I O N S
A44: RANK | B44: COUNTRY | G44: GOLD | I44: SILVER | K44: BRONZE | M44: TOTAL
A46: 1. | B46: ='calc.rank'!A3 -> FRA | D46: ='calc.rank'!C3 -> France | G46: ='calc.rank'!E3 -> 109 | I46: ='calc.rank'!H3 -> 105 | K46: ='calc.rank'!K3 -> 100 | M46: =SUM(G46:L46) -> 314 | P46: =G46+I46+K46 -> 314
A47: 2. | B47: ='calc.rank'!A4 -> RUS | D47: ='calc.rank'!C4 -> Russia | G47: ='calc.rank'!E4 -> 91 | I47: ='calc.rank'!H4 -> 73 | K47: ='calc.rank'!K4 -> 59 | M47: =SUM(G47:L47) -> 223 | P47: =G47+I47+K47 -> 223
A48: 3. | B48: ='calc.rank'!A5 -> USA | D48: ='calc.rank'!C5 -> Un. States of America | G48: ='calc.rank'!E5 -> 71 | I48: ='calc.rank'!H5 -> 64 | K48: ='calc.rank'!K5 -> 52 | M48: =SUM(G48:L48) -> 187 | P48: =G48+I48+K48 -> 187
A49: 4. | B49: ='calc.rank'!A6 -> GER | D49: ='calc.rank'!C6 -> Germany | G49: ='calc.rank'!E6 -> 58 | I49: ='calc.rank'!H6 -> 51 | K49: ='calc.rank'!K6 -> 49 | M49: =SUM(G49:L49) -> 158 | P49: =G49+I49+K49 -> 158
...

Sheet calc.rank
A1: NATION | C1: DISZIPLINEN | E1: TG | F1: MG | G1: FG | H1: TS | I1: MS | J1: FS | K1: TB | L1: MB | M1: FB | N1: TT | O1: TM | P1: TF | R1: MIAG | S1: MIAS | T1: MIAB | U1: MISG | V1: MISS | W1: MISB | X1: MIOG | Y1: MIOS | Z1: MIOB | AA1: MTAG | AB1: MTAS | AC1: MTAB | AD1: MFSG | AE1: MFSS | AF1: MFSB | AG1: MTOG | AH1: MTOS | AI1: MTOB | AJ1: MJAG | AK1: MJAS | AL1: MJAB | AM1: MJSG | AN1: MJSS | AO1: MJSB | AP1: MJOG | AQ1: MJOS | AR1: MJOB | AT1: FIAG | AU1: FIAS | AV1: FIAB | AW1: FISG | AX1: FISS | AY1: FISB | AZ1: FIOG | BA1: FIOS | BB1: FIOB | BC1: FTAG | BD1: FTAS | BE1: FTAB | BF1: FFSG | BG1: FFSS | BH1: FFSB | BI1: FTOG | BJ1: FTOS | BK1: FTOB | BL1: FJAG | BM1: FJAS | BN1: FJAB | BO1: FJSG | BP1: FJSS | BQ1: FJSB | BR1: FJOG | BS1: FJOS | BT1: FJOB
C2: TOTAL | E2: =F2+G2 -> 488 | F2: =R2+U2+X2+AA2+AD2+AG2+AJ2+AM2+AP2 -> 292 | G2: =AT2+AW2+AZ2+BC2+BF2+BI2+BL2+BO2+BR2 -> 196 | H2: =I2+J2 -> 473 | I2: =S2+V2+Y2+AB2+AE2+AH2+AK2+AN2+AQ2 -> 276 | J2: =AU2+AX2+BA2+BD2+BG2+BJ2+BM2+BP2+BS2 -> 197 | K2: =L2+M2 -> 481 | L2: =T2+W2+Z2+AC2+AF2+AI2+AL2+AO2+AR2 -> 286 | M2: =AV2+AY2+BB2+BE2+BH2+BK2+BN2+BQ2+BT2 -> 195 | N2: =E2+H2+K2 -> 1442 | O2: =F2+I2+L2 -> 854 | P2: =G2+J2+M2 -> 588 | R2: =SUM(R3:R90) -> 56 | S2: =SUM(S3:S90) -> 41 | T2: =SUM(T3:T90) -> 51 | U2: =SUM(U3:U90) -> 43 | V2: =SUM(V3:V90) -> 43 | W2: =SUM(W3:W90) -> 43 | X2: =SUM(X3:X90) -> 43 | Y2: =SUM(Y3:Y90) -> 43 | ... AR2: =SUM(AR3:AR90) -> 8 | AT2: =SUM(AT3:AT90) -> 31 | AU2: =SUM(AU3:AU90) -> 31 | AV2: =SUM(AV3:AV90) -> 31 | AW2: =SUM(AW3:AW90) -> 29 | AX2: =SUM(AX3:AX90) -> 29 | AY2: =SUM(AY3:AY90) -> 29 | AZ2: =SUM(AZ3:AZ90) -> 29 | BA2: =SUM(BA3:BA90) -> 29 | ... BT2: =SUM(BT3:BT90) -> 7
A3: FRA | C3: France | E3: =F3+G3 -> 109 | F3: =R3+U3+X3+AA3+AD3+AG3+AJ3+AM3+AP3 -> 78 | G3: =AT3+AW3+AZ3+BC3+BF3+BI3+BL3+BO3+BR3 -> 31 | H3: =I3+J3 -> 105 | I3: =S3+V3+Y3+AB3+AE3+AH3+AK3+AN3+AQ3 -> 67 | J3: =AU3+AX3+BA3+BD3+BG3+BJ3+BM3+BP3+BS3 -> 38 | K3: =L3+M3 -> 100 | L3: =T3+W3+Z3+AC3+AF3+AI3+AL3+AO3+AR3 -> 65 | M3: =AV3+AY3+BB3+BE3+BH3+BK3+BN3+BQ3+BT3 -> 35 | N3: =E3+H3+K3 -> 314 | O3: =F3+I3+L3 -> 210 | P3: =G3+J3+M3 -> 104 | R3: =COUNTIF('enter-data'!G$8:G$94,'calc.rank'!$A3) -> 7 | S3: =COUNTIF('enter-data'!H$8:H$94,'calc.rank'!$A3) -> 10 | T3: =COUNTIF('enter-data'!I$8:I$94,'calc.rank'!$A3) -> 11 | U3: =COUNTIF('enter-data'!J$8:J$94,'calc.rank'!$A3) -> 22 | V3: =COUNTIF('enter-data'!K$8:K$94,'calc.rank'!$A3) -> 19 | W3: =COUNTIF('enter-data'!L$8:L$94,'calc.rank'!$A3) -> 21 | X3: =COUNTIF('enter-data'!M$8:M$94,'calc.rank'!$A3) -> 21 | Y3: =COUNTIF('enter-data'!N$8:N$94,'calc.rank'!$A3) -> 17 | ... AR3: =COUNTIF('enter-data'!AG$8:AG$94,'calc.rank'!$A3) -> 1 | AT3: =COUNTIF('enter-data'!AI$8:AI$94,'calc.rank'!$A3) -> 6 | AU3: =COUNTIF('enter-data'!AJ$8:AJ$94,'calc.rank'!$A3) -> 2 | AV3: =COUNTIF('enter-data'!AK$8:AK$94,'calc.rank'!$A3) -> 5 | AW3: =COUNTIF('enter-data'!AL$8:AL$94,'calc.rank'!$A3) -> 6 | AX3: =COUNTIF('enter-data'!AM$8:AM$94,'calc.rank'!$A3) -> 4 | AY3: =COUNTIF('enter-data'!AN$8:AN$94,'calc.rank'!$A3) -> 7 | AZ3: =COUNTIF('enter-data'!AO$8:AO$94,'calc.rank'!$A3) -> 5 | BA3: =COUNTIF('enter-data'!AP$8:AP$94,'calc.rank'!$A3) -> 7 | ... BT3: =COUNTIF('enter-data'!BI$8:BI$94,'calc.rank'!$A3) -> 1
A4: RUS | C4: Russia | E4: =F4+G4 -> 91 | F4: =R4+U4+X4+AA4+AD4+AG4+AJ4+AM4+AP4 -> 25 | G4: =AT4+AW4+AZ4+BC4+BF4+BI4+BL4+BO4+BR4 -> 66 | H4: =I4+J4 -> 73 | I4: =S4+V4+Y4+AB4+AE4+AH4+AK4+AN4+AQ4 -> 22 | J4: =AU4+AX4+BA4+BD4+BG4+BJ4+BM4+BP4+BS4 -> 51 | K4: =L4+M4 -> 59 | L4: =T4+W4+Z4+AC4+AF4+AI4+AL4+AO4+AR4 -> 24 | M4: =AV4+AY4+BB4+BE4+BH4+BK4+BN4+BQ4+BT4 -> 35 | N4: =E4+H4+K4 -> 223 | O4: =F4+I4+L4 -> 71 | P4: =G4+J4+M4 -> 152 | R4: =COUNTIF('enter-data'!G$8:G$94,'calc.rank'!$A4) -> 5 | S4: =COUNTIF('enter-data'!H$8:H$94,'calc.rank'!$A4) -> 2 | T4: =COUNTIF('enter-data'!I$8:I$94,'calc.rank'!$A4) -> 3 | U4: =COUNTIF('enter-data'!J$8:J$94,'calc.rank'!$A4) -> 3 | V4: =COUNTIF('enter-data'!K$8:K$94,'calc.rank'!$A4) -> 5 | W4: =COUNTIF('enter-data'!L$8:L$94,'calc.rank'!$A4) -> 7 | X4: =COUNTIF('enter-data'!M$8:M$94,'calc.rank'!$A4) -> 7 | Y4: =COUNTIF('enter-data'!N$8:N$94,'calc.rank'!$A4) -> 5 | ... AR4: =COUNTIF('enter-data'!AG$8:AG$94,'calc.rank'!$A4) -> 0 | AT4: =COUNTIF('enter-data'!AI$8:AI$94,'calc.rank'!$A4) -> 7 | AU4: =COUNTIF('enter-data'!AJ$8:AJ$94,'calc.rank'!$A4) -> 4 | AV4: =COUNTIF('enter-data'!AK$8:AK$94,'calc.rank'!$A4) -> 3 | AW4: =COUNTIF('enter-data'!AL$8:AL$94,'calc.rank'!$A4) -> 12 | AX4: =COUNTIF('enter-data'!AM$8:AM$94,'calc.rank'!$A4) -> 13 | AY4: =COUNTIF('enter-data'!AN$8:AN$94,'calc.rank'!$A4) -> 10 | AZ4: =COUNTIF('enter-data'!AO$8:AO$94,'calc.rank'!$A4) -> 10 | BA4: =COUNTIF('enter-data'!AP$8:AP$94,'calc.rank'!$A4) -> 8 | ... BT4: =COUNTIF('enter-data'!BI$8:BI$94,'calc.rank'!$A4) -> 3
A5: USA | C5: Un. States of America | E5: =F5+G5 -> 71 | F5: =R5+U5+X5+AA5+AD5+AG5+AJ5+AM5+AP5 -> 40 | G5: =AT5+AW5+AZ5+BC5+BF5+BI5+BL5+BO5+BR5 -> 31 | H5: =I5+J5 -> 64 | I5: =S5+V5+Y5+AB5+AE5+AH5+AK5+AN5+AQ5 -> 32 | J5: =AU5+AX5+BA5+BD5+BG5+BJ5+BM5+BP5+BS5 -> 32 | K5: =L5+M5 -> 52 | L5: =T5+W5+Z5+AC5+AF5+AI5+AL5+AO5+AR5 -> 29 | M5: =AV5+AY5+BB5+BE5+BH5+BK5+BN5+BQ5+BT5 -> 23 | N5: =E5+H5+K5 -> 187 | O5: =F5+I5+L5 -> 101 | P5: =G5+J5+M5 -> 86 | R5: =COUNTIF('enter-data'!G$8:G$94,'calc.rank'!$A5) -> 12 | S5: =COUNTIF('enter-data'!H$8:H$94,'calc.rank'!$A5) -> 4 | T5: =COUNTIF('enter-data'!I$8:I$94,'calc.rank'!$A5) -> 5 | U5: =COUNTIF('enter-data'!J$8:J$94,'calc.rank'!$A5) -> 4 | V5: =COUNTIF('enter-data'!K$8:K$94,'calc.rank'!$A5) -> 7 | W5: =COUNTIF('enter-data'!L$8:L$94,'calc.rank'!$A5) -> 7 | X5: =COUNTIF('enter-data'!M$8:M$94,'calc.rank'!$A5) -> 4 | Y5: =COUNTIF('enter-data'!N$8:N$94,'calc.rank'!$A5) -> 7 | ... AR5: =COUNTIF('enter-data'!AG$8:AG$94,'calc.rank'!$A5) -> 0 | AT5: =COUNTIF('enter-data'!AI$8:AI$94,'calc.rank'!$A5) -> 4 | AU5: =COUNTIF('enter-data'!AJ$8:AJ$94,'calc.rank'!$A5) -> 6 | AV5: =COUNTIF('enter-data'!AK$8:AK$94,'calc.rank'!$A5) -> 8 | AW5: =COUNTIF('enter-data'!AL$8:AL$94,'calc.rank'!$A5) -> 5 | AX5: =COUNTIF('enter-data'!AM$8:AM$94,'calc.rank'!$A5) -> 6 | AY5: =COUNTIF('enter-data'!AN$8:AN$94,'calc.rank'!$A5) -> 1 | AZ5: =COUNTIF('enter-data'!AO$8:AO$94,'calc.rank'!$A5) -> 7 | BA5: =COUNTIF('enter-data'!AP$8:AP$94,'calc.rank'!$A5) -> 7 | ... BT5: =COUNTIF('enter-data'!BI$8:BI$94,'calc.rank'!$A5) -> 0
A6: GER | C6: Germany | E6: =F6+G6 -> 58 | F6: =R6+U6+X6+AA6+AD6+AG6+AJ6+AM6+AP6 -> 51 | G6: =AT6+AW6+AZ6+BC6+BF6+BI6+BL6+BO6+BR6 -> 7 | H6: =I6+J6 -> 51 | I6: =S6+V6+Y6+AB6+AE6+AH6+AK6+AN6+AQ6 -> 44 | J6: =AU6+AX6+BA6+BD6+BG6+BJ6+BM6+BP6+BS6 -> 7 | K6: =L6+M6 -> 49 | L6: =T6+W6+Z6+AC6+AF6+AI6+AL6+AO6+AR6 -> 42 | M6: =AV6+AY6+BB6+BE6+BH6+BK6+BN6+BQ6+BT6 -> 7 | N6: =E6+H6+K6 -> 158 | O6: =F6+I6+L6 -> 137 | P6: =G6+J6+M6 -> 21 | R6: =COUNTIF('enter-data'!G$8:G$94,'calc.rank'!$A6) -> 9 | S6: =COUNTIF('enter-data'!H$8:H$94,'calc.rank'!$A6) -> 6 | T6: =COUNTIF('enter-data'!I$8:I$94,'calc.rank'!$A6) -> 4 | U6: =COUNTIF('enter-data'!J$8:J$94,'calc.rank'!$A6) -> 10 | V6: =COUNTIF('enter-data'!K$8:K$94,'calc.rank'!$A6) -> 6 | W6: =COUNTIF('enter-data'!L$8:L$94,'calc.rank'!$A6) -> 3 | X6: =COUNTIF('enter-data'!M$8:M$94,'calc.rank'!$A6) -> 8 | Y6: =COUNTIF('enter-data'!N$8:N$94,'calc.rank'!$A6) -> 7 | ... AR6: =COUNTIF('enter-data'!AG$8:AG$94,'calc.rank'!$A6) -> 1 | AT6: =COUNTIF('enter-data'!AI$8:AI$94,'calc.rank'!$A6) -> 1 | AU6: =COUNTIF('enter-data'!AJ$8:AJ$94,'calc.rank'!$A6) -> 0 | AV6: =COUNTIF('enter-data'!AK$8:AK$94,'calc.rank'!$A6) -> 0 | AW6: =COUNTIF('enter-data'!AL$8:AL$94,'calc.rank'!$A6) -> 1 | AX6: =COUNTIF('enter-data'!AM$8:AM$94,'calc.rank'!$A6) -> 3 | AY6: =COUNTIF('enter-data'!AN$8:AN$94,'calc.rank'!$A6) -> 2 | AZ6: =COUNTIF('enter-data'!AO$8:AO$94,'calc.rank'!$A6) -> 2 | BA6: =COUNTIF('enter-data'!AP$8:AP$94,'calc.rank'!$A6) -> 0 | ... BT6: =COUNTIF('enter-data'!BI$8:BI$94,'calc.rank'!$A6) -> 2
A7: CHN | C7: China | E7: =F7+G7 -> 45 | F7: =R7+U7+X7+AA7+AD7+AG7+AJ7+AM7+AP7 -> 17 | G7: =AT7+AW7+AZ7+BC7+BF7+BI7+BL7+BO7+BR7 -> 28 | H7: =I7+J7 -> 35 | I7: =S7+V7+Y7+AB7+AE7+AH7+AK7+AN7+AQ7 -> 17 | J7: =AU7+AX7+BA7+BD7+BG7+BJ7+BM7+BP7+BS7 -> 18 | K7: =L7+M7 -> 36 | L7: =T7+W7+Z7+AC7+AF7+AI7+AL7+AO7+AR7 -> 15 | M7: =AV7+AY7+BB7+BE7+BH7+BK7+BN7+BQ7+BT7 -> 21 | N7: =E7+H7+K7 -> 116 | O7: =F7+I7+L7 -> 49 | P7: =G7+J7+M7 -> 67 | R7: =COUNTIF('enter-data'!G$8:G$94,'calc.rank'!$A7) -> 1 | S7: =COUNTIF('enter-data'!H$8:H$94,'calc.rank'!$A7) -> 2 | T7: =COUNTIF('enter-data'!I$8:I$94,'calc.rank'!$A7) -> 3 | U7: =COUNTIF('enter-data'!J$8:J$94,'calc.rank'!$A7) -> 0 | V7: =COUNTIF('enter-data'!K$8:K$94,'calc.rank'!$A7) -> 0 | W7: =COUNTIF('enter-data'!L$8:L$94,'calc.rank'!$A7) -> 0 | X7: =COUNTIF('enter-data'!M$8:M$94,'calc.rank'!$A7) -> 0 | Y7: =COUNTIF('enter-data'!N$8:N$94,'calc.rank'!$A7) -> 1 | ... AR7: =COUNTIF('enter-data'!AG$8:AG$94,'calc.rank'!$A7) -> 3 | AT7: =COUNTIF('enter-data'!AI$8:AI$94,'calc.rank'!$A7) -> 8 | AU7: =COUNTIF('enter-data'!AJ$8:AJ$94,'calc.rank'!$A7) -> 3 | AV7: =COUNTIF('enter-data'!AK$8:AK$94,'calc.rank'!$A7) -> 5 | AW7: =COUNTIF('enter-data'!AL$8:AL$94,'calc.rank'!$A7) -> 1 | AX7: =COUNTIF('enter-data'!AM$8:AM$94,'calc.rank'!$A7) -> 0 | AY7: =COUNTIF('enter-data'!AN$8:AN$94,'calc.rank'!$A7) -> 0 | AZ7: =COUNTIF('enter-data'!AO$8:AO$94,'calc.rank'!$A7) -> 1 | BA7: =COUNTIF('enter-data'!AP$8:AP$94,'calc.rank'!$A7) -> 2 | ... BT7: =COUNTIF('enter-data'!BI$8:BI$94,'calc.rank'!$A7) -> 1
A8: BEL | C8: Belgium | E8: =F8+G8 -> 23 | F8: =R8+U8+X8+AA8+AD8+AG8+AJ8+AM8+AP8 -> 23 | G8: =AT8+AW8+AZ8+BC8+BF8+BI8+BL8+BO8+BR8 -> 0 | H8: =I8+J8 -> 5 | I8: =S8+V8+Y8+AB8+AE8+AH8+AK8+AN8+AQ8 -> 5 | J8: =AU8+AX8+BA8+BD8+BG8+BJ8+BM8+BP8+BS8 -> 0 | K8: =L8+M8 -> 4 | L8: =T8+W8+Z8+AC8+AF8+AI8+AL8+AO8+AR8 -> 4 | M8: =AV8+AY8+BB8+BE8+BH8+BK8+BN8+BQ8+BT8 -> 0 | N8: =E8+H8+K8 -> 32 | O8: =F8+I8+L8 -> 32 | P8: =G8+J8+M8 -> 0 | R8: =COUNTIF('enter-data'!G$8:G$94,'calc.rank'!$A8) -> 3 | S8: =COUNTIF('enter-data'!H$8:H$94,'calc.rank'!$A8) -> 1 | T8: =COUNTIF('enter-data'!I$8:I$94,'calc.rank'!$A8) -> 0 | U8: =COUNTIF('enter-data'!J$8:J$94,'calc.rank'!$A8) -> 0 | V8: =COUNTIF('enter-data'!K$8:K$94,'calc.rank'!$A8) -> 0 | W8: =COUNTIF('enter-data'!L$8:L$94,'calc.rank'!$A8) -> 0 | X8: =COUNTIF('enter-data'!M$8:M$94,'calc.rank'!$A8) -> 0 | Y8: =COUNTIF('enter-data'!N$8:N$94,'calc.rank'!$A8) -> 0 | ... AR8: =COUNTIF('enter-data'!AG$8:AG$94,'calc.rank'!$A8) -> 0 | AT8: =COUNTIF('enter-data'!AI$8:AI$94,'calc.rank'!$A8) -> 0 | AU8: =COUNTIF('enter-data'!AJ$8:AJ$94,'calc.rank'!$A8) -> 0 | AV8: =COUNTIF('enter-data'!AK$8:AK$94,'calc.rank'!$A8) -> 0 | AW8: =COUNTIF('enter-data'!AL$8:AL$94,'calc.rank'!$A8) -> 0 | AX8: =COUNTIF('enter-data'!AM$8:AM$94,'calc.rank'!$A8) -> 0 | AY8: =COUNTIF('enter-data'!AN$8:AN$94,'calc.rank'!$A8) -> 0 | AZ8: =COUNTIF('enter-data'!AO$8:AO$94,'calc.rank'!$A8) -> 0 | BA8: =COUNTIF('enter-data'!AP$8:AP$94,'calc.rank'!$A8) -> 0 | ... BT8: =COUNTIF('enter-data'!BI$8:BI$94,'calc.rank'!$A8) -> 0
A9: BLR | C9: Belarus | E9: =F9+G9 -> 16 | F9: =R9+U9+X9+AA9+AD9+AG9+AJ9+AM9+AP9 -> 4 | G9: =AT9+AW9+AZ9+BC9+BF9+BI9+BL9+BO9+BR9 -> 12 | H9: =I9+J9 -> 26 | I9: =S9+V9+Y9+AB9+AE9+AH9+AK9+AN9+AQ9 -> 8 | J9: =AU9+AX9+BA9+BD9+BG9+BJ9+BM9+BP9+BS9 -> 18 | K9: =L9+M9 -> 28 | L9: =T9+W9+Z9+AC9+AF9+AI9+AL9+AO9+AR9 -> 6 | M9: =AV9+AY9+BB9+BE9+BH9+BK9+BN9+BQ9+BT9 -> 22 | N9: =E9+H9+K9 -> 70 | O9: =F9+I9+L9 -> 18 | P9: =G9+J9+M9 -> 52 | R9: =COUNTIF('enter-data'!G$8:G$94,'calc.rank'!$A9) -> 0 | S9: =COUNTIF('enter-data'!H$8:H$94,'calc.rank'!$A9) -> 2 | T9: =COUNTIF('enter-data'!I$8:I$94,'calc.rank'!$A9) -> 1 | U9: =COUNTIF('enter-data'!J$8:J$94,'calc.rank'!$A9) -> 0 | V9: =COUNTIF('enter-data'!K$8:K$94,'calc.rank'!$A9) -> 0 | W9: =COUNTIF('enter-data'!L$8:L$94,'calc.rank'!$A9) -> 0 | X9: =COUNTIF('enter-data'!M$8:M$94,'calc.rank'!$A9) -> 1 | Y9: =COUNTIF('enter-data'!N$8:N$94,'calc.rank'!$A9) -> 0 | ... AR9: =COUNTIF('enter-data'!AG$8:AG$94,'calc.rank'!$A9) -> 1 | AT9: =COUNTIF('enter-data'!AI$8:AI$94,'calc.rank'!$A9) -> 1 | AU9: =COUNTIF('enter-data'!AJ$8:AJ$94,'calc.rank'!$A9) -> 4 | AV9: =COUNTIF('enter-data'!AK$8:AK$94,'calc.rank'!$A9) -> 5 | AW9: =COUNTIF('enter-data'!AL$8:AL$94,'calc.rank'!$A9) -> 0 | AX9: =COUNTIF('enter-data'!AM$8:AM$94,'calc.rank'!$A9) -> 1 | AY9: =COUNTIF('enter-data'!AN$8:AN$94,'calc.rank'!$A9) -> 2 | AZ9: =COUNTIF('enter-data'!AO$8:AO$94,'calc.rank'!$A9) -> 0 | BA9: =COUNTIF('enter-data'!AP$8:AP$94,'calc.rank'!$A9) -> 2 | ... BT9: =COUNTIF('enter-data'!BI$8:BI$94,'calc.rank'!$A9) -> 0
A10: CZE | C10: Czech Rep | E10: =F10+G10 -> 15 | F10: =R10+U10+X10+AA10+AD10+AG10+AJ10+AM10+AP10 -> 15 | G10: =AT10+AW10+AZ10+BC10+BF10+BI10+BL10+BO10+BR10 -> 0 | H10: =I10+J10 -> 26 | I10: =S10+V10+Y10+AB10+AE10+AH10+AK10+AN10+AQ10 -> 26 | J10: =AU10+AX10+BA10+BD10+BG10+BJ10+BM10+BP10+BS10 -> 0 | K10: =L10+M10 -> 15 | L10: =T10+W10+Z10+AC10+AF10+AI10+AL10+AO10+AR10 -> 15 | M10: =AV10+AY10+BB10+BE10+BH10+BK10+BN10+BQ10+BT10 -> 0 | N10: =E10+H10+K10 -> 56 | O10: =F10+I10+L10 -> 56 | P10: =G10+J10+M10 -> 0 | R10: =COUNTIF('enter-data'!G$8:G$94,'calc.rank'!$A10) -> 2 | S10: =COUNTIF('enter-data'!H$8:H$94,'calc.rank'!$A10) -> 3 | T10: =COUNTIF('enter-data'!I$8:I$94,'calc.rank'!$A10) -> 3 | U10: =COUNTIF('enter-data'!J$8:J$94,'calc.rank'!$A10) -> 4 | V10: =COUNTIF('enter-data'!K$8:K$94,'calc.rank'!$A10) -> 6 | W10: =COUNTIF('enter-data'!L$8:L$94,'calc.rank'!$A10) -> 1 | X10: =COUNTIF('enter-data'!M$8:M$94,'calc.rank'!$A10) -> 1 | Y10: =COUNTIF('enter-data'!N$8:N$94,'calc.rank'!$A10) -> 4 | ... AR10: =COUNTIF('enter-data'!AG$8:AG$94,'calc.rank'!$A10) -> 1 | AT10: =COUNTIF('enter-data'!AI$8:AI$94,'calc.rank'!$A10) -> 0 | AU10: =COUNTIF('enter-data'!AJ$8:AJ$94,'calc.rank'!$A10) -> 0 | AV10: =COUNTIF('enter-data'!AK$8:AK$94,'calc.rank'!$A10) -> 0 | AW10: =COUNTIF('enter-data'!AL$8:AL$94,'calc.rank'!$A10) -> 0 | AX10: =COUNTIF('enter-data'!AM$8:AM$94,'calc.rank'!$A10) -> 0 | AY10: =COUNTIF('enter-data'!AN$8:AN$94,'calc.rank'!$A10) -> 0 | AZ10: =COUNTIF('enter-data'!AO$8:AO$94,'calc.rank'!$A10) -> 0 | BA10: =COUNTIF('enter-data'!AP$8:AP$94,'calc.rank'!$A10) -> 0 | ... BT10: =COUNTIF('enter-data'!BI$8:BI$94,'calc.rank'!$A10) -> 0
A11: AUT | C11: Austria | E11: =F11+G11 -> 12 | F11: =R11+U11+X11+AA11+AD11+AG11+AJ11+AM11+AP11 -> 9 | G11: =AT11+AW11+AZ11+BC11+BF11+BI11+BL11+BO11+BR11 -> 3 | H11: =I11+J11 -> 6 | I11: =S11+V11+Y11+AB11+AE11+AH11+AK11+AN11+AQ11 -> 6 | J11: =AU11+AX11+BA11+BD11+BG11+BJ11+BM11+BP11+BS11 -> 0 | K11: =L11+M11 -> 15 | L11: =T11+W11+Z11+AC11+AF11+AI11+AL11+AO11+AR11 -> 15 | M11: =AV11+AY11+BB11+BE11+BH11+BK11+BN11+BQ11+BT11 -> 0 | N11: =E11+H11+K11 -> 33 | O11: =F11+I11+L11 -> 30 | P11: =G11+J11+M11 -> 3 | R11: =COUNTIF('enter-data'!G$8:G$94,'calc.rank'!$A11) -> 4 | S11: =COUNTIF('enter-data'!H$8:H$94,'calc.rank'!$A11) -> 1 | T11: =COUNTIF('enter-data'!I$8:I$94,'calc.rank'!$A11) -> 4 | U11: =COUNTIF('enter-data'!J$8:J$94,'calc.rank'!$A11) -> 0 | V11: =COUNTIF('enter-data'!K$8:K$94,'calc.rank'!$A11) -> 0 | W11: =COUNTIF('enter-data'!L$8:L$94,'calc.rank'!$A11) -> 1 | X11: =COUNTIF('enter-data'!M$8:M$94,'calc.rank'!$A11) -> 0 | Y11: =COUNTIF('enter-data'!N$8:N$94,'calc.rank'!$A11) -> 0 | ... AR11: =COUNTIF('enter-data'!AG$8:AG$94,'calc.rank'!$A11) -> 1 | AT11: =COUNTIF('enter-data'!AI$8:AI$94,'calc.rank'!$A11) -> 0 | AU11: =COUNTIF('enter-data'!AJ$8:AJ$94,'calc.rank'!$A11) -> 0 | AV11: =COUNTIF('enter-data'!AK$8:AK$94,'calc.rank'!$A11) -> 0 | AW11: =COUNTIF('enter-data'!AL$8:AL$94,'calc.rank'!$A11) -> 0 | AX11: =COUNTIF('enter-data'!AM$8:AM$94,'calc.rank'!$A11) -> 0 | AY11: =COUNTIF('enter-data'!AN$8:AN$94,'calc.rank'!$A11) -> 0 | AZ11: =COUNTIF('enter-data'!AO$8:AO$94,'calc.rank'!$A11) -> 0 | BA11: =COUNTIF('enter-data'!AP$8:AP$94,'calc.rank'!$A11) -> 0 | ... BT11: =COUNTIF('enter-data'!BI$8:BI$94,'calc.rank'!$A11) -> 0
A12: SLO | C12: Slovenia | E12: =F12+G12 -> 10 | F12: =R12+U12+X12+AA12+AD12+AG12+AJ12+AM12+AP12 -> 4 | G12: =AT12+AW12+AZ12+BC12+BF12+BI12+BL12+BO12+BR12 -> 6 | H12: =I12+J12 -> 19 | I12: =S12+V12+Y12+AB12+AE12+AH12+AK12+AN12+AQ12 -> 10 | J12: =AU12+AX12+BA12+BD12+BG12+BJ12+BM12+BP12+BS12 -> 9 | K12: =L12+M12 -> 13 | L12: =T12+W12+Z12+AC12+AF12+AI12+AL12+AO12+AR12 -> 8 | M12: =AV12+AY12+BB12+BE12+BH12+BK12+BN12+BQ12+BT12 -> 5 | N12: =E12+H12+K12 -> 42 | O12: =F12+I12+L12 -> 22 | P12: =G12+J12+M12 -> 20 | R12: =COUNTIF('enter-data'!G$8:G$94,'calc.rank'!$A12) -> 2 | S12: =COUNTIF('enter-data'!H$8:H$94,'calc.rank'!$A12) -> 3 | T12: =COUNTIF('enter-data'!I$8:I$94,'calc.rank'!$A12) -> 3 | U12: =COUNTIF('enter-data'!J$8:J$94,'calc.rank'!$A12) -> 0 | V12: =COUNTIF('enter-data'!K$8:K$94,'calc.rank'!$A12) -> 0 | W12: =COUNTIF('enter-data'!L$8:L$94,'calc.rank'!$A12) -> 1 | X12: =COUNTIF('enter-data'!M$8:M$94,'calc.rank'!$A12) -> 0 | Y12: =COUNTIF('enter-data'!N$8:N$94,'calc.rank'!$A12) -> 1 | ... AR12: =COUNTIF('enter-data'!AG$8:AG$94,'calc.rank'!$A12) -> 0 | AT12: =COUNTIF('enter-data'!AI$8:AI$94,'calc.rank'!$A12) -> 0 | AU12: =COUNTIF('enter-data'!AJ$8:AJ$94,'calc.rank'!$A12) -> 5 | AV12: =COUNTIF('enter-data'!AK$8:AK$94,'calc.rank'!$A12) -> 0 | AW12: =COUNTIF('enter-data'!AL$8:AL$94,'calc.rank'!$A12) -> 3 | AX12: =COUNTIF('enter-data'!AM$8:AM$94,'calc.rank'!$A12) -> 2 | AY12: =COUNTIF('enter-data'!AN$8:AN$94,'calc.rank'!$A12) -> 2 | AZ12: =COUNTIF('enter-data'!AO$8:AO$94,'calc.rank'!$A12) -> 3 | BA12: =COUNTIF('enter-data'!AP$8:AP$94,'calc.rank'!$A12) -> 2 | ... BT12: =COUNTIF('enter-data'!BI$8:BI$94,'calc.rank'!$A12) -> 0
A13: SUI | C13: Switzerland | E13: =F13+G13 -> 9 | F13: =R13+U13+X13+AA13+AD13+AG13+AJ13+AM13+AP13 -> 4 | G13: =AT13+AW13+AZ13+BC13+BF13+BI13+BL13+BO13+BR13 -> 5 | H13: =I13+J13 -> 10 | I13: =S13+V13+Y13+AB13+AE13+AH13+AK13+AN13+AQ13 -> 7 | J13: =AU13+AX13+BA13+BD13+BG13+BJ13+BM13+BP13+BS13 -> 3 | K13: =L13+M13 -> 30 | L13: =T13+W13+Z13+AC13+AF13+AI13+AL13+AO13+AR13 -> 16 | M13: =AV13+AY13+BB13+BE13+BH13+BK13+BN13+BQ13+BT13 -> 14 | N13: =E13+H13+K13 -> 49 | O13: =F13+I13+L13 -> 27 | P13: =G13+J13+M13 -> 22 | R13: =COUNTIF('enter-data'!G$8:G$94,'calc.rank'!$A13) -> 0 | S13: =COUNTIF('enter-data'!H$8:H$94,'calc.rank'!$A13) -> 0 | T13: =COUNTIF('enter-data'!I$8:I$94,'calc.rank'!$A13) -> 2 | U13: =COUNTIF('enter-data'!J$8:J$94,'calc.rank'!$A13) -> 0 | V13: =COUNTIF('enter-data'!K$8:K$94,'calc.rank'!$A13) -> 0 | W13: =COUNTIF('enter-data'!L$8:L$94,'calc.rank'!$A13) -> 0 | X13: =COUNTIF('enter-data'!M$8:M$94,'calc.rank'!$A13) -> 1 | Y13: =COUNTIF('enter-data'!N$8:N$94,'calc.rank'!$A13) -> 0 | ... AR13: =COUNTIF('enter-data'!AG$8:AG$94,'calc.rank'!$A13) -> 0 | AT13: =COUNTIF('enter-data'!AI$8:AI$94,'calc.rank'!$A13) -> 2 | AU13: =COUNTIF('enter-data'!AJ$8:AJ$94,'calc.rank'!$A13) -> 1 | AV13: =COUNTIF('enter-data'!AK$8:AK$94,'calc.rank'!$A13) -> 1 | AW13: =COUNTIF('enter-data'!AL$8:AL$94,'calc.rank'!$A13) -> 1 | AX13: =COUNTIF('enter-data'!AM$8:AM$94,'calc.rank'!$A13) -> 0 | AY13: =COUNTIF('enter-data'!AN$8:AN$94,'calc.rank'!$A13) -> 5 | AZ13: =COUNTIF('enter-data'!AO$8:AO$94,'calc.rank'!$A13) -> 1 | BA13: =COUNTIF('enter-data'!AP$8:AP$94,'calc.rank'!$A13) -> 1 | ... BT13: =COUNTIF('enter-data'!BI$8:BI$94,'calc.rank'!$A13) -> 0
A14: ITA | C14: Italy | E14: =F14+G14 -> 7 | F14: =R14+U14+X14+AA14+AD14+AG14+AJ14+AM14+AP14 -> 7 | G14: =AT14+AW14+AZ14+BC14+BF14+BI14+BL14+BO14+BR14 -> 0 | H14: =I14+J14 -> 10 | I14: =S14+V14+Y14+AB14+AE14+AH14+AK14+AN14+AQ14 -> 10 | J14: =AU14+AX14+BA14+BD14+BG14+BJ14+BM14+BP14+BS14 -> 0 | K14: =L14+M14 -> 7 | L14: =T14+W14+Z14+AC14+AF14+AI14+AL14+AO14+AR14 -> 7 | M14: =AV14+AY14+BB14+BE14+BH14+BK14+BN14+BQ14+BT14 -> 0 | N14: =E14+H14+K14 -> 24 | O14: =F14+I14+L14 -> 24 | P14: =G14+J14+M14 -> 0 | R14: =COUNTIF('enter-data'!G$8:G$94,'calc.rank'!$A14) -> 2 | S14: =COUNTIF('enter-data'!H$8:H$94,'calc.rank'!$A14) -> 3 | T14: =COUNTIF('enter-data'!I$8:I$94,'calc.rank'!$A14) -> 0 | U14: =COUNTIF('enter-data'!J$8:J$94,'calc.rank'!$A14) -> 0 | V14: =COUNTIF('enter-data'!K$8:K$94,'calc.rank'!$A14) -> 0 | W14: =COUNTIF('enter-data'!L$8:L$94,'calc.rank'!$A14) -> 1 | X14: =COUNTIF('enter-data'!M$8:M$94,'calc.rank'!$A14) -> 0 | Y14: =COUNTIF('enter-data'!N$8:N$94,'calc.rank'!$A14) -> 1 | ... AR14: =COUNTIF('enter-data'!AG$8:AG$94,'calc.rank'!$A14) -> 0 | AT14: =COUNTIF('enter-data'!AI$8:AI$94,'calc.rank'!$A14) -> 0 | AU14: =COUNTIF('enter-data'!AJ$8:AJ$94,'calc.rank'!$A14) -> 0 | AV14: =COUNTIF('enter-data'!AK$8:AK$94,'calc.rank'!$A14) -> 0 | AW14: =COUNTIF('enter-data'!AL$8:AL$94,'calc.rank'!$A14) -> 0 | AX14: =COUNTIF('enter-data'!AM$8:AM$94,'calc.rank'!$A14) -> 0 | AY14: =COUNTIF('enter-data'!AN$8:AN$94,'calc.rank'!$A14) -> 0 | AZ14: =COUNTIF('enter-data'!AO$8:AO$94,'calc.rank'!$A14) -> 0 | BA14: =COUNTIF('enter-data'!AP$8:AP$94,'calc.rank'!$A14) -> 0 | ... BT14: =COUNTIF('enter-data'!BI$8:BI$94,'calc.rank'!$A14) -> 0
... A90: ZIM | C90: Zimbabwe | E90: =F90+G90 -> 0 | F90: =R90+U90+X90+AA90+AD90+AG90+AJ90+AM90+AP90 -> 0 | G90: =AT90+AW90+AZ90+BC90+BF90+BI90+BL90+BO90+BR90 -> 0 | H90: =I90+J90 -> 0 | I90: =S90+V90+Y90+AB90+AE90+AH90+AK90+AN90+AQ90 -> 0 | J90: =AU90+AX90+BA90+BD90+BG90+BJ90+BM90+BP90+BS90 -> 0 | K90: =L90+M90 -> 0 | L90: =T90+W90+Z90+AC90+AF90+AI90+AL90+AO90+AR90 -> 0 | M90: =AV90+AY90+BB90+BE90+BH90+BK90+BN90+BQ90+BT90 -> 0 | N90: =E90+H90+K90 -> 0 | O90: =F90+I90+L90 -> 0 | P90: =G90+J90+M90 -> 0 | R90: =COUNTIF('enter-data'!G$8:G$94,'calc.rank'!$A90) -> 0 | S90: =COUNTIF('enter-data'!H$8:H$94,'calc.rank'!$A90) -> 0 | T90: =COUNTIF('enter-data'!I$8:I$94,'calc.rank'!$A90) -> 0 | U90: =COUNTIF('enter-data'!J$8:J$94,'calc.rank'!$A90) -> 0 | V90: =COUNTIF('enter-data'!K$8:K$94,'calc.rank'!$A90) -> 0 | W90: =COUNTIF('enter-data'!L$8:L$94,'calc.rank'!$A90) -> 0 | X90: =COUNTIF('enter-data'!M$8:M$94,'calc.rank'!$A90) -> 0 | Y90: =COUNTIF('enter-data'!N$8:N$94,'calc.rank'!$A90) -> 0 | ... AR90: =COUNTIF('enter-data'!AG$8:AG$94,'calc.rank'!$A90) -> 0 | AT90: =COUNTIF('enter-data'!AI$8:AI$94,'calc.rank'!$A90) -> 0 | AU90: =COUNTIF('enter-data'!AJ$8:AJ$94,'calc.rank'!$A90) -> 0 | AV90: =COUNTIF('enter-data'!AK$8:AK$94,'calc.rank'!$A90) -> 0 | AW90: =COUNTIF('enter-data'!AL$8:AL$94,'calc.rank'!$A90) -> 0 | AX90: =COUNTIF('enter-data'!AM$8:AM$94,'calc.rank'!$A90) -> 0 | AY90: =COUNTIF('enter-data'!AN$8:AN$94,'calc.rank'!$A90) -> 0 | AZ90: =COUNTIF('enter-data'!AO$8:AO$94,'calc.rank'!$A90) -> 0 | BA90: =COUNTIF('enter-data'!AP$8:AP$94,'calc.rank'!$A90) -> 0 | ... BT90: =COUNTIF('enter-data'!BI$8:BI$94,'calc.rank'!$A90) -> 0

Sheet R
B1: R A N K I N G N A T I O N S | R1: Back to selection
B2: All WMPC from | F2: =SMALL('enter-data'!C8:C94,1) -> 1964 | I2: to | K2: =LARGE('enter-data'!C8:C94,1) -> 2022
B3: N A T I O N - M E D A L T A B L E
A7: RANK | B7: NATION | E7: GOLD | H7: SILVER | K7: BRONCE | N7: TOTAL
E8: TOTAL | F8: M | G8: F | H8: TOTAL | I8: M | J8: F | K8: TOTAL | L8: M | M8: F | N8: TOTAL | O8: M | P8: F
A9: 1. | B9: FRA | D9: France | E9: ='calc.rank'!E3 -> 109 | F9: ='calc.rank'!F3 -> 78 | G9: ='calc.rank'!G3 -> 31 | H9: ='calc.rank'!H3 -> 105 | I9: ='calc.rank'!I3 -> 67 | J9: ='calc.rank'!J3 -> 38 | K9: ='calc.rank'!K3 -> 100 | L9: ='calc.rank'!L3 -> 65 | ... P9: ='calc.rank'!P3 -> 104
A10: 2. | B10: RUS | D10: Russia | E10: ='calc.rank'!E4 -> 91 | F10: ='calc.rank'!F4 -> 25 | G10: ='calc.rank'!G4 -> 66 | H10: ='calc.rank'!H4 -> 73 | I10: ='calc.rank'!I4 -> 22 | J10: ='calc.rank'!J4 -> 51 | K10: ='calc.rank'!K4 -> 59 | L10: ='calc.rank'!L4 -> 24 | ... P10: ='calc.rank'!P4 -> 152
A11: 3. | B11: USA | D11: Un. States of America | E11: ='calc.rank'!E5 -> 71 | F11: ='calc.rank'!F5 -> 40 | G11: ='calc.rank'!G5 -> 31 | H11: ='calc.rank'!H5 -> 64 | I11: ='calc.rank'!I5 -> 32 | J11: ='calc.rank'!J5 -> 32 | K11: ='calc.rank'!K5 -> 52 | L11: ='calc.rank'!L5 -> 29 | ... P11: ='calc.rank'!P5 -> 86
A12: 4. | B12: GER | D12: Germany | E12: ='calc.rank'!E6 -> 58 | F12: ='calc.rank'!F6 -> 51 | G12: ='calc.rank'!G6 -> 7 | H12: ='calc.rank'!H6 -> 51 | I12: ='calc.rank'!I6 -> 44 | J12: ='calc.rank'!J6 -> 7 | K12: ='calc.rank'!K6 -> 49 | L12: ='calc.rank'!L6 -> 42 | ... P12: ='calc.rank'!P6 -> 21
A13: 5. | B13: CHN | D13: China | E13: ='calc.rank'!E7 -> 45 | F13: ='calc.rank'!F7 -> 17 | G13: ='calc.rank'!G7 -> 28 | H13: ='calc.rank'!H7 -> 35 | I13: ='calc.rank'!I7 -> 17 | J13: ='calc.rank'!J7 -> 18 | K13: ='calc.rank'!K7 -> 36 | L13: ='calc.rank'!L7 -> 15 | ... P13: ='calc.rank'!P7 -> 67
A14: 6. | B14: BEL | D14: Belgium | E14: ='calc.rank'!E8 -> 23 | F14: ='calc.rank'!F8 -> 23 | G14: ='calc.rank'!G8 -> 0 | H14: ='calc.rank'!H8 -> 5 | I14: ='calc.rank'!I8 -> 5 | J14: ='calc.rank'!J8 -> 0 | K14: ='calc.rank'!K8 -> 4 | L14: ='calc.rank'!L8 -> 4 | ... P14: ='calc.rank'!P8 -> 0
A15: 7. | B15: BLR | D15: Belarus | E15: ='calc.rank'!E9 -> 16 | F15: ='calc.rank'!F9 -> 4 | G15: ='calc.rank'!G9 -> 12 | H15: ='calc.rank'!H9 -> 26 | I15: ='calc.rank'!I9 -> 8 | J15: ='calc.rank'!J9 -> 18 | K15: ='calc.rank'!K9 -> 28 | L15: ='calc.rank'!L9 -> 6 | ... P15: ='calc.rank'!P9 -> 52
A16: 8. | B16: CZE | D16: Czech Rep | E16: ='calc.rank'!E10 -> 15 | F16: ='calc.rank'!F10 -> 15 | G16: ='calc.rank'!G10 -> 0 | H16: ='calc.rank'!H10 -> 26 | I16: ='calc.rank'!I10 -> 26 | J16: ='calc.rank'!J10 -> 0 | K16: ='calc.rank'!K10 -> 15 | L16: ='calc.rank'!L10 -> 15 | ... P16: ='calc.rank'!P10 -> 0
A17: 9. | B17: AUT | D17: Austria | E17: ='calc.rank'!E11 -> 12 | F17: ='calc.rank'!F11 -> 9 | G17: ='calc.rank'!G11 -> 3 | H17: ='calc.rank'!H11 -> 6 | I17: ='calc.rank'!I11 -> 6 | J17: ='calc.rank'!J11 -> 0 | K17: ='calc.rank'!K11 -> 15 | L17: ='calc.rank'!L11 -> 15 | ... P17: ='calc.rank'!P11 -> 3
A18: 10. | B18: SLO | D18: Slovenia | E18: ='calc.rank'!E12 -> 10 | F18: ='calc.rank'!F12 -> 4 | G18: ='calc.rank'!G12 -> 6 | H18: ='calc.rank'!H12 -> 19 | I18: ='calc.rank'!I12 -> 10 | J18: ='calc.rank'!J12 -> 9 | K18: ='calc.rank'!K12 -> 13 | L18: ='calc.rank'!L12 -> 8 | ... P18: ='calc.rank'!P12 -> 20
A19: 11. | B19: SUI | D19: Switzerland | E19: ='calc.rank'!E13 -> 9 | F19: ='calc.rank'!F13 -> 4 | G19: ='calc.rank'!G13 -> 5 | H19: ='calc.rank'!H13 -> 10 | I19: ='calc.rank'!I13 -> 7 | J19: ='calc.rank'!J13 -> 3 | K19: ='calc.rank'!K13 -> 30 | L19: ='calc.rank'!L13 -> 16 | ... P19: ='calc.rank'!P13 -> 22
A20: 12. | B20: ITA | D20: Italy | E20: ='calc.rank'!E14 -> 7 | F20: ='calc.rank'!F14 -> 7 | G20: ='calc.rank'!G14 -> 0 | H20: ='calc.rank'!H14 -> 10 | I20: ='calc.rank'!I14 -> 10 | J20: ='calc.rank'!J14 -> 0 | K20: ='calc.rank'!K14 -> 7 | L20: ='calc.rank'!L14 -> 7 | ... P20: ='calc.rank'!P14 -> 0
... A32: 24. | B32: BUL | D32: Bulgaria | E32: ='calc.rank'!E26 -> 1 | F32: ='calc.rank'!F26 -> 1 | G32: ='calc.rank'!G26 -> 0 | H32: ='calc.rank'!H26 -> 0 | I32: ='calc.rank'!I26 -> 0 | J32: ='calc.rank'!J26 -> 0 | K32: ='calc.rank'!K26 -> 0 | L32: ='calc.rank'!L26 -> 0 | ... P32: ='calc.rank'!P26 -> 0
A33: 24 | B33: ROU | D33: Romania | E33: ='calc.rank'!E27 -> 0 | F33: ='calc.rank'!F27 -> 0 | G33: ='calc.rank'!G27 -> 0 | H33: ='calc.rank'!H27 -> 1 | I33: ='calc.rank'!I27 -> 0 | J33: ='calc.rank'!J27 -> 1 | K33: ='calc.rank'!K27 -> 0 | L33: ='calc.rank'!L27 -> 0 | ... P33: ='calc.rank'!P27 -> 1
